Workbook

Sheet KNBB
A1: KNBB Venlo 2026-2027
P3: =IF(D3="","",COUNTIF(D$3:D$58,D3)) | T3: =SUM(T4:T58) -> 18
A4: C2 | B4: De Sport | C4: 126951 | D4: john Hankel | E4: 2.4 | F4: 2.4 | G4: 2.4 | H4: 65 | I4: 0 | J4: 75 | M4: Libre | P4: =IF(D4="","",COUNTIF(D$3:D$58,D4)) -> 3 | R4: =IF(COUNTIF(D$4:D4,D4)=1,D4,"") -> john Hankel | T4: =IF(R4="","",1) -> 1
C5: 130483 | D5: Frans van den Hombergh | E5: 2.312 | F5: 2.312 | G5: 2.312 | H5: 60 | I5: 0 | J5: 70 | M5: Libre | P5: =IF(D5="","",COUNTIF(D$3:D$58,D5)) -> 5 | R5: =IF(COUNTIF(D$4:D5,D5)=1,D5,"") -> Frans van den Hombergh | T5: =IF(R5="","",1) -> 1
C6: 150541 | D6: Ger van Leuven | E6: 2.212 | F6: 2.212 | G6: 2.212 | H6: 60 | I6: 0 | J6: 70 | M6: Libre | P6: =IF(D6="","",COUNTIF(D$3:D$58,D6)) -> 5 | R6: =IF(COUNTIF(D$4:D6,D6)=1,D6,"") -> Ger van Leuven | T6: =IF(R6="","",1) -> 1
C7: 387626 | D7: Bram Volleberg | E7: 2.066 | F7: 2.066 | G7: 2.066 | H7: 55 | I7: 0 | J7: 65 | M7: Libre | P7: =IF(D7="","",COUNTIF(D$3:D$58,D7)) -> 4 | R7: =IF(COUNTIF(D$4:D7,D7)=1,D7,"") -> Bram Volleberg | T7: =IF(R7="","",1) -> 1
C8: 178435 | D8: Herman Kuijpers | E8: 1.805 | F8: 1.805 | G8: 1.805 | H8: 55 | I8: 0 | J8: 65 | M8: Libre | P8: =IF(D8="","",COUNTIF(D$3:D$58,D8)) -> 3 | R8: =IF(COUNTIF(D$4:D8,D8)=1,D8,"") -> Herman Kuijpers | T8: =IF(R8="","",1) -> 1
C9: 145766 | D9: Theo Tabbers | E9: 1.782 | F9: 1.782 | G9: 1.782 | H9: 55 | I9: 0 | J9: 65 | M9: Libre | P9: =IF(D9="","",COUNTIF(D$3:D$58,D9)) -> 3 | R9: =IF(COUNTIF(D$4:D9,D9)=1,D9,"") -> Theo Tabbers | T9: =IF(R9="","",1) -> 1
C10: 275459 | D10: Sjaak Geurts | E10: 1.7 | F10: 1.7 | G10: 1.7 | H10: 55 | I10: 0 | J10: 65 | M10: Libre | P10: =IF(D10="","",COUNTIF(D$3:D$58,D10)) -> 3 | R10: =IF(COUNTIF(D$4:D10,D10)=1,D10,"") -> Sjaak Geurts | T10: =IF(R10="","",1) -> 1
C11: 383859 | D11: paul crooijmans | E11: 1.665 | F11: 1.665 | G11: 1.665 | H11: 55 | I11: 0 | J11: 65 | M11: Libre | P11: =IF(D11="","",COUNTIF(D$3:D$58,D11)) -> 2 | R11: =IF(COUNTIF(D$4:D11,D11)=1,D11,"") -> paul crooijmans | T11: =IF(R11="","",1) -> 1
C12: 275457 | D12: Frits Geenen | E12: 1.57 | F12: 1.57 | G12: 1.57 | H12: 55 | I12: 0 | J12: 65 | M12: Libre | P12: =IF(D12="","",COUNTIF(D$3:D$58,D12)) -> 3 | R12: =IF(COUNTIF(D$4:D12,D12)=1,D12,"") -> Frits Geenen | T12: =IF(R12="","",1) -> 1
C13: 178434 | D13: Henk Martens | E13: 1.253 | F13: 1.253 | G13: 1.253 | H13: 55 | I13: 0 | J13: 65 | M13: Libre | P13: =IF(D13="","",COUNTIF(D$3:D$58,D13)) -> 5 | R13: =IF(COUNTIF(D$4:D13,D13)=1,D13,"") -> Henk Martens | T13: =IF(R13="","",1) -> 1
P14: =IF(D14="","",COUNTIF(D$3:D$58,D14)) | R14: =IF(COUNTIF(D$4:D14,D14)=1,D14,"") | T14: =IF(R14="","",1)
A15: C3 | B15: De Sport | C15: 130483 | D15: Frans van den Hombergh | E15: 2.312 | F15: 2.312 | G15: 2.312 | H15: 60 | I15: 0 | J15: 70 | M15: Libre | P15: =IF(D15="","",COUNTIF(D$3:D$58,D15)) -> 5 | R15: =IF(COUNTIF(D$4:D15,D15)=1,D15,"") | T15: =IF(R15="","",1)
C16: 150541 | D16: Ger van Leuven | E16: 2.212 | F16: 2.212 | G16: 2.212 | H16: 60 | I16: 0 | J16: 70 | M16: Libre | P16: =IF(D16="","",COUNTIF(D$3:D$58,D16)) -> 5 | R16: =IF(COUNTIF(D$4:D16,D16)=1,D16,"") | T16: =IF(R16="","",1)
C17: 237191 | D17: Mart van Beek | E17: 2.193 | F17: 2.193 | G17: 2.193 | H17: 55 | I17: 0 | J17: 65 | M17: Libre | P17: =IF(D17="","",COUNTIF(D$3:D$58,D17)) -> 1 | R17: =IF(COUNTIF(D$4:D17,D17)=1,D17,"") -> Mart van Beek | T17: =IF(R17="","",1) -> 1
C18: 387626 | D18: Bram Volleberg | E18: 2.066 | F18: 2.066 | G18: 2.066 | H18: 55 | I18: 0 | J18: 65 | M18: Libre | P18: =IF(D18="","",COUNTIF(D$3:D$58,D18)) -> 4 | R18: =IF(COUNTIF(D$4:D18,D18)=1,D18,"") | T18: =IF(R18="","",1)
C19: 178435 | D19: Herman Kuijpers | E19: 1.805 | F19: 1.805 | G19: 1.805 | H19: 51 | I19: 0 | J19: 55 | M19: Libre | P19: =IF(D19="","",COUNTIF(D$3:D$58,D19)) -> 3 | R19: =IF(COUNTIF(D$4:D19,D19)=1,D19,"") | T19: =IF(R19="","",1)
C20: 145766 | D20: Theo Tabbers | E20: 1.782 | F20: 1.782 | G20: 1.782 | H20: 49 | I20: 0 | J20: 53 | M20: Libre | P20: =IF(D20="","",COUNTIF(D$3:D$58,D20)) -> 3 | R20: =IF(COUNTIF(D$4:D20,D20)=1,D20,"") | T20: =IF(R20="","",1)
C21: 383859 | D21: paul crooijmans | E21: 1.665 | F21: 1.665 | G21: 1.665 | H21: 47 | I21: 0 | J21: 51 | M21: Libre | P21: =IF(D21="","",COUNTIF(D$3:D$58,D21)) -> 2 | R21: =IF(COUNTIF(D$4:D21,D21)=1,D21,"") | T21: =IF(R21="","",1)
C22: 182235 | D22: Tony Erkens | E22: 1.5 | F22: 1.5 | G22: 1.5 | H22: 45 | I22: 0 | J22: 49 | M22: Libre | P22: =IF(D22="","",COUNTIF(D$3:D$58,D22)) -> 4 | R22: =IF(COUNTIF(D$4:D22,D22)=1,D22,"") -> Tony Erkens | T22: =IF(R22="","",1) -> 1
C23: 178434 | D23: Henk Martens | E23: 1.253 | F23: 1.253 | G23: 1.253 | H23: 39 | I23: 0 | J23: 43 | M23: Libre | P23: =IF(D23="","",COUNTIF(D$3:D$58,D23)) -> 5 | R23: =IF(COUNTIF(D$4:D23,D23)=1,D23,"") | T23: =IF(R23="","",1)
C24: 383857 | D24: Frans Litjens | E24: 0.992 | F24: 0.992 | G24: 0.992 | H24: 35 | I24: 0 | J24: 39 | M24: Libre | P24: =IF(D24="","",COUNTIF(D$3:D$58,D24)) -> 1 | R24: =IF(COUNTIF(D$4:D24,D24)=1,D24,"") -> Frans Litjens | T24: =IF(R24="","",1) -> 1
R25: =IF(COUNTIF(D$4:D25,D25)=1,D25,"") | T25: =IF(R25="","",1)
A26: B1 | B26: De Sport | C26: 20727 | D26: Miel Brueren | E26: 0.716 | F26: 0.716 | G26: 0.716 | H26: 35 | I26: 0 | J26: 37 | M26: Driebanden | P26: =IF(D26="","",COUNTIF(D$3:D$58,D26)) -> 2 | R26: =IF(COUNTIF(D$4:D26,D26)=1,D26,"") -> Miel Brueren | T26: =IF(R26="","",1) -> 1
C27: 177528 | D27: Bjorn Timmermans | E27: 0.705 | F27: 0.705 | G27: 0.705 | H27: 35 | I27: 0 | J27: 37 | M27: Driebanden | P27: =IF(D27="","",COUNTIF(D$3:D$58,D27)) -> 1 | R27: =IF(COUNTIF(D$4:D27,D27)=1,D27,"") -> Bjorn Timmermans | T27: =IF(R27="","",1) -> 1
C28: 150539 | D28: huub Graat | E28: 0.552 | F28: 0.552 | G28: 0.552 | H28: 27 | I28: 0 | J28: 29 | M28: Driebanden | P28: =IF(D28="","",COUNTIF(D$3:D$58,D28)) -> 1 | R28: =IF(COUNTIF(D$4:D28,D28)=1,D28,"") -> huub Graat | T28: =IF(R28="","",1) -> 1
C29: 275456 | D29: Ron Vermazeren | E29: 0.545 | F29: 0.545 | G29: 0.545 | H29: 27 | I29: 0 | J29: 29 | M29: Driebanden | P29: =IF(D29="","",COUNTIF(D$3:D$58,D29)) -> 3 | R29: =IF(COUNTIF(D$4:D29,D29)=1,D29,"") -> Ron Vermazeren | T29: =IF(R29="","",1) -> 1
C30: 181143 | D30: Hans Wauben | E30: 0.508 | F30: 0.508 | G30: 0.508 | H30: 25 | I30: 0 | J30: 27 | M30: Driebanden | P30: =IF(D30="","",COUNTIF(D$3:D$58,D30)) -> 1 | R30: =IF(COUNTIF(D$4:D30,D30)=1,D30,"") -> Hans Wauben | T30: =IF(R30="","",1) -> 1
C31: 126951 | D31: john Hankel | E31: 0.504 | F31: 0.504 | G31: 0.504 | H31: 25 | I31: 0 | J31: 27 | M31: Driebanden | P31: =IF(D31="","",COUNTIF(D$3:D$58,D31)) -> 3 | R31: =IF(COUNTIF(D$4:D31,D31)=1,D31,"") | T31: =IF(R31="","",1)
C32: 182235 | D32: Tony Erkens | E32: 0.455 | F32: 0.455 | G32: 0.455 | H32: 23 | I32: 0 | J32: 25 | M32: Driebanden | P32: =IF(D32="","",COUNTIF(D$3:D$58,D32)) -> 4 | R32: =IF(COUNTIF(D$4:D32,D32)=1,D32,"") | T32: =IF(R32="","",1)
C33: 150541 | D33: Ger van Leuven | E33: 0.429 | F33: 0.429 | G33: 0.429 | H33: 23 | I33: 0 | J33: 25 | M33: Driebanden | P33: =IF(D33="","",COUNTIF(D$3:D$58,D33)) -> 5 | R33: =IF(COUNTIF(D$4:D33,D33)=1,D33,"") | T33: =IF(R33="","",1)
C34: 178434 | D34: Henk Martens | E34: 0.402 | F34: 0.402 | G34: 0.402 | H34: 23 | I34: 0 | J34: 25 | M34: Driebanden | P34: =IF(D34="","",COUNTIF(D$3:D$58,D34)) -> 5 | R34: =IF(COUNTIF(D$4:D34,D34)=1,D34,"") | T34: =IF(R34="","",1)
C35: 130483 | D35: Frans van den Hombergh | E35: 0.397 | F35: 0.397 | G35: 0.397 | H35: 23 | I35: 0 | J35: 25 | M35: Driebanden | P35: =IF(D35="","",COUNTIF(D$3:D$58,D35)) -> 5 | R35: =IF(COUNTIF(D$4:D35,D35)=1,D35,"") | T35: =IF(R35="","",1)
P36: =IF(D36="","",COUNTIF(D$3:D$58,D36)) | R36: =IF(COUNTIF(D$4:D36,D36)=1,D36,"") | T36: =IF(R36="","",1)
P37: =IF(D37="","",COUNTIF(D$3:D$58,D37)) | R37: =IF(COUNTIF(D$4:D37,D37)=1,D37,"") | T37: =IF(R37="","",1)
A38: B2 | B38: De Sport 2 | C38: 275456 | D38: Ron Vermazeren | E38: 0.545 | F38: 0.545 | G38: 0.545 | H38: 27 | I38: 0 | J38: 29 | M38: Driebanden | P38: =IF(D38="","",COUNTIF(D$3:D$58,D38)) -> 3 | R38: =IF(COUNTIF(D$4:D38,D38)=1,D38,"") | T38: =IF(R38="","",1)
C39: 126951 | D39: john Hankel | E39: 0.504 | F39: 0.504 | G39: 0.504 | H39: 25 | I39: 0 | J39: 27 | M39: Driebanden | P39: =IF(D39="","",COUNTIF(D$3:D$58,D39)) -> 3 | R39: =IF(COUNTIF(D$4:D39,D39)=1,D39,"") | T39: =IF(R39="","",1)
C40: 182235 | D40: Tony Erkens | E40: 0.455 | F40: 0.455 | G40: 0.455 | H40: 23 | I40: 0 | J40: 25 | M40: Driebanden | P40: =IF(D40="","",COUNTIF(D$3:D$58,D40)) -> 4 | R40: =IF(COUNTIF(D$4:D40,D40)=1,D40,"") | T40: =IF(R40="","",1)
C41: 150541 | D41: Ger van Leuven | E41: 0.429 | F41: 0.429 | G41: 0.429 | H41: 22 | I41: 0 | J41: 23 | M41: Driebanden | P41: =IF(D41="","",COUNTIF(D$3:D$58,D41)) -> 5 | R41: =IF(COUNTIF(D$4:D41,D41)=1,D41,"") | T41: =IF(R41="","",1)
...

Sheet VBBeo
A1: VBBeo 2026-2027
A2: Spelers | C2: kopiëren vanaf groene cellen inschrijvingsformulieren (met PsW)
A3: 233
C4: tussen- | E4: Libre | G4: Driebanden
A5: afk | B5: achternaam | C5: voegsel | D5: roepnaam | E5: gem | F5: N | G5: gem | H5: N
A6: pum | B6: Aken | C6: v. | D6: Ben | E6: 2.24
A7: pum | B7: Bloemen | C7: v.d. | D7: Sjraar | E7: 0.98
A8: pum | B8: Bouten | D8: Fred | E8: 0.74
A9: pum | B9: Frencken | D9: Toon | E9: 2.39
A10: pum | B10: Jacobs | D10: Daniël | E10: 1.82
A11: pum | B11: Kazenbroot | D11: Wout | E11: 1.3 | F11: N
A12: pum | B12: Kessels | D12: Ben | E12: 1.24
A13: pum | B13: Klij | D13: Ton | E13: 2.07 | F13: N
A14: pum | B14: Steegh | D14: Maikel | E14: 1.15
A15: pum | B15: Zwiggelaar | D15: Karel | E15: 1.6
A16: vel | B16: Bol | D16: Mark | E16: 1.12
A17: vel | B17: Bouten | D17: Rob | E17: 1.62
A18: vel | B18: Brueren | D18: Leo | E18: 1.02
A19: vel | B19: Crooijmans | D19: Paul | E19: 1.64 | F19: N
A20: vel | B20: Eikelenberg | D20: Hans | E20: 2.17
A21: vel | B21: Heesch | C21: v. | D21: Rob | E21: 2.5
A22: vel | B22: Kuijpers | D22: Theo | E22: 0.85
A23: vel | B23: Litjens | D23: Frans | E23: 1.11 | F23: N
A24: vel | B24: Lucassen | D24: Lambert | E24: 0.87
A25: vel | B25: Mooy | D25: Cees | E25: 1.19
A26: vel | B26: Paulus | D26: Albert | E26: 2.93
A27: vel | B27: Peters | D27: Henk | E27: 0.99
A28: vel | B28: Steegh | D28: Frank | E28: 0.5 | F28: N
A29: vel | B29: Teunissen | D29: Jéro | E29: 1.99 | F29: N
A30: vel | B30: Thiesen | D30: Erik | E30: 1.57
A31: vel | B31: Venne | C31: v.d. | D31: Ron | E31: 1.15
A32: vel | B32: Zandt | C32: in 't | D32: Dion | E32: 2.49
A33: ven | B33: Cleef | C33: v. | D33: André | E33: 1.61
A34: ven | B34: Cleef | C34: v. | D34: Daniël | E34: 1.87
A35: ven | B35: Cleef | C35: v. | D35: Jan | E35: 1.36
A36: ven | B36: Driessen | D36: Berend | E36: 1.55 | F36: N
A37: ven | B37: Frits | D37: Jules | E37: 1.98 | F37: N
A38: ven | B38: Jacobs | D38: John | E38: 1.69
A39: ven | B39: Verleysdonk | D39: Angela | E39: 1.37
A40: wit | B40: Driessen | D40: Ron | E40: 0.93 | F40: N
...

Sheet TT-spelers 2025-2026
A1: Verzamelde gegevens 2018 t/m 2026 | S1: !!!!!!!!!!!!!!!!!!!!!!!!!!!!!!!!!!!!! | T1: !!!!!!!!!! | U1: !!!!!!!!!! | W1: !!!!!!!!!! | AF1: 4 | AG1: 7 | AH1: 10 | AI1: 13 | AJ1: 3 | AK1: 6 | AL1: 9 | AM1: 12 | BH1: 30 | BI1: 30 | BJ1: 50 | BK1: 17 | CC1: 2 | CD1: 6 | CE1: =CC1+1 -> 3 | CF1: =CD1+1 -> 7 | CG1: =CE1+1 -> 4 | CH1: =CF1+1 -> 8 | CI1: =CG1+1 -> 5 | CJ1: =CH1+1 -> 9
S2: Hotel Café de Sport teamtoernooi 2025-2026 | AD2: gemiddelden ophalen | AF2: aantal | AQ2: externe gemiddelden | AU2: afgeleide gemiddelden | AY2: te spelen gemiddelden | BC2: teamindelingen | BH2: te maken caramboles | BM2: sorteren | BR2: spelerslijst 2026-2027 | CB2: verzamelde gegevens van de spelerslijst 2026-2027
A3: sorteren: P | C3: 9001 - 9999: afgemeld | E3: max | AD3: uit verzamelde gegevens | AF3: gespeelde | AJ3: gespeelde | AU3: uit externe gemiddelden | BH3: uit te spelen gemiddelden | BM3: code = 100*s.nr + T
A4: dubbel: rood | C4: 8001 - 9000: beschikbaar | E4: 1 | F4: 2 | I4: 2 | L4: 3 | O4: 2 | S4: Spelerslijst | AF4: TT-partijen | AJ4: TT-gemiddelden | AQ4: VBBeo | AR4: KNBB | AS4: KNBB | BM4: =COUNT(BH6:BH105) -> 59 | CD4: Libre | CF4: Band | CH4: Drieb | CJ4: Rood
A5: nr | B5: leider | C5: prt | E5: dubbel | F5: Lgem | G5: Lprt | I5: Bgem | J5: Bprt | L5: Dgem | M5: Dprt | O5: Rgem | P5: Rprt | S5: team / reserve | T5: t.nr | U5: s.nr | X5: Libre | Y5: Band | Z5: Drieb | AA5: Rood | AD5: # | AF5: Lprt | AG5: Bprt | AH5: Dprt | AI5: Rprt | AJ5: Lgem | AK5: Bgem | AL5: Dgem | AM5: Rgem | AO5: <4 | AQ5: Lgem | AR5: Lgem | AS5: Dgem | AU5: Lgem | AV5: Bgem | AW5: Dgem | AY5: Lgem | AZ5: Bgem | BA5: Dgem | BC5: team/reserve | BD5: t.nr | BE5: s.nr | BF5: naam | BH5: Libre | BI5: Band | BJ5: Drieb | BK5: Rood | BL5: T | BM5: code | BN5: <code | BO5: s.nr | BP5: T | BW5: Libre | BX5: Band | BY5: Drieb | BZ5: Rood | CC5: prt | CD5: gem | CE5: prt | CF5: gem | CG5: prt | CH5: gem | CI5: prt | CJ5: gem
A6: 1101 | C6: 41 | D6: Hans Eikelenberg | E6: 1 | F6: 2.18 | G6: 10 | I6: 1.39 | J6: 11 | L6: 0.397 | M6: 14 | O6: 1.16 | P6: 6 | S6: 't Pumpke 1 | T6: 11 | U6: 111 | V6: Ben v. Aken | W6: L | X6: 67 | Y6: 37 | Z6: 18 | AA6: 38 | AD6: =IF(V6="","",COUNTIF(D$6:D$105,V6)) -> 1 | AE6: =IF(V6="","",V6) -> Ben v. Aken | AF6: =IF($AD6=1,VLOOKUP($AE6,$D$6:$P$105,AF$1,FALSE),0) -> 3 | AG6: =IF($AD6=1,VLOOKUP($AE6,$D$6:$P$105,AG$1,FALSE),0) -> 3 | AH6: =IF($AD6=1,VLOOKUP($AE6,$D$6:$P$105,AH$1,FALSE),0) -> 2 | AI6: =IF($AD6=1,VLOOKUP($AE6,$D$6:$P$105,AI$1,FALSE),0) -> 1 | AJ6: =IF(AF6=0,"",VLOOKUP($AE6,$D$6:$P105,AJ$1,FALSE)) -> 2.52 | AK6: =IF(AG6=0,"",VLOOKUP($AE6,$D$6:$P105,AK$1,FALSE)) -> 1 | AL6: =IF(AH6=0,"",VLOOKUP($AE6,$D$6:$P105,AL$1,FALSE)) -> 0.387 | AM6: =IF(AI6=0,"",VLOOKUP($AE6,$D$6:$P105,AM$1,FALSE)) -> 0.85 | AO6: =IF(AE6="","",IF(COUNT(AJ6:AM6)=4,"",IF(COUNT(AQ6:AS6)>0,"","x"))) | AU6: =IF(COUNT(AQ6:AR6)>0,SUM(AQ6:AR6),IF(AS6="","",ROUND((50*AS6-5)/6,2))) | AV6: =IF(AU6="","",ROUND((12*AU6+10)/30,2)) | AW6: =IF(AU6="","",ROUND((6*AU6+5)/50,3)) | AY6: =IF(AJ6="",AU6,AJ6) -> 2.52 | AZ6: =IF(AK6="",AV6,AK6) -> 1 | BA6: =IF(AL6="",AW6,AL6) -> 0.387 | BC6: 't Pumpke 1 | BD6: 11 | BE6: 111 | BF6: Ben v. Aken | BG6: L | BH6: =IF(AY6="","",ROUND(BH$1*AY6,0)) -> 76 | BI6: =IF(AZ6="","",ROUND(BI$1*AZ6,0)) -> 30 | BJ6: =IF(BA6="","",ROUND(BJ$1*BA6,0)) -> 19 | BK6: =IF(AY6="","",ROUND(BK$1*AY6,0)) -> 43 | BL6: 1 | BM6: =IF(BL6>BM$4,"",100*BE6+BL6) -> 11101 | BN6: =IF(BM6="","",SMALL(BM$6:BM$105,BL6)) -> 11101 | BO6: =IF(BN6="","",INT(BN6/100)) -> 111 | BP6: =IF(BN6="","",BN6-100*BO6) -> 1 | BR6: {=IF($BP6="","",IF(INDEX(BC$6:BC$105,$BP6,1)="","",INDEX(BC$6:BC$105,$BP6,1)))} -> 't Pumpke 1 | BS6: {=IF($BP6="","",IF(INDEX(BD$6:BD$105,$BP6,1)="","",INDEX(BD$6:BD$105,$BP6,1)))} -> 11 | BT6: {=IF($BP6="","",IF(INDEX(BE$6:BE$105,$BP6,1)="","",INDEX(BE$6:BE$105,$BP6,1)))} -> 111 | BU6: {=IF($BP6="","",IF(INDEX(BF$6:BF$105,$BP6,1)="","",INDEX(BF$6:BF$105,$BP6,1)))} -> Ben v. Aken | BV6: {=IF($BP6="","",IF(INDEX(BG$6:BG$105,$BP6,1)="","",INDEX(BG$6:BG$105,$BP6,1)))} -> L | BW6: {=IF($BP6="","",IF(INDEX(BH$6:BH$105,$BP6,1)="","",INDEX(BH$6:BH$105,$BP6,1)))} -> 76 | BX6: {=IF($BP6="","",IF(INDEX(BI$6:BI$105,$BP6,1)="","",INDEX(BI$6:BI$105,$BP6,1)))} -> 30 | BY6: {=IF($BP6="","",IF(INDEX(BJ$6:BJ$105,$BP6,1)="","",INDEX(BJ$6:BJ$105,$BP6,1)))} -> 19 | BZ6: {=IF($BP6="","",IF(INDEX(BK$6:BK$105,$BP6,1)="","",INDEX(BK$6:BK$105,$BP6,1)))} -> 43 | CB6: =IF(BU6="","",BU6) -> Ben v. Aken | CC6: =IF($CB6="","",VLOOKUP($CB6,$AE$6:$AM$105,CC$1,FALSE)) -> 3 | CD6: =IF($CB6="","",VLOOKUP($CB6,$AE$6:$AM$105,CD$1,FALSE)) -> 2.52 | CE6: =IF($CB6="","",VLOOKUP($CB6,$AE$6:$AM$105,CE$1,FALSE)) -> 3 | CF6: =IF($CB6="","",VLOOKUP($CB6,$AE$6:$AM$105,CF$1,FALSE)) -> 1 | CG6: =IF($CB6="","",VLOOKUP($CB6,$AE$6:$AM$105,CG$1,FALSE)) -> 2 | CH6: =IF($CB6="","",VLOOKUP($CB6,$AE$6:$AM$105,CH$1,FALSE)) -> 0.387 | CI6: =IF($CB6="","",VLOOKUP($CB6,$AE$6:$AM$105,CI$1,FALSE)) -> 1 | CJ6: =IF($CB6="","",VLOOKUP($CB6,$AE$6:$AM$105,CJ$1,FALSE)) -> 0.85
A7: 1102 | B7: L | C7: 42 | D7: Albert Paulus | E7: 1 | F7: 2.42 | G7: 9 | I7: 1.73 | J7: 12 | L7: 0.536 | M7: 16 | O7: 1.29 | P7: 5 | U7: 112 | V7: Toon Frencken | X7: 64 | Y7: 35 | Z7: 18 | AA7: 36 | AD7: =IF(V7="","",COUNTIF(D$6:D$105,V7)) -> 1 | AE7: =IF(V7="","",V7) -> Toon Frencken | AF7: =IF($AD7=1,VLOOKUP($AE7,$D$6:$P$105,AF$1,FALSE),0) -> 2 | AG7: =IF($AD7=1,VLOOKUP($AE7,$D$6:$P$105,AG$1,FALSE),0) -> 2 | AH7: =IF($AD7=1,VLOOKUP($AE7,$D$6:$P$105,AH$1,FALSE),0) -> 3 | AI7: =IF($AD7=1,VLOOKUP($AE7,$D$6:$P$105,AI$1,FALSE),0) -> 2 | AJ7: =IF(AF7=0,"",VLOOKUP($AE7,$D$6:$P106,AJ$1,FALSE)) -> 3.05 | AK7: =IF(AG7=0,"",VLOOKUP($AE7,$D$6:$P106,AK$1,FALSE)) -> 1.19 | AL7: =IF(AH7=0,"",VLOOKUP($AE7,$D$6:$P106,AL$1,FALSE)) -> 0.345 | AM7: =IF(AI7=0,"",VLOOKUP($AE7,$D$6:$P106,AM$1,FALSE)) -> 1.19 | AO7: =IF(AE7="","",IF(COUNT(AJ7:AM7)=4,"",IF(COUNT(AQ7:AS7)>0,"","x"))) | AU7: =IF(COUNT(AQ7:AR7)>0,SUM(AQ7:AR7),IF(AS7="","",ROUND((50*AS7-5)/6,2))) | AV7: =IF(AU7="","",ROUND((12*AU7+10)/30,2)) | AW7: =IF(AU7="","",ROUND((6*AU7+5)/50,3)) | AY7: =IF(AJ7="",AU7,AJ7) -> 3.05 | AZ7: =IF(AK7="",AV7,AK7) -> 1.19 | BA7: =IF(AL7="",AW7,AL7) -> 0.345 | BE7: 112 | BF7: Toon Frencken | BH7: =IF(AY7="","",ROUND(BH$1*AY7,0)) -> 92 | BI7: =IF(AZ7="","",ROUND(BI$1*AZ7,0)) -> 36 | BJ7: =IF(BA7="","",ROUND(BJ$1*BA7,0)) -> 17 | BK7: =IF(AY7="","",ROUND(BK$1*AY7,0)) -> 52 | BL7: 2 | BM7: =IF(BL7>BM$4,"",100*BE7+BL7) -> 11202 | BN7: =IF(BM7="","",SMALL(BM$6:BM$105,BL7)) -> 11202 | BO7: =IF(BN7="","",INT(BN7/100)) -> 112 | BP7: =IF(BN7="","",BN7-100*BO7) -> 2 | BR7: {=IF($BP7="","",IF(INDEX(BC$6:BC$105,$BP7,1)="","",INDEX(BC$6:BC$105,$BP7,1)))} | BS7: {=IF($BP7="","",IF(INDEX(BD$6:BD$105,$BP7,1)="","",INDEX(BD$6:BD$105,$BP7,1)))} | BT7: {=IF($BP7="","",IF(INDEX(BE$6:BE$105,$BP7,1)="","",INDEX(BE$6:BE$105,$BP7,1)))} -> 112 | BU7: {=IF($BP7="","",IF(INDEX(BF$6:BF$105,$BP7,1)="","",INDEX(BF$6:BF$105,$BP7,1)))} -> Toon Frencken | BV7: {=IF($BP7="","",IF(INDEX(BG$6:BG$105,$BP7,1)="","",INDEX(BG$6:BG$105,$BP7,1)))} | BW7: {=IF($BP7="","",IF(INDEX(BH$6:BH$105,$BP7,1)="","",INDEX(BH$6:BH$105,$BP7,1)))} -> 92 | BX7: {=IF($BP7="","",IF(INDEX(BI$6:BI$105,$BP7,1)="","",INDEX(BI$6:BI$105,$BP7,1)))} -> 36 | BY7: {=IF($BP7="","",IF(INDEX(BJ$6:BJ$105,$BP7,1)="","",INDEX(BJ$6:BJ$105,$BP7,1)))} -> 17 | BZ7: {=IF($BP7="","",IF(INDEX(BK$6:BK$105,$BP7,1)="","",INDEX(BK$6:BK$105,$BP7,1)))} -> 52 | CB7: =IF(BU7="","",BU7) -> Toon Frencken | CC7: =IF($CB7="","",VLOOKUP($CB7,$AE$6:$AM$105,CC$1,FALSE)) -> 2 | CD7: =IF($CB7="","",VLOOKUP($CB7,$AE$6:$AM$105,CD$1,FALSE)) -> 3.05 | CE7: =IF($CB7="","",VLOOKUP($CB7,$AE$6:$AM$105,CE$1,FALSE)) -> 2 | CF7: =IF($CB7="","",VLOOKUP($CB7,$AE$6:$AM$105,CF$1,FALSE)) -> 1.19 | CG7: =IF($CB7="","",VLOOKUP($CB7,$AE$6:$AM$105,CG$1,FALSE)) -> 3 | CH7: =IF($CB7="","",VLOOKUP($CB7,$AE$6:$AM$105,CH$1,FALSE)) -> 0.345 | CI7: =IF($CB7="","",VLOOKUP($CB7,$AE$6:$AM$105,CI$1,FALSE)) -> 2 | CJ7: =IF($CB7="","",VLOOKUP($CB7,$AE$6:$AM$105,CJ$1,FALSE)) -> 1.19
A8: 1104 | C8: 28 | D8: Henk Peters | E8: 1 | F8: 0.98 | G8: 13 | I8: 0.56 | J8: 6 | L8: 0.145 | M8: 3 | O8: 0.71 | P8: 6 | U8: 113 | V8: Daniël Jacobs | X8: 53 | Y8: 31 | Z8: 16 | AA8: 30 | AD8: =IF(V8="","",COUNTIF(D$6:D$105,V8)) -> 1 | AE8: =IF(V8="","",V8) -> Daniël Jacobs | AF8: =IF($AD8=1,VLOOKUP($AE8,$D$6:$P$105,AF$1,FALSE),0) -> 2 | AG8: =IF($AD8=1,VLOOKUP($AE8,$D$6:$P$105,AG$1,FALSE),0) -> 2 | AH8: =IF($AD8=1,VLOOKUP($AE8,$D$6:$P$105,AH$1,FALSE),0) -> 2 | AI8: =IF($AD8=1,VLOOKUP($AE8,$D$6:$P$105,AI$1,FALSE),0) -> 1 | AJ8: =IF(AF8=0,"",VLOOKUP($AE8,$D$6:$P107,AJ$1,FALSE)) -> 1.86 | AK8: =IF(AG8=0,"",VLOOKUP($AE8,$D$6:$P107,AK$1,FALSE)) -> 1.15 | AL8: =IF(AH8=0,"",VLOOKUP($AE8,$D$6:$P107,AL$1,FALSE)) -> 0.261 | AM8: =IF(AI8=0,"",VLOOKUP($AE8,$D$6:$P107,AM$1,FALSE)) -> 1.67 | AO8: =IF(AE8="","",IF(COUNT(AJ8:AM8)=4,"",IF(COUNT(AQ8:AS8)>0,"","x"))) | AU8: =IF(COUNT(AQ8:AR8)>0,SUM(AQ8:AR8),IF(AS8="","",ROUND((50*AS8-5)/6,2))) | AV8: =IF(AU8="","",ROUND((12*AU8+10)/30,2)) | AW8: =IF(AU8="","",ROUND((6*AU8+5)/50,3)) | AY8: =IF(AJ8="",AU8,AJ8) -> 1.86 | AZ8: =IF(AK8="",AV8,AK8) -> 1.15 | BA8: =IF(AL8="",AW8,AL8) -> 0.261 | BE8: 113 | BF8: Daniël Jacobs | BH8: =IF(AY8="","",ROUND(BH$1*AY8,0)) -> 56 | BI8: =IF(AZ8="","",ROUND(BI$1*AZ8,0)) -> 35 | BJ8: =IF(BA8="","",ROUND(BJ$1*BA8,0)) -> 13 | BK8: =IF(AY8="","",ROUND(BK$1*AY8,0)) -> 32 | BL8: 3 | BM8: =IF(BL8>BM$4,"",100*BE8+BL8) -> 11303 | BN8: =IF(BM8="","",SMALL(BM$6:BM$105,BL8)) -> 11303 | BO8: =IF(BN8="","",INT(BN8/100)) -> 113 | BP8: =IF(BN8="","",BN8-100*BO8) -> 3 | BR8: {=IF($BP8="","",IF(INDEX(BC$6:BC$105,$BP8,1)="","",INDEX(BC$6:BC$105,$BP8,1)))} | BS8: {=IF($BP8="","",IF(INDEX(BD$6:BD$105,$BP8,1)="","",INDEX(BD$6:BD$105,$BP8,1)))} | BT8: {=IF($BP8="","",IF(INDEX(BE$6:BE$105,$BP8,1)="","",INDEX(BE$6:BE$105,$BP8,1)))} -> 113 | BU8: {=IF($BP8="","",IF(INDEX(BF$6:BF$105,$BP8,1)="","",INDEX(BF$6:BF$105,$BP8,1)))} -> Daniël Jacobs | BV8: {=IF($BP8="","",IF(INDEX(BG$6:BG$105,$BP8,1)="","",INDEX(BG$6:BG$105,$BP8,1)))} | BW8: {=IF($BP8="","",IF(INDEX(BH$6:BH$105,$BP8,1)="","",INDEX(BH$6:BH$105,$BP8,1)))} -> 56 | BX8: {=IF($BP8="","",IF(INDEX(BI$6:BI$105,$BP8,1)="","",INDEX(BI$6:BI$105,$BP8,1)))} -> 35 | BY8: {=IF($BP8="","",IF(INDEX(BJ$6:BJ$105,$BP8,1)="","",INDEX(BJ$6:BJ$105,$BP8,1)))} -> 13 | BZ8: {=IF($BP8="","",IF(INDEX(BK$6:BK$105,$BP8,1)="","",INDEX(BK$6:BK$105,$BP8,1)))} -> 32 | CB8: =IF(BU8="","",BU8) -> Daniël Jacobs | CC8: =IF($CB8="","",VLOOKUP($CB8,$AE$6:$AM$105,CC$1,FALSE)) -> 2 | CD8: =IF($CB8="","",VLOOKUP($CB8,$AE$6:$AM$105,CD$1,FALSE)) -> 1.86 | CE8: =IF($CB8="","",VLOOKUP($CB8,$AE$6:$AM$105,CE$1,FALSE)) -> 2 | CF8: =IF($CB8="","",VLOOKUP($CB8,$AE$6:$AM$105,CF$1,FALSE)) -> 1.15 | CG8: =IF($CB8="","",VLOOKUP($CB8,$AE$6:$AM$105,CG$1,FALSE)) -> 2 | CH8: =IF($CB8="","",VLOOKUP($CB8,$AE$6:$AM$105,CH$1,FALSE)) -> 0.261 | CI8: =IF($CB8="","",VLOOKUP($CB8,$AE$6:$AM$105,CI$1,FALSE)) -> 1 | CJ8: =IF($CB8="","",VLOOKUP($CB8,$AE$6:$AM$105,CJ$1,FALSE)) -> 1.67
A9: 1201 | C9: 31 | D9: Rob Bouten | E9: 1 | F9: 1.41 | G9: 8 | I9: 0.97 | J9: 8 | L9: 0.366 | M9: 11 | O9: 1.05 | P9: 4 | U9: 114 | V9: Maikel Steegh | X9: 34 | Y9: 24 | Z9: 12 | AA9: 19 | AD9: =IF(V9="","",COUNTIF(D$6:D$105,V9)) -> 1 | AE9: =IF(V9="","",V9) -> Maikel Steegh | AF9: =IF($AD9=1,VLOOKUP($AE9,$D$6:$P$105,AF$1,FALSE),0) -> 1 | AG9: =IF($AD9=1,VLOOKUP($AE9,$D$6:$P$105,AG$1,FALSE),0) -> 1 | AH9: =IF($AD9=1,VLOOKUP($AE9,$D$6:$P$105,AH$1,FALSE),0) -> 1 | AI9: =IF($AD9=1,VLOOKUP($AE9,$D$6:$P$105,AI$1,FALSE),0) -> 4 | AJ9: =IF(AF9=0,"",VLOOKUP($AE9,$D$6:$P108,AJ$1,FALSE)) -> 1.17 | AK9: =IF(AG9=0,"",VLOOKUP($AE9,$D$6:$P108,AK$1,FALSE)) -> 0.92 | AL9: =IF(AH9=0,"",VLOOKUP($AE9,$D$6:$P108,AL$1,FALSE)) -> 0.19 | AM9: =IF(AI9=0,"",VLOOKUP($AE9,$D$6:$P108,AM$1,FALSE)) -> 0.71 | AO9: =IF(AE9="","",IF(COUNT(AJ9:AM9)=4,"",IF(COUNT(AQ9:AS9)>0,"","x"))) | AU9: =IF(COUNT(AQ9:AR9)>0,SUM(AQ9:AR9),IF(AS9="","",ROUND((50*AS9-5)/6,2))) | AV9: =IF(AU9="","",ROUND((12*AU9+10)/30,2)) | AW9: =IF(AU9="","",ROUND((6*AU9+5)/50,3)) | AY9: =IF(AJ9="",AU9,AJ9) -> 1.17 | AZ9: =IF(AK9="",AV9,AK9) -> 0.92 | BA9: =IF(AL9="",AW9,AL9) -> 0.19 | BE9: 114 | BF9: Maikel Steegh | BH9: =IF(AY9="","",ROUND(BH$1*AY9,0)) -> 35 | BI9: =IF(AZ9="","",ROUND(BI$1*AZ9,0)) -> 28 | BJ9: =IF(BA9="","",ROUND(BJ$1*BA9,0)) -> 10 | BK9: =IF(AY9="","",ROUND(BK$1*AY9,0)) -> 20 | BL9: 4 | BM9: =IF(BL9>BM$4,"",100*BE9+BL9) -> 11404 | BN9: =IF(BM9="","",SMALL(BM$6:BM$105,BL9)) -> 11404 | BO9: =IF(BN9="","",INT(BN9/100)) -> 114 | BP9: =IF(BN9="","",BN9-100*BO9) -> 4 | BR9: {=IF($BP9="","",IF(INDEX(BC$6:BC$105,$BP9,1)="","",INDEX(BC$6:BC$105,$BP9,1)))} | BS9: {=IF($BP9="","",IF(INDEX(BD$6:BD$105,$BP9,1)="","",INDEX(BD$6:BD$105,$BP9,1)))} | BT9: {=IF($BP9="","",IF(INDEX(BE$6:BE$105,$BP9,1)="","",INDEX(BE$6:BE$105,$BP9,1)))} -> 114 | BU9: {=IF($BP9="","",IF(INDEX(BF$6:BF$105,$BP9,1)="","",INDEX(BF$6:BF$105,$BP9,1)))} -> Maikel Steegh | BV9: {=IF($BP9="","",IF(INDEX(BG$6:BG$105,$BP9,1)="","",INDEX(BG$6:BG$105,$BP9,1)))} | BW9: {=IF($BP9="","",IF(INDEX(BH$6:BH$105,$BP9,1)="","",INDEX(BH$6:BH$105,$BP9,1)))} -> 35 | BX9: {=IF($BP9="","",IF(INDEX(BI$6:BI$105,$BP9,1)="","",INDEX(BI$6:BI$105,$BP9,1)))} -> 28 | BY9: {=IF($BP9="","",IF(INDEX(BJ$6:BJ$105,$BP9,1)="","",INDEX(BJ$6:BJ$105,$BP9,1)))} -> 10 | BZ9: {=IF($BP9="","",IF(INDEX(BK$6:BK$105,$BP9,1)="","",INDEX(BK$6:BK$105,$BP9,1)))} -> 20 | CB9: =IF(BU9="","",BU9) -> Maikel Steegh | CC9: =IF($CB9="","",VLOOKUP($CB9,$AE$6:$AM$105,CC$1,FALSE)) -> 1 | CD9: =IF($CB9="","",VLOOKUP($CB9,$AE$6:$AM$105,CD$1,FALSE)) -> 1.17 | CE9: =IF($CB9="","",VLOOKUP($CB9,$AE$6:$AM$105,CE$1,FALSE)) -> 1 | CF9: =IF($CB9="","",VLOOKUP($CB9,$AE$6:$AM$105,CF$1,FALSE)) -> 0.92 | CG9: =IF($CB9="","",VLOOKUP($CB9,$AE$6:$AM$105,CG$1,FALSE)) -> 1 | CH9: =IF($CB9="","",VLOOKUP($CB9,$AE$6:$AM$105,CH$1,FALSE)) -> 0.19 | CI9: =IF($CB9="","",VLOOKUP($CB9,$AE$6:$AM$105,CI$1,FALSE)) -> 4 | CJ9: =IF($CB9="","",VLOOKUP($CB9,$AE$6:$AM$105,CJ$1,FALSE)) -> 0.71
A10: 1202 | C10: 38 | D10: Erik Thiesen | E10: 1 | F10: 1.38 | G10: 7 | I10: 0.96 | J10: 15 | L10: 0.284 | M10: 10 | O10: 0.83 | P10: 6 | S10: De Sport 1 | T10: 21 | U10: 211 | V10: Tony Erkens | X10: 35 | Y10: 23 | Z10: 21 | AA10: 20 | AD10: =IF(V10="","",COUNTIF(D$6:D$105,V10)) -> 1 | AE10: =IF(V10="","",V10) -> Tony Erkens | AF10: =IF($AD10=1,VLOOKUP($AE10,$D$6:$P$105,AF$1,FALSE),0) -> 10 | AG10: =IF($AD10=1,VLOOKUP($AE10,$D$6:$P$105,AG$1,FALSE),0) -> 15 | AH10: =IF($AD10=1,VLOOKUP($AE10,$D$6:$P$105,AH$1,FALSE),0) -> 14 | AI10: =IF($AD10=1,VLOOKUP($AE10,$D$6:$P$105,AI$1,FALSE),0) -> 1 | AJ10: =IF(AF10=0,"",VLOOKUP($AE10,$D$6:$P109,AJ$1,FALSE)) -> 1.18 | AK10: =IF(AG10=0,"",VLOOKUP($AE10,$D$6:$P109,AK$1,FALSE)) -> 0.84 | AL10: =IF(AH10=0,"",VLOOKUP($AE10,$D$6:$P109,AL$1,FALSE)) -> 0.416 | AM10: =IF(AI10=0,"",VLOOKUP($AE10,$D$6:$P109,AM$1,FALSE)) -> 0.77 | AO10: =IF(AE10="","",IF(COUNT(AJ10:AM10)=4,"",IF(COUNT(AQ10:AS10)>0,"","x"))) | AU10: =IF(COUNT(AQ10:AR10)>0,SUM(AQ10:AR10),IF(AS10="","",ROUND((50*AS10-5)/6,2))) | AV10: =IF(AU10="","",ROUND((12*AU10+10)/30,2)) | AW10: =IF(AU10="","",ROUND((6*AU10+5)/50,3)) | AY10: =IF(AJ10="",AU10,AJ10) -> 1.18 | AZ10: =IF(AK10="",AV10,AK10) -> 0.84 | BA10: =IF(AL10="",AW10,AL10) -> 0.416 | BC10: De Sport 1 | BD10: 21 | BE10: 211 | BF10: Tony Erkens | BH10: =IF(AY10="","",ROUND(BH$1*AY10,0)) -> 35 | BI10: =IF(AZ10="","",ROUND(BI$1*AZ10,0)) -> 25 | BJ10: =IF(BA10="","",ROUND(BJ$1*BA10,0)) -> 21 | BK10: =IF(AY10="","",ROUND(BK$1*AY10,0)) -> 20 | BL10: 5 | BM10: =IF(BL10>BM$4,"",100*BE10+BL10) -> 21105 | BN10: =IF(BM10="","",SMALL(BM$6:BM$105,BL10)) -> 21105 | BO10: =IF(BN10="","",INT(BN10/100)) -> 211 | BP10: =IF(BN10="","",BN10-100*BO10) -> 5 | BR10: {=IF($BP10="","",IF(INDEX(BC$6:BC$105,$BP10,1)="","",INDEX(BC$6:BC$105,$BP10,1)))} -> De Sport 1 | BS10: {=IF($BP10="","",IF(INDEX(BD$6:BD$105,$BP10,1)="","",INDEX(BD$6:BD$105,$BP10,1)))} -> 21 | BT10: {=IF($BP10="","",IF(INDEX(BE$6:BE$105,$BP10,1)="","",INDEX(BE$6:BE$105,$BP10,1)))} -> 211 | BU10: {=IF($BP10="","",IF(INDEX(BF$6:BF$105,$BP10,1)="","",INDEX(BF$6:BF$105,$BP10,1)))} -> Tony Erkens | BV10: {=IF($BP10="","",IF(INDEX(BG$6:BG$105,$BP10,1)="","",INDEX(BG$6:BG$105,$BP10,1)))} | BW10: {=IF($BP10="","",IF(INDEX(BH$6:BH$105,$BP10,1)="","",INDEX(BH$6:BH$105,$BP10,1)))} -> 35 | BX10: {=IF($BP10="","",IF(INDEX(BI$6:BI$105,$BP10,1)="","",INDEX(BI$6:BI$105,$BP10,1)))} -> 25 | BY10: {=IF($BP10="","",IF(INDEX(BJ$6:BJ$105,$BP10,1)="","",INDEX(BJ$6:BJ$105,$BP10,1)))} -> 21 | BZ10: {=IF($BP10="","",IF(INDEX(BK$6:BK$105,$BP10,1)="","",INDEX(BK$6:BK$105,$BP10,1)))} -> 20 | CB10: =IF(BU10="","",BU10) -> Tony Erkens | CC10: =IF($CB10="","",VLOOKUP($CB10,$AE$6:$AM$105,CC$1,FALSE)) -> 10 | CD10: =IF($CB10="","",VLOOKUP($CB10,$AE$6:$AM$105,CD$1,FALSE)) -> 1.18 | CE10: =IF($CB10="","",VLOOKUP($CB10,$AE$6:$AM$105,CE$1,FALSE)) -> 15 | CF10: =IF($CB10="","",VLOOKUP($CB10,$AE$6:$AM$105,CF$1,FALSE)) -> 0.84 | CG10: =IF($CB10="","",VLOOKUP($CB10,$AE$6:$AM$105,CG$1,FALSE)) -> 14 | CH10: =IF($CB10="","",VLOOKUP($CB10,$AE$6:$AM$105,CH$1,FALSE)) -> 0.416 | CI10: =IF($CB10="","",VLOOKUP($CB10,$AE$6:$AM$105,CI$1,FALSE)) -> 1 | CJ10: =IF($CB10="","",VLOOKUP($CB10,$AE$6:$AM$105,CJ$1,FALSE)) -> 0.77
A11: 1203 | C11: 29 | D11: Ron v.d. Venne | E11: 1 | F11: 1.24 | G11: 13 | I11: 0.66 | J11: 8 | L11: 0.215 | M11: 6 | O11: 0.61 | P11: 2 | U11: 212 | V11: John Hankel | X11: 68 | Y11: 39 | Z11: 32 | AA11: 38 | AD11: =IF(V11="","",COUNTIF(D$6:D$105,V11)) -> 1 | AE11: =IF(V11="","",V11) -> John Hankel | AF11: =IF($AD11=1,VLOOKUP($AE11,$D$6:$P$105,AF$1,FALSE),0) -> 15 | AG11: =IF($AD11=1,VLOOKUP($AE11,$D$6:$P$105,AG$1,FALSE),0) -> 9 | AH11: =IF($AD11=1,VLOOKUP($AE11,$D$6:$P$105,AH$1,FALSE),0) -> 8 | AI11: =IF($AD11=1,VLOOKUP($AE11,$D$6:$P$105,AI$1,FALSE),0) -> 9 | AJ11: =IF(AF11=0,"",VLOOKUP($AE11,$D$6:$P110,AJ$1,FALSE)) -> 2.29 | AK11: =IF(AG11=0,"",VLOOKUP($AE11,$D$6:$P110,AK$1,FALSE)) -> 1.3 | AL11: =IF(AH11=0,"",VLOOKUP($AE11,$D$6:$P110,AL$1,FALSE)) -> 0.563 | AM11: =IF(AI11=0,"",VLOOKUP($AE11,$D$6:$P110,AM$1,FALSE)) -> 1.59 | AO11: =IF(AE11="","",IF(COUNT(AJ11:AM11)=4,"",IF(COUNT(AQ11:AS11)>0,"","x"))) | AU11: =IF(COUNT(AQ11:AR11)>0,SUM(AQ11:AR11),IF(AS11="","",ROUND((50*AS11-5)/6,2))) | AV11: =IF(AU11="","",ROUND((12*AU11+10)/30,2)) | AW11: =IF(AU11="","",ROUND((6*AU11+5)/50,3)) | AY11: =IF(AJ11="",AU11,AJ11) -> 2.29 | AZ11: =IF(AK11="",AV11,AK11) -> 1.3 | BA11: =IF(AL11="",AW11,AL11) -> 0.563 | BE11: 212 | BF11: John Hankel | BH11: =IF(AY11="","",ROUND(BH$1*AY11,0)) -> 69 | BI11: =IF(AZ11="","",ROUND(BI$1*AZ11,0)) -> 39 | BJ11: =IF(BA11="","",ROUND(BJ$1*BA11,0)) -> 28 | BK11: =IF(AY11="","",ROUND(BK$1*AY11,0)) -> 39 | BL11: 6 | BM11: =IF(BL11>BM$4,"",100*BE11+BL11) -> 21206 | BN11: =IF(BM11="","",SMALL(BM$6:BM$105,BL11)) -> 21206 | BO11: =IF(BN11="","",INT(BN11/100)) -> 212 | BP11: =IF(BN11="","",BN11-100*BO11) -> 6 | BR11: {=IF($BP11="","",IF(INDEX(BC$6:BC$105,$BP11,1)="","",INDEX(BC$6:BC$105,$BP11,1)))} | BS11: {=IF($BP11="","",IF(INDEX(BD$6:BD$105,$BP11,1)="","",INDEX(BD$6:BD$105,$BP11,1)))} | BT11: {=IF($BP11="","",IF(INDEX(BE$6:BE$105,$BP11,1)="","",INDEX(BE$6:BE$105,$BP11,1)))} -> 212 | BU11: {=IF($BP11="","",IF(INDEX(BF$6:BF$105,$BP11,1)="","",INDEX(BF$6:BF$105,$BP11,1)))} -> John Hankel | BV11: {=IF($BP11="","",IF(INDEX(BG$6:BG$105,$BP11,1)="","",INDEX(BG$6:BG$105,$BP11,1)))} | BW11: {=IF($BP11="","",IF(INDEX(BH$6:BH$105,$BP11,1)="","",INDEX(BH$6:BH$105,$BP11,1)))} -> 69 | BX11: {=IF($BP11="","",IF(INDEX(BI$6:BI$105,$BP11,1)="","",INDEX(BI$6:BI$105,$BP11,1)))} -> 39 | BY11: {=IF($BP11="","",IF(INDEX(BJ$6:BJ$105,$BP11,1)="","",INDEX(BJ$6:BJ$105,$BP11,1)))} -> 28 | BZ11: {=IF($BP11="","",IF(INDEX(BK$6:BK$105,$BP11,1)="","",INDEX(BK$6:BK$105,$BP11,1)))} -> 39 | CB11: =IF(BU11="","",BU11) -> John Hankel | CC11: =IF($CB11="","",VLOOKUP($CB11,$AE$6:$AM$105,CC$1,FALSE)) -> 15 | CD11: =IF($CB11="","",VLOOKUP($CB11,$AE$6:$AM$105,CD$1,FALSE)) -> 2.29 | CE11: =IF($CB11="","",VLOOKUP($CB11,$AE$6:$AM$105,CE$1,FALSE)) -> 9 | CF11: =IF($CB11="","",VLOOKUP($CB11,$AE$6:$AM$105,CF$1,FALSE)) -> 1.3 | CG11: =IF($CB11="","",VLOOKUP($CB11,$AE$6:$AM$105,CG$1,FALSE)) -> 8 | CH11: =IF($CB11="","",VLOOKUP($CB11,$AE$6:$AM$105,CH$1,FALSE)) -> 0.563 | CI11: =IF($CB11="","",VLOOKUP($CB11,$AE$6:$AM$105,CI$1,FALSE)) -> 9 | CJ11: =IF($CB11="","",VLOOKUP($CB11,$AE$6:$AM$105,CJ$1,FALSE)) -> 1.59
A12: 1204 | B12: L | C12: 34 | D12: Dion in 't Zandt | E12: 1 | F12: 1.94 | G12: 8 | I12: 1.24 | J12: 9 | L12: 0.377 | M12: 8 | O12: 1.05 | P12: 9 | U12: 213 | V12: Bjorn Timmermans | W12: L | X12: 73 | Y12: 54 | Z12: 40 | AA12: 41 | AD12: =IF(V12="","",COUNTIF(D$6:D$105,V12)) -> 1 | AE12: =IF(V12="","",V12) -> Bjorn Timmermans | AF12: =IF($AD12=1,VLOOKUP($AE12,$D$6:$P$105,AF$1,FALSE),0) -> 12 | AG12: =IF($AD12=1,VLOOKUP($AE12,$D$6:$P$105,AG$1,FALSE),0) -> 6 | AH12: =IF($AD12=1,VLOOKUP($AE12,$D$6:$P$105,AH$1,FALSE),0) -> 17 | AI12: =IF($AD12=1,VLOOKUP($AE12,$D$6:$P$105,AI$1,FALSE),0) -> 4 | AJ12: =IF(AF12=0,"",VLOOKUP($AE12,$D$6:$P111,AJ$1,FALSE)) -> 2.54 | AK12: =IF(AG12=0,"",VLOOKUP($AE12,$D$6:$P111,AK$1,FALSE)) -> 1.8 | AL12: =IF(AH12=0,"",VLOOKUP($AE12,$D$6:$P111,AL$1,FALSE)) -> 0.775 | AM12: =IF(AI12=0,"",VLOOKUP($AE12,$D$6:$P111,AM$1,FALSE)) -> 1.2 | AO12: =IF(AE12="","",IF(COUNT(AJ12:AM12)=4,"",IF(COUNT(AQ12:AS12)>0,"","x"))) | AU12: =IF(COUNT(AQ12:AR12)>0,SUM(AQ12:AR12),IF(AS12="","",ROUND((50*AS12-5)/6,2))) | AV12: =IF(AU12="","",ROUND((12*AU12+10)/30,2)) | AW12: =IF(AU12="","",ROUND((6*AU12+5)/50,3)) | AY12: =IF(AJ12="",AU12,AJ12) -> 2.54 | AZ12: =IF(AK12="",AV12,AK12) -> 1.8 | BA12: =IF(AL12="",AW12,AL12) -> 0.775 | BE12: 213 | BF12: Bjorn Timmermans | BG12: L | BH12: =IF(AY12="","",ROUND(BH$1*AY12,0)) -> 76 | BI12: =IF(AZ12="","",ROUND(BI$1*AZ12,0)) -> 54 | BJ12: =IF(BA12="","",ROUND(BJ$1*BA12,0)) -> 39 | BK12: =IF(AY12="","",ROUND(BK$1*AY12,0)) -> 43 | BL12: 7 | BM12: =IF(BL12>BM$4,"",100*BE12+BL12) -> 21307 | BN12: =IF(BM12="","",SMALL(BM$6:BM$105,BL12)) -> 21307 | BO12: =IF(BN12="","",INT(BN12/100)) -> 213 | BP12: =IF(BN12="","",BN12-100*BO12) -> 7 | BR12: {=IF($BP12="","",IF(INDEX(BC$6:BC$105,$BP12,1)="","",INDEX(BC$6:BC$105,$BP12,1)))} | BS12: {=IF($BP12="","",IF(INDEX(BD$6:BD$105,$BP12,1)="","",INDEX(BD$6:BD$105,$BP12,1)))} | BT12: {=IF($BP12="","",IF(INDEX(BE$6:BE$105,$BP12,1)="","",INDEX(BE$6:BE$105,$BP12,1)))} -> 213 | BU12: {=IF($BP12="","",IF(INDEX(BF$6:BF$105,$BP12,1)="","",INDEX(BF$6:BF$105,$BP12,1)))} -> Bjorn Timmermans | BV12: {=IF($BP12="","",IF(INDEX(BG$6:BG$105,$BP12,1)="","",INDEX(BG$6:BG$105,$BP12,1)))} -> L | BW12: {=IF($BP12="","",IF(INDEX(BH$6:BH$105,$BP12,1)="","",INDEX(BH$6:BH$105,$BP12,1)))} -> 76 | BX12: {=IF($BP12="","",IF(INDEX(BI$6:BI$105,$BP12,1)="","",INDEX(BI$6:BI$105,$BP12,1)))} -> 54 | BY12: {=IF($BP12="","",IF(INDEX(BJ$6:BJ$105,$BP12,1)="","",INDEX(BJ$6:BJ$105,$BP12,1)))} -> 39 | BZ12: {=IF($BP12="","",IF(INDEX(BK$6:BK$105,$BP12,1)="","",INDEX(BK$6:BK$105,$BP12,1)))} -> 43 | CB12: =IF(BU12="","",BU12) -> Bjorn Timmermans | CC12: =IF($CB12="","",VLOOKUP($CB12,$AE$6:$AM$105,CC$1,FALSE)) -> 12 | CD12: =IF($CB12="","",VLOOKUP($CB12,$AE$6:$AM$105,CD$1,FALSE)) -> 2.54 | CE12: =IF($CB12="","",VLOOKUP($CB12,$AE$6:$AM$105,CE$1,FALSE)) -> 6 | CF12: =IF($CB12="","",VLOOKUP($CB12,$AE$6:$AM$105,CF$1,FALSE)) -> 1.8 | CG12: =IF($CB12="","",VLOOKUP($CB12,$AE$6:$AM$105,CG$1,FALSE)) -> 17 | CH12: =IF($CB12="","",VLOOKUP($CB12,$AE$6:$AM$105,CH$1,FALSE)) -> 0.775 | CI12: =IF($CB12="","",VLOOKUP($CB12,$AE$6:$AM$105,CI$1,FALSE)) -> 4 | CJ12: =IF($CB12="","",VLOOKUP($CB12,$AE$6:$AM$105,CJ$1,FALSE)) -> 1.2
A13: 1902 | C13: 17 | D13: Cees Mooy | E13: 1 | F13: 1.11 | G13: 4 | I13: 0.58 | J13: 7 | L13: 0.327 | M13: 4 | O13: 0.89 | P13: 2 | U13: 214 | V13: Hans Wauben | X13: 62 | Y13: 40 | Z13: 32 | AA13: 35 | AD13: =IF(V13="","",COUNTIF(D$6:D$105,V13)) -> 1 | AE13: =IF(V13="","",V13) -> Hans Wauben | AF13: =IF($AD13=1,VLOOKUP($AE13,$D$6:$P$105,AF$1,FALSE),0) -> 9 | AG13: =IF($AD13=1,VLOOKUP($AE13,$D$6:$P$105,AG$1,FALSE),0) -> 16 | AH13: =IF($AD13=1,VLOOKUP($AE13,$D$6:$P$105,AH$1,FALSE),0) -> 7 | AI13: =IF($AD13=1,VLOOKUP($AE13,$D$6:$P$105,AI$1,FALSE),0) -> 1 | AJ13: =IF(AF13=0,"",VLOOKUP($AE13,$D$6:$P112,AJ$1,FALSE)) -> 2.14 | AK13: =IF(AG13=0,"",VLOOKUP($AE13,$D$6:$P112,AK$1,FALSE)) -> 1.32 | AL13: =IF(AH13=0,"",VLOOKUP($AE13,$D$6:$P112,AL$1,FALSE)) -> 0.643 | AM13: =IF(AI13=0,"",VLOOKUP($AE13,$D$6:$P112,AM$1,FALSE)) -> 0.91 | AO13: =IF(AE13="","",IF(COUNT(AJ13:AM13)=4,"",IF(COUNT(AQ13:AS13)>0,"","x"))) | AU13: =IF(COUNT(AQ13:AR13)>0,SUM(AQ13:AR13),IF(AS13="","",ROUND((50*AS13-5)/6,2))) | AV13: =IF(AU13="","",ROUND((12*AU13+10)/30,2)) | AW13: =IF(AU13="","",ROUND((6*AU13+5)/50,3)) | AY13: =IF(AJ13="",AU13,AJ13) -> 2.14 | AZ13: =IF(AK13="",AV13,AK13) -> 1.32 | BA13: =IF(AL13="",AW13,AL13) -> 0.643 | BE13: 214 | BF13: Hans Wauben | BH13: =IF(AY13="","",ROUND(BH$1*AY13,0)) -> 64 | BI13: =IF(AZ13="","",ROUND(BI$1*AZ13,0)) -> 40 | BJ13: =IF(BA13="","",ROUND(BJ$1*BA13,0)) -> 32 | BK13: =IF(AY13="","",ROUND(BK$1*AY13,0)) -> 36 | BL13: 8 | BM13: =IF(BL13>BM$4,"",100*BE13+BL13) -> 21408 | BN13: =IF(BM13="","",SMALL(BM$6:BM$105,BL13)) -> 21408 | BO13: =IF(BN13="","",INT(BN13/100)) -> 214 | BP13: =IF(BN13="","",BN13-100*BO13) -> 8 | BR13: {=IF($BP13="","",IF(INDEX(BC$6:BC$105,$BP13,1)="","",INDEX(BC$6:BC$105,$BP13,1)))} | BS13: {=IF($BP13="","",IF(INDEX(BD$6:BD$105,$BP13,1)="","",INDEX(BD$6:BD$105,$BP13,1)))} | BT13: {=IF($BP13="","",IF(INDEX(BE$6:BE$105,$BP13,1)="","",INDEX(BE$6:BE$105,$BP13,1)))} -> 214 | BU13: {=IF($BP13="","",IF(INDEX(BF$6:BF$105,$BP13,1)="","",INDEX(BF$6:BF$105,$BP13,1)))} -> Hans Wauben | BV13: {=IF($BP13="","",IF(INDEX(BG$6:BG$105,$BP13,1)="","",INDEX(BG$6:BG$105,$BP13,1)))} | BW13: {=IF($BP13="","",IF(INDEX(BH$6:BH$105,$BP13,1)="","",INDEX(BH$6:BH$105,$BP13,1)))} -> 64 | BX13: {=IF($BP13="","",IF(INDEX(BI$6:BI$105,$BP13,1)="","",INDEX(BI$6:BI$105,$BP13,1)))} -> 40 | BY13: {=IF($BP13="","",IF(INDEX(BJ$6:BJ$105,$BP13,1)="","",INDEX(BJ$6:BJ$105,$BP13,1)))} -> 32 | BZ13: {=IF($BP13="","",IF(INDEX(BK$6:BK$105,$BP13,1)="","",INDEX(BK$6:BK$105,$BP13,1)))} -> 36 | CB13: =IF(BU13="","",BU13) -> Hans Wauben | CC13: =IF($CB13="","",VLOOKUP($CB13,$AE$6:$AM$105,CC$1,FALSE)) -> 9 | CD13: =IF($CB13="","",VLOOKUP($CB13,$AE$6:$AM$105,CD$1,FALSE)) -> 2.14 | CE13: =IF($CB13="","",VLOOKUP($CB13,$AE$6:$AM$105,CE$1,FALSE)) -> 16 | CF13: =IF($CB13="","",VLOOKUP($CB13,$AE$6:$AM$105,CF$1,FALSE)) -> 1.32 | CG13: =IF($CB13="","",VLOOKUP($CB13,$AE$6:$AM$105,CG$1,FALSE)) -> 7 | CH13: =IF($CB13="","",VLOOKUP($CB13,$AE$6:$AM$105,CH$1,FALSE)) -> 0.643 | CI13: =IF($CB13="","",VLOOKUP($CB13,$AE$6:$AM$105,CI$1,FALSE)) -> 1 | CJ13: =IF($CB13="","",VLOOKUP($CB13,$AE$6:$AM$105,CJ$1,FALSE)) -> 0.91
A14: 1903 | C14: 0 | D14: Mark Bol | E14: 1 | F14: 0 | G14: 0 | I14: 0 | J14: 0 | L14: 0 | M14: 0 | O14: 0 | P14: 0 | S14: De Sport 2 | T14: 22 | U14: 221 | V14: Frits Geenen | X14: 44 | Y14: 22 | Z14: 16 | AA14: 25 | AD14: =IF(V14="","",COUNTIF(D$6:D$105,V14)) -> 1 | AE14: =IF(V14="","",V14) -> Frits Geenen | AF14: =IF($AD14=1,VLOOKUP($AE14,$D$6:$P$105,AF$1,FALSE),0) -> 4 | AG14: =IF($AD14=1,VLOOKUP($AE14,$D$6:$P$105,AG$1,FALSE),0) -> 6 | AH14: =IF($AD14=1,VLOOKUP($AE14,$D$6:$P$105,AH$1,FALSE),0) -> 6 | AI14: =IF($AD14=1,VLOOKUP($AE14,$D$6:$P$105,AI$1,FALSE),0) -> 9 | AJ14: =IF(AF14=0,"",VLOOKUP($AE14,$D$6:$P113,AJ$1,FALSE)) -> 1.48 | AK14: =IF(AG14=0,"",VLOOKUP($AE14,$D$6:$P113,AK$1,FALSE)) -> 0.72 | AL14: =IF(AH14=0,"",VLOOKUP($AE14,$D$6:$P113,AL$1,FALSE)) -> 0.329 | AM14: =IF(AI14=0,"",VLOOKUP($AE14,$D$6:$P113,AM$1,FALSE)) -> 0.91 | AO14: =IF(AE14="","",IF(COUNT(AJ14:AM14)=4,"",IF(COUNT(AQ14:AS14)>0,"","x"))) | AU14: =IF(COUNT(AQ14:AR14)>0,SUM(AQ14:AR14),IF(AS14="","",ROUND((50*AS14-5)/6,2))) | AV14: =IF(AU14="","",ROUND((12*AU14+10)/30,2)) | AW14: =IF(AU14="","",ROUND((6*AU14+5)/50,3)) | AY14: =IF(AJ14="",AU14,AJ14) -> 1.48 | AZ14: =IF(AK14="",AV14,AK14) -> 0.72 | BA14: =IF(AL14="",AW14,AL14) -> 0.329 | BC14: De Sport 2 | BD14: 22 | BE14: 221 | BF14: Frits Geenen | BH14: =IF(AY14="","",ROUND(BH$1*AY14,0)) -> 44 | BI14: =IF(AZ14="","",ROUND(BI$1*AZ14,0)) -> 22 | BJ14: =IF(BA14="","",ROUND(BJ$1*BA14,0)) -> 16 | BK14: =IF(AY14="","",ROUND(BK$1*AY14,0)) -> 25 | BL14: 9 | BM14: =IF(BL14>BM$4,"",100*BE14+BL14) -> 22109 | BN14: =IF(BM14="","",SMALL(BM$6:BM$105,BL14)) -> 22109 | BO14: =IF(BN14="","",INT(BN14/100)) -> 221 | BP14: =IF(BN14="","",BN14-100*BO14) -> 9 | BR14: {=IF($BP14="","",IF(INDEX(BC$6:BC$105,$BP14,1)="","",INDEX(BC$6:BC$105,$BP14,1)))} -> De Sport 2 | BS14: {=IF($BP14="","",IF(INDEX(BD$6:BD$105,$BP14,1)="","",INDEX(BD$6:BD$105,$BP14,1)))} -> 22 | BT14: {=IF($BP14="","",IF(INDEX(BE$6:BE$105,$BP14,1)="","",INDEX(BE$6:BE$105,$BP14,1)))} -> 221 | BU14: {=IF($BP14="","",IF(INDEX(BF$6:BF$105,$BP14,1)="","",INDEX(BF$6:BF$105,$BP14,1)))} -> Frits Geenen | BV14: {=IF($BP14="","",IF(INDEX(BG$6:BG$105,$BP14,1)="","",INDEX(BG$6:BG$105,$BP14,1)))} | BW14: {=IF($BP14="","",IF(INDEX(BH$6:BH$105,$BP14,1)="","",INDEX(BH$6:BH$105,$BP14,1)))} -> 44 | BX14: {=IF($BP14="","",IF(INDEX(BI$6:BI$105,$BP14,1)="","",INDEX(BI$6:BI$105,$BP14,1)))} -> 22 | BY14: {=IF($BP14="","",IF(INDEX(BJ$6:BJ$105,$BP14,1)="","",INDEX(BJ$6:BJ$105,$BP14,1)))} -> 16 | BZ14: {=IF($BP14="","",IF(INDEX(BK$6:BK$105,$BP14,1)="","",INDEX(BK$6:BK$105,$BP14,1)))} -> 25 | CB14: =IF(BU14="","",BU14) -> Frits Geenen | CC14: =IF($CB14="","",VLOOKUP($CB14,$AE$6:$AM$105,CC$1,FALSE)) -> 4 | CD14: =IF($CB14="","",VLOOKUP($CB14,$AE$6:$AM$105,CD$1,FALSE)) -> 1.48 | CE14: =IF($CB14="","",VLOOKUP($CB14,$AE$6:$AM$105,CE$1,FALSE)) -> 6 | CF14: =IF($CB14="","",VLOOKUP($CB14,$AE$6:$AM$105,CF$1,FALSE)) -> 0.72 | CG14: =IF($CB14="","",VLOOKUP($CB14,$AE$6:$AM$105,CG$1,FALSE)) -> 6 | CH14: =IF($CB14="","",VLOOKUP($CB14,$AE$6:$AM$105,CH$1,FALSE)) -> 0.329 | CI14: =IF($CB14="","",VLOOKUP($CB14,$AE$6:$AM$105,CI$1,FALSE)) -> 9 | CJ14: =IF($CB14="","",VLOOKUP($CB14,$AE$6:$AM$105,CJ$1,FALSE)) -> 0.91
A15: 1904 | C15: 8 | D15: Leo Brueren | E15: 1 | F15: 0.73 | G15: 3 | I15: 0.57 | J15: 4 | L15: 0 | M15: 0 | O15: 0.63 | P15: 1 | U15: 222 | V15: Frans v.d. Hombergh | W15: L | X15: 73 | Y15: 35 | Z15: 19 | AA15: 41 | AD15: =IF(V15="","",COUNTIF(D$6:D$105,V15)) -> 1 | AE15: =IF(V15="","",V15) -> Frans v.d. Hombergh | AF15: =IF($AD15=1,VLOOKUP($AE15,$D$6:$P$105,AF$1,FALSE),0) -> 15 | AG15: =IF($AD15=1,VLOOKUP($AE15,$D$6:$P$105,AG$1,FALSE),0) -> 14 | AH15: =IF($AD15=1,VLOOKUP($AE15,$D$6:$P$105,AH$1,FALSE),0) -> 8 | AI15: =IF($AD15=1,VLOOKUP($AE15,$D$6:$P$105,AI$1,FALSE),0) -> 4 | AJ15: =IF(AF15=0,"",VLOOKUP($AE15,$D$6:$P114,AJ$1,FALSE)) -> 2.41 | AK15: =IF(AG15=0,"",VLOOKUP($AE15,$D$6:$P114,AK$1,FALSE)) -> 1.24 | AL15: =IF(AH15=0,"",VLOOKUP($AE15,$D$6:$P114,AL$1,FALSE)) -> 0.38 | AM15: =IF(AI15=0,"",VLOOKUP($AE15,$D$6:$P114,AM$1,FALSE)) -> 1.03 | AO15: =IF(AE15="","",IF(COUNT(AJ15:AM15)=4,"",IF(COUNT(AQ15:AS15)>0,"","x"))) | AU15: =IF(COUNT(AQ15:AR15)>0,SUM(AQ15:AR15),IF(AS15="","",ROUND((50*AS15-5)/6,2))) | AV15: =IF(AU15="","",ROUND((12*AU15+10)/30,2)) | AW15: =IF(AU15="","",ROUND((6*AU15+5)/50,3)) | AY15: =IF(AJ15="",AU15,AJ15) -> 2.41 | AZ15: =IF(AK15="",AV15,AK15) -> 1.24 | BA15: =IF(AL15="",AW15,AL15) -> 0.38 | BE15: 222 | BF15: Frans v.d. Hombergh | BG15: L | BH15: =IF(AY15="","",ROUND(BH$1*AY15,0)) -> 72 | BI15: =IF(AZ15="","",ROUND(BI$1*AZ15,0)) -> 37 | BJ15: =IF(BA15="","",ROUND(BJ$1*BA15,0)) -> 19 | BK15: =IF(AY15="","",ROUND(BK$1*AY15,0)) -> 41 | BL15: 10 | BM15: =IF(BL15>BM$4,"",100*BE15+BL15) -> 22210 | BN15: =IF(BM15="","",SMALL(BM$6:BM$105,BL15)) -> 22210 | BO15: =IF(BN15="","",INT(BN15/100)) -> 222 | BP15: =IF(BN15="","",BN15-100*BO15) -> 10 | BR15: {=IF($BP15="","",IF(INDEX(BC$6:BC$105,$BP15,1)="","",INDEX(BC$6:BC$105,$BP15,1)))} | BS15: {=IF($BP15="","",IF(INDEX(BD$6:BD$105,$BP15,1)="","",INDEX(BD$6:BD$105,$BP15,1)))} | BT15: {=IF($BP15="","",IF(INDEX(BE$6:BE$105,$BP15,1)="","",INDEX(BE$6:BE$105,$BP15,1)))} -> 222 | BU15: {=IF($BP15="","",IF(INDEX(BF$6:BF$105,$BP15,1)="","",INDEX(BF$6:BF$105,$BP15,1)))} -> Frans v.d. Hombergh | BV15: {=IF($BP15="","",IF(INDEX(BG$6:BG$105,$BP15,1)="","",INDEX(BG$6:BG$105,$BP15,1)))} -> L | BW15: {=IF($BP15="","",IF(INDEX(BH$6:BH$105,$BP15,1)="","",INDEX(BH$6:BH$105,$BP15,1)))} -> 72 | BX15: {=IF($BP15="","",IF(INDEX(BI$6:BI$105,$BP15,1)="","",INDEX(BI$6:BI$105,$BP15,1)))} -> 37 | BY15: {=IF($BP15="","",IF(INDEX(BJ$6:BJ$105,$BP15,1)="","",INDEX(BJ$6:BJ$105,$BP15,1)))} -> 19 | BZ15: {=IF($BP15="","",IF(INDEX(BK$6:BK$105,$BP15,1)="","",INDEX(BK$6:BK$105,$BP15,1)))} -> 41 | CB15: =IF(BU15="","",BU15) -> Frans v.d. Hombergh | CC15: =IF($CB15="","",VLOOKUP($CB15,$AE$6:$AM$105,CC$1,FALSE)) -> 15 | CD15: =IF($CB15="","",VLOOKUP($CB15,$AE$6:$AM$105,CD$1,FALSE)) -> 2.41 | CE15: =IF($CB15="","",VLOOKUP($CB15,$AE$6:$AM$105,CE$1,FALSE)) -> 14 | CF15: =IF($CB15="","",VLOOKUP($CB15,$AE$6:$AM$105,CF$1,FALSE)) -> 1.24 | CG15: =IF($CB15="","",VLOOKUP($CB15,$AE$6:$AM$105,CG$1,FALSE)) -> 8 | CH15: =IF($CB15="","",VLOOKUP($CB15,$AE$6:$AM$105,CH$1,FALSE)) -> 0.38 | CI15: =IF($CB15="","",VLOOKUP($CB15,$AE$6:$AM$105,CI$1,FALSE)) -> 4 | CJ15: =IF($CB15="","",VLOOKUP($CB15,$AE$6:$AM$105,CJ$1,FALSE)) -> 1.03
A16: 1905 | C16: 0 | D16: Theo Kuijpers | E16: 1 | F16: 0 | G16: 0 | I16: 0 | J16: 0 | L16: 0 | M16: 0 | O16: 0 | P16: 0 | U16: 223 | V16: Ger v. Leuven | X16: 72 | Y16: 40 | Z16: 21 | AA16: 41 | AD16: =IF(V16="","",COUNTIF(D$6:D$105,V16)) -> 1 | AE16: =IF(V16="","",V16) -> Ger v. Leuven | AF16: =IF($AD16=1,VLOOKUP($AE16,$D$6:$P$105,AF$1,FALSE),0) -> 13 | AG16: =IF($AD16=1,VLOOKUP($AE16,$D$6:$P$105,AG$1,FALSE),0) -> 8 | AH16: =IF($AD16=1,VLOOKUP($AE16,$D$6:$P$105,AH$1,FALSE),0) -> 21 | AI16: =IF($AD16=1,VLOOKUP($AE16,$D$6:$P$105,AI$1,FALSE),0) -> 1 | AJ16: =IF(AF16=0,"",VLOOKUP($AE16,$D$6:$P115,AJ$1,FALSE)) -> 2.42 | AK16: =IF(AG16=0,"",VLOOKUP($AE16,$D$6:$P115,AK$1,FALSE)) -> 1.33 | AL16: =IF(AH16=0,"",VLOOKUP($AE16,$D$6:$P115,AL$1,FALSE)) -> 0.412 | AM16: =IF(AI16=0,"",VLOOKUP($AE16,$D$6:$P115,AM$1,FALSE)) -> 0.65 | AO16: =IF(AE16="","",IF(COUNT(AJ16:AM16)=4,"",IF(COUNT(AQ16:AS16)>0,"","x"))) | AU16: =IF(COUNT(AQ16:AR16)>0,SUM(AQ16:AR16),IF(AS16="","",ROUND((50*AS16-5)/6,2))) | AV16: =IF(AU16="","",ROUND((12*AU16+10)/30,2)) | AW16: =IF(AU16="","",ROUND((6*AU16+5)/50,3)) | AY16: =IF(AJ16="",AU16,AJ16) -> 2.42 | AZ16: =IF(AK16="",AV16,AK16) -> 1.33 | BA16: =IF(AL16="",AW16,AL16) -> 0.412 | BE16: 223 | BF16: Ger v. Leuven | BH16: =IF(AY16="","",ROUND(BH$1*AY16,0)) -> 73 | BI16: =IF(AZ16="","",ROUND(BI$1*AZ16,0)) -> 40 | BJ16: =IF(BA16="","",ROUND(BJ$1*BA16,0)) -> 21 | BK16: =IF(AY16="","",ROUND(BK$1*AY16,0)) -> 41 | BL16: 11 | BM16: =IF(BL16>BM$4,"",100*BE16+BL16) -> 22311 | BN16: =IF(BM16="","",SMALL(BM$6:BM$105,BL16)) -> 22311 | BO16: =IF(BN16="","",INT(BN16/100)) -> 223 | BP16: =IF(BN16="","",BN16-100*BO16) -> 11 | BR16: {=IF($BP16="","",IF(INDEX(BC$6:BC$105,$BP16,1)="","",INDEX(BC$6:BC$105,$BP16,1)))} | BS16: {=IF($BP16="","",IF(INDEX(BD$6:BD$105,$BP16,1)="","",INDEX(BD$6:BD$105,$BP16,1)))} | BT16: {=IF($BP16="","",IF(INDEX(BE$6:BE$105,$BP16,1)="","",INDEX(BE$6:BE$105,$BP16,1)))} -> 223 | BU16: {=IF($BP16="","",IF(INDEX(BF$6:BF$105,$BP16,1)="","",INDEX(BF$6:BF$105,$BP16,1)))} -> Ger v. Leuven | BV16: {=IF($BP16="","",IF(INDEX(BG$6:BG$105,$BP16,1)="","",INDEX(BG$6:BG$105,$BP16,1)))} | BW16: {=IF($BP16="","",IF(INDEX(BH$6:BH$105,$BP16,1)="","",INDEX(BH$6:BH$105,$BP16,1)))} -> 73 | BX16: {=IF($BP16="","",IF(INDEX(BI$6:BI$105,$BP16,1)="","",INDEX(BI$6:BI$105,$BP16,1)))} -> 40 | BY16: {=IF($BP16="","",IF(INDEX(BJ$6:BJ$105,$BP16,1)="","",INDEX(BJ$6:BJ$105,$BP16,1)))} -> 21 | BZ16: {=IF($BP16="","",IF(INDEX(BK$6:BK$105,$BP16,1)="","",INDEX(BK$6:BK$105,$BP16,1)))} -> 41 | CB16: =IF(BU16="","",BU16) -> Ger v. Leuven | CC16: =IF($CB16="","",VLOOKUP($CB16,$AE$6:$AM$105,CC$1,FALSE)) -> 13 | CD16: =IF($CB16="","",VLOOKUP($CB16,$AE$6:$AM$105,CD$1,FALSE)) -> 2.42 | CE16: =IF($CB16="","",VLOOKUP($CB16,$AE$6:$AM$105,CE$1,FALSE)) -> 8 | CF16: =IF($CB16="","",VLOOKUP($CB16,$AE$6:$AM$105,CF$1,FALSE)) -> 1.33 | CG16: =IF($CB16="","",VLOOKUP($CB16,$AE$6:$AM$105,CG$1,FALSE)) -> 21 | CH16: =IF($CB16="","",VLOOKUP($CB16,$AE$6:$AM$105,CH$1,FALSE)) -> 0.412 | CI16: =IF($CB16="","",VLOOKUP($CB16,$AE$6:$AM$105,CI$1,FALSE)) -> 1 | CJ16: =IF($CB16="","",VLOOKUP($CB16,$AE$6:$AM$105,CJ$1,FALSE)) -> 0.65
A17: 1906 | C17: 25 | D17: Lambert Lucassen | E17: 1 | F17: 0.82 | G17: 13 | I17: 0.51 | J17: 6 | L17: 0.226 | M17: 6 | O17: 0 | P17: 0 | U17: 224 | V17: Theo Tabbers | X17: 58 | Y17: 36 | Z17: 17 | AA17: 33 | AD17: =IF(V17="","",COUNTIF(D$6:D$105,V17)) -> 1 | AE17: =IF(V17="","",V17) -> Theo Tabbers | AF17: =IF($AD17=1,VLOOKUP($AE17,$D$6:$P$105,AF$1,FALSE),0) -> 12 | AG17: =IF($AD17=1,VLOOKUP($AE17,$D$6:$P$105,AG$1,FALSE),0) -> 13 | AH17: =IF($AD17=1,VLOOKUP($AE17,$D$6:$P$105,AH$1,FALSE),0) -> 8 | AI17: =IF($AD17=1,VLOOKUP($AE17,$D$6:$P$105,AI$1,FALSE),0) -> 8 | AJ17: =IF(AF17=0,"",VLOOKUP($AE17,$D$6:$P116,AJ$1,FALSE)) -> 1.91 | AK17: =IF(AG17=0,"",VLOOKUP($AE17,$D$6:$P116,AK$1,FALSE)) -> 1.08 | AL17: =IF(AH17=0,"",VLOOKUP($AE17,$D$6:$P116,AL$1,FALSE)) -> 0.332 | AM17: =IF(AI17=0,"",VLOOKUP($AE17,$D$6:$P116,AM$1,FALSE)) -> 0.99 | AO17: =IF(AE17="","",IF(COUNT(AJ17:AM17)=4,"",IF(COUNT(AQ17:AS17)>0,"","x"))) | AU17: =IF(COUNT(AQ17:AR17)>0,SUM(AQ17:AR17),IF(AS17="","",ROUND((50*AS17-5)/6,2))) | AV17: =IF(AU17="","",ROUND((12*AU17+10)/30,2)) | AW17: =IF(AU17="","",ROUND((6*AU17+5)/50,3)) | AY17: =IF(AJ17="",AU17,AJ17) -> 1.91 | AZ17: =IF(AK17="",AV17,AK17) -> 1.08 | BA17: =IF(AL17="",AW17,AL17) -> 0.332 | BE17: 224 | BF17: Theo Tabbers | BH17: =IF(AY17="","",ROUND(BH$1*AY17,0)) -> 57 | BI17: =IF(AZ17="","",ROUND(BI$1*AZ17,0)) -> 32 | BJ17: =IF(BA17="","",ROUND(BJ$1*BA17,0)) -> 17 | BK17: =IF(AY17="","",ROUND(BK$1*AY17,0)) -> 32 | BL17: 12 | BM17: =IF(BL17>BM$4,"",100*BE17+BL17) -> 22412 | BN17: =IF(BM17="","",SMALL(BM$6:BM$105,BL17)) -> 22412 | BO17: =IF(BN17="","",INT(BN17/100)) -> 224 | BP17: =IF(BN17="","",BN17-100*BO17) -> 12 | BR17: {=IF($BP17="","",IF(INDEX(BC$6:BC$105,$BP17,1)="","",INDEX(BC$6:BC$105,$BP17,1)))} | BS17: {=IF($BP17="","",IF(INDEX(BD$6:BD$105,$BP17,1)="","",INDEX(BD$6:BD$105,$BP17,1)))} | BT17: {=IF($BP17="","",IF(INDEX(BE$6:BE$105,$BP17,1)="","",INDEX(BE$6:BE$105,$BP17,1)))} -> 224 | BU17: {=IF($BP17="","",IF(INDEX(BF$6:BF$105,$BP17,1)="","",INDEX(BF$6:BF$105,$BP17,1)))} -> Theo Tabbers | BV17: {=IF($BP17="","",IF(INDEX(BG$6:BG$105,$BP17,1)="","",INDEX(BG$6:BG$105,$BP17,1)))} | BW17: {=IF($BP17="","",IF(INDEX(BH$6:BH$105,$BP17,1)="","",INDEX(BH$6:BH$105,$BP17,1)))} -> 57 | BX17: {=IF($BP17="","",IF(INDEX(BI$6:BI$105,$BP17,1)="","",INDEX(BI$6:BI$105,$BP17,1)))} -> 32 | BY17: {=IF($BP17="","",IF(INDEX(BJ$6:BJ$105,$BP17,1)="","",INDEX(BJ$6:BJ$105,$BP17,1)))} -> 17 | BZ17: {=IF($BP17="","",IF(INDEX(BK$6:BK$105,$BP17,1)="","",INDEX(BK$6:BK$105,$BP17,1)))} -> 32 | CB17: =IF(BU17="","",BU17) -> Theo Tabbers | CC17: =IF($CB17="","",VLOOKUP($CB17,$AE$6:$AM$105,CC$1,FALSE)) -> 12 | CD17: =IF($CB17="","",VLOOKUP($CB17,$AE$6:$AM$105,CD$1,FALSE)) -> 1.91 | CE17: =IF($CB17="","",VLOOKUP($CB17,$AE$6:$AM$105,CE$1,FALSE)) -> 13 | CF17: =IF($CB17="","",VLOOKUP($CB17,$AE$6:$AM$105,CF$1,FALSE)) -> 1.08 | CG17: =IF($CB17="","",VLOOKUP($CB17,$AE$6:$AM$105,CG$1,FALSE)) -> 8 | CH17: =IF($CB17="","",VLOOKUP($CB17,$AE$6:$AM$105,CH$1,FALSE)) -> 0.332 | CI17: =IF($CB17="","",VLOOKUP($CB17,$AE$6:$AM$105,CI$1,FALSE)) -> 8 | CJ17: =IF($CB17="","",VLOOKUP($CB17,$AE$6:$AM$105,CJ$1,FALSE)) -> 0.99
A18: 1908 | C18: 31 | D18: Rob v. Heesch | E18: 1 | F18: 2.19 | G18: 14 | I18: 1.3 | J18: 9 | L18: 0.281 | M18: 7 | O18: 0.48 | P18: 1 | S18: De Sport 3 | T18: 23 | U18: 231 | V18: Mart v. Beek | X18: 53 | Y18: 42 | Z18: 17 | AA18: 30 | AD18: =IF(V18="","",COUNTIF(D$6:D$105,V18)) -> 1 | AE18: =IF(V18="","",V18) -> Mart v. Beek | AF18: =IF($AD18=1,VLOOKUP($AE18,$D$6:$P$105,AF$1,FALSE),0) -> 10 | AG18: =IF($AD18=1,VLOOKUP($AE18,$D$6:$P$105,AG$1,FALSE),0) -> 24 | AH18: =IF($AD18=1,VLOOKUP($AE18,$D$6:$P$105,AH$1,FALSE),0) -> 7 | AI18: =IF($AD18=1,VLOOKUP($AE18,$D$6:$P$105,AI$1,FALSE),0) -> 1 | AJ18: =IF(AF18=0,"",VLOOKUP($AE18,$D$6:$P117,AJ$1,FALSE)) -> 1.86 | AK18: =IF(AG18=0,"",VLOOKUP($AE18,$D$6:$P117,AK$1,FALSE)) -> 1.35 | AL18: =IF(AH18=0,"",VLOOKUP($AE18,$D$6:$P117,AL$1,FALSE)) -> 0.33 | AM18: =IF(AI18=0,"",VLOOKUP($AE18,$D$6:$P117,AM$1,FALSE)) -> 1.13 | AO18: =IF(AE18="","",IF(COUNT(AJ18:AM18)=4,"",IF(COUNT(AQ18:AS18)>0,"","x"))) | AU18: =IF(COUNT(AQ18:AR18)>0,SUM(AQ18:AR18),IF(AS18="","",ROUND((50*AS18-5)/6,2))) | AV18: =IF(AU18="","",ROUND((12*AU18+10)/30,2)) | AW18: =IF(AU18="","",ROUND((6*AU18+5)/50,3)) | AY18: =IF(AJ18="",AU18,AJ18) -> 1.86 | AZ18: =IF(AK18="",AV18,AK18) -> 1.35 | BA18: =IF(AL18="",AW18,AL18) -> 0.33 | BC18: De Sport 3 | BD18: 23 | BE18: 231 | BF18: Mart v. Beek | BH18: =IF(AY18="","",ROUND(BH$1*AY18,0)) -> 56 | BI18: =IF(AZ18="","",ROUND(BI$1*AZ18,0)) -> 41 | BJ18: =IF(BA18="","",ROUND(BJ$1*BA18,0)) -> 17 | BK18: =IF(AY18="","",ROUND(BK$1*AY18,0)) -> 32 | BL18: 13 | BM18: =IF(BL18>BM$4,"",100*BE18+BL18) -> 23113 | BN18: =IF(BM18="","",SMALL(BM$6:BM$105,BL18)) -> 23113 | BO18: =IF(BN18="","",INT(BN18/100)) -> 231 | BP18: =IF(BN18="","",BN18-100*BO18) -> 13 | BR18: {=IF($BP18="","",IF(INDEX(BC$6:BC$105,$BP18,1)="","",INDEX(BC$6:BC$105,$BP18,1)))} -> De Sport 3 | BS18: {=IF($BP18="","",IF(INDEX(BD$6:BD$105,$BP18,1)="","",INDEX(BD$6:BD$105,$BP18,1)))} -> 23 | BT18: {=IF($BP18="","",IF(INDEX(BE$6:BE$105,$BP18,1)="","",INDEX(BE$6:BE$105,$BP18,1)))} -> 231 | BU18: {=IF($BP18="","",IF(INDEX(BF$6:BF$105,$BP18,1)="","",INDEX(BF$6:BF$105,$BP18,1)))} -> Mart v. Beek | BV18: {=IF($BP18="","",IF(INDEX(BG$6:BG$105,$BP18,1)="","",INDEX(BG$6:BG$105,$BP18,1)))} | BW18: {=IF($BP18="","",IF(INDEX(BH$6:BH$105,$BP18,1)="","",INDEX(BH$6:BH$105,$BP18,1)))} -> 56 | BX18: {=IF($BP18="","",IF(INDEX(BI$6:BI$105,$BP18,1)="","",INDEX(BI$6:BI$105,$BP18,1)))} -> 41 | BY18: {=IF($BP18="","",IF(INDEX(BJ$6:BJ$105,$BP18,1)="","",INDEX(BJ$6:BJ$105,$BP18,1)))} -> 17 | BZ18: {=IF($BP18="","",IF(INDEX(BK$6:BK$105,$BP18,1)="","",INDEX(BK$6:BK$105,$BP18,1)))} -> 32 | CB18: =IF(BU18="","",BU18) -> Mart v. Beek | CC18: =IF($CB18="","",VLOOKUP($CB18,$AE$6:$AM$105,CC$1,FALSE)) -> 10 | CD18: =IF($CB18="","",VLOOKUP($CB18,$AE$6:$AM$105,CD$1,FALSE)) -> 1.86 | CE18: =IF($CB18="","",VLOOKUP($CB18,$AE$6:$AM$105,CE$1,FALSE)) -> 24 | CF18: =IF($CB18="","",VLOOKUP($CB18,$AE$6:$AM$105,CF$1,FALSE)) -> 1.35 | CG18: =IF($CB18="","",VLOOKUP($CB18,$AE$6:$AM$105,CG$1,FALSE)) -> 7 | CH18: =IF($CB18="","",VLOOKUP($CB18,$AE$6:$AM$105,CH$1,FALSE)) -> 0.33 | CI18: =IF($CB18="","",VLOOKUP($CB18,$AE$6:$AM$105,CI$1,FALSE)) -> 1 | CJ18: =IF($CB18="","",VLOOKUP($CB18,$AE$6:$AM$105,CJ$1,FALSE)) -> 1.13
A19: 2101 | C19: 33 | D19: Ron Heijnen | E19: 1 | F19: 0.93 | G19: 13 | I19: 0.63 | J19: 11 | L19: 0.146 | M19: 4 | O19: 0.45 | P19: 5 | U19: 232 | V19: Herm Kuijpers | X19: 65 | Y19: 35 | Z19: 21 | AA19: 37 | AD19: =IF(V19="","",COUNTIF(D$6:D$105,V19)) -> 1 | AE19: =IF(V19="","",V19) -> Herm Kuijpers | AF19: =IF($AD19=1,VLOOKUP($AE19,$D$6:$P$105,AF$1,FALSE),0) -> 26 | AG19: =IF($AD19=1,VLOOKUP($AE19,$D$6:$P$105,AG$1,FALSE),0) -> 8 | AH19: =IF($AD19=1,VLOOKUP($AE19,$D$6:$P$105,AH$1,FALSE),0) -> 11 | AI19: =IF($AD19=1,VLOOKUP($AE19,$D$6:$P$105,AI$1,FALSE),0) -> 3 | AJ19: =IF(AF19=0,"",VLOOKUP($AE19,$D$6:$P118,AJ$1,FALSE)) -> 2.13 | AK19: =IF(AG19=0,"",VLOOKUP($AE19,$D$6:$P118,AK$1,FALSE)) -> 1.15 | AL19: =IF(AH19=0,"",VLOOKUP($AE19,$D$6:$P118,AL$1,FALSE)) -> 0.419 | AM19: =IF(AI19=0,"",VLOOKUP($AE19,$D$6:$P118,AM$1,FALSE)) -> 0.98 | AO19: =IF(AE19="","",IF(COUNT(AJ19:AM19)=4,"",IF(COUNT(AQ19:AS19)>0,"","x"))) | AU19: =IF(COUNT(AQ19:AR19)>0,SUM(AQ19:AR19),IF(AS19="","",ROUND((50*AS19-5)/6,2))) | AV19: =IF(AU19="","",ROUND((12*AU19+10)/30,2)) | AW19: =IF(AU19="","",ROUND((6*AU19+5)/50,3)) | AY19: =IF(AJ19="",AU19,AJ19) -> 2.13 | AZ19: =IF(AK19="",AV19,AK19) -> 1.15 | BA19: =IF(AL19="",AW19,AL19) -> 0.419 | BE19: 232 | BF19: Herm Kuijpers | BH19: =IF(AY19="","",ROUND(BH$1*AY19,0)) -> 64 | BI19: =IF(AZ19="","",ROUND(BI$1*AZ19,0)) -> 35 | BJ19: =IF(BA19="","",ROUND(BJ$1*BA19,0)) -> 21 | BK19: =IF(AY19="","",ROUND(BK$1*AY19,0)) -> 36 | BL19: 14 | BM19: =IF(BL19>BM$4,"",100*BE19+BL19) -> 23214 | BN19: =IF(BM19="","",SMALL(BM$6:BM$105,BL19)) -> 23214 | BO19: =IF(BN19="","",INT(BN19/100)) -> 232 | BP19: =IF(BN19="","",BN19-100*BO19) -> 14 | BR19: {=IF($BP19="","",IF(INDEX(BC$6:BC$105,$BP19,1)="","",INDEX(BC$6:BC$105,$BP19,1)))} | BS19: {=IF($BP19="","",IF(INDEX(BD$6:BD$105,$BP19,1)="","",INDEX(BD$6:BD$105,$BP19,1)))} | BT19: {=IF($BP19="","",IF(INDEX(BE$6:BE$105,$BP19,1)="","",INDEX(BE$6:BE$105,$BP19,1)))} -> 232 | BU19: {=IF($BP19="","",IF(INDEX(BF$6:BF$105,$BP19,1)="","",INDEX(BF$6:BF$105,$BP19,1)))} -> Herm Kuijpers | BV19: {=IF($BP19="","",IF(INDEX(BG$6:BG$105,$BP19,1)="","",INDEX(BG$6:BG$105,$BP19,1)))} | BW19: {=IF($BP19="","",IF(INDEX(BH$6:BH$105,$BP19,1)="","",INDEX(BH$6:BH$105,$BP19,1)))} -> 64 | BX19: {=IF($BP19="","",IF(INDEX(BI$6:BI$105,$BP19,1)="","",INDEX(BI$6:BI$105,$BP19,1)))} -> 35 | BY19: {=IF($BP19="","",IF(INDEX(BJ$6:BJ$105,$BP19,1)="","",INDEX(BJ$6:BJ$105,$BP19,1)))} -> 21 | BZ19: {=IF($BP19="","",IF(INDEX(BK$6:BK$105,$BP19,1)="","",INDEX(BK$6:BK$105,$BP19,1)))} -> 36 | CB19: =IF(BU19="","",BU19) -> Herm Kuijpers | CC19: =IF($CB19="","",VLOOKUP($CB19,$AE$6:$AM$105,CC$1,FALSE)) -> 26 | CD19: =IF($CB19="","",VLOOKUP($CB19,$AE$6:$AM$105,CD$1,FALSE)) -> 2.13 | CE19: =IF($CB19="","",VLOOKUP($CB19,$AE$6:$AM$105,CE$1,FALSE)) -> 8 | CF19: =IF($CB19="","",VLOOKUP($CB19,$AE$6:$AM$105,CF$1,FALSE)) -> 1.15 | CG19: =IF($CB19="","",VLOOKUP($CB19,$AE$6:$AM$105,CG$1,FALSE)) -> 11 | CH19: =IF($CB19="","",VLOOKUP($CB19,$AE$6:$AM$105,CH$1,FALSE)) -> 0.419 | CI19: =IF($CB19="","",VLOOKUP($CB19,$AE$6:$AM$105,CI$1,FALSE)) -> 3 | CJ19: =IF($CB19="","",VLOOKUP($CB19,$AE$6:$AM$105,CJ$1,FALSE)) -> 0.98
A20: 2102 | C20: 44 | D20: Hans v.d. Hombergh | E20: 1 | F20: 4.6 | G20: 19 | I20: 1.65 | J20: 9 | L20: 0.45 | M20: 15 | O20: 1.47 | P20: 1 | U20: 233 | V20: Frans Litjens | X20: 37 | Y20: 17 | Z20: 12 | AA20: 21 | AD20: =IF(V20="","",COUNTIF(D$6:D$105,V20)) -> 1 | AE20: =IF(V20="","",V20) -> Frans Litjens | AF20: =IF($AD20=1,VLOOKUP($AE20,$D$6:$P$105,AF$1,FALSE),0) -> 7 | AG20: =IF($AD20=1,VLOOKUP($AE20,$D$6:$P$105,AG$1,FALSE),0) -> 11 | AH20: =IF($AD20=1,VLOOKUP($AE20,$D$6:$P$105,AH$1,FALSE),0) -> 4 | AI20: =IF($AD20=1,VLOOKUP($AE20,$D$6:$P$105,AI$1,FALSE),0) -> 11 | AJ20: =IF(AF20=0,"",VLOOKUP($AE20,$D$6:$P119,AJ$1,FALSE)) -> 1.22 | AK20: =IF(AG20=0,"",VLOOKUP($AE20,$D$6:$P119,AK$1,FALSE)) -> 0.66 | AL20: =IF(AH20=0,"",VLOOKUP($AE20,$D$6:$P119,AL$1,FALSE)) -> 0.248 | AM20: =IF(AI20=0,"",VLOOKUP($AE20,$D$6:$P119,AM$1,FALSE)) -> 0.6 | AO20: =IF(AE20="","",IF(COUNT(AJ20:AM20)=4,"",IF(COUNT(AQ20:AS20)>0,"","x"))) | AU20: =IF(COUNT(AQ20:AR20)>0,SUM(AQ20:AR20),IF(AS20="","",ROUND((50*AS20-5)/6,2))) | AV20: =IF(AU20="","",ROUND((12*AU20+10)/30,2)) | AW20: =IF(AU20="","",ROUND((6*AU20+5)/50,3)) | AY20: =IF(AJ20="",AU20,AJ20) -> 1.22 | AZ20: =IF(AK20="",AV20,AK20) -> 0.66 | BA20: =IF(AL20="",AW20,AL20) -> 0.248 | BE20: 233 | BF20: Frans Litjens | BH20: =IF(AY20="","",ROUND(BH$1*AY20,0)) -> 37 | BI20: =IF(AZ20="","",ROUND(BI$1*AZ20,0)) -> 20 | BJ20: =IF(BA20="","",ROUND(BJ$1*BA20,0)) -> 12 | BK20: =IF(AY20="","",ROUND(BK$1*AY20,0)) -> 21 | BL20: 15 | BM20: =IF(BL20>BM$4,"",100*BE20+BL20) -> 23315 | BN20: =IF(BM20="","",SMALL(BM$6:BM$105,BL20)) -> 23315 | BO20: =IF(BN20="","",INT(BN20/100)) -> 233 | BP20: =IF(BN20="","",BN20-100*BO20) -> 15 | BR20: {=IF($BP20="","",IF(INDEX(BC$6:BC$105,$BP20,1)="","",INDEX(BC$6:BC$105,$BP20,1)))} | BS20: {=IF($BP20="","",IF(INDEX(BD$6:BD$105,$BP20,1)="","",INDEX(BD$6:BD$105,$BP20,1)))} | BT20: {=IF($BP20="","",IF(INDEX(BE$6:BE$105,$BP20,1)="","",INDEX(BE$6:BE$105,$BP20,1)))} -> 233 | BU20: {=IF($BP20="","",IF(INDEX(BF$6:BF$105,$BP20,1)="","",INDEX(BF$6:BF$105,$BP20,1)))} -> Frans Litjens | BV20: {=IF($BP20="","",IF(INDEX(BG$6:BG$105,$BP20,1)="","",INDEX(BG$6:BG$105,$BP20,1)))} | BW20: {=IF($BP20="","",IF(INDEX(BH$6:BH$105,$BP20,1)="","",INDEX(BH$6:BH$105,$BP20,1)))} -> 37 | BX20: {=IF($BP20="","",IF(INDEX(BI$6:BI$105,$BP20,1)="","",INDEX(BI$6:BI$105,$BP20,1)))} -> 20 | BY20: {=IF($BP20="","",IF(INDEX(BJ$6:BJ$105,$BP20,1)="","",INDEX(BJ$6:BJ$105,$BP20,1)))} -> 12 | BZ20: {=IF($BP20="","",IF(INDEX(BK$6:BK$105,$BP20,1)="","",INDEX(BK$6:BK$105,$BP20,1)))} -> 21 | CB20: =IF(BU20="","",BU20) -> Frans Litjens | CC20: =IF($CB20="","",VLOOKUP($CB20,$AE$6:$AM$105,CC$1,FALSE)) -> 7 | CD20: =IF($CB20="","",VLOOKUP($CB20,$AE$6:$AM$105,CD$1,FALSE)) -> 1.22 | CE20: =IF($CB20="","",VLOOKUP($CB20,$AE$6:$AM$105,CE$1,FALSE)) -> 11 | CF20: =IF($CB20="","",VLOOKUP($CB20,$AE$6:$AM$105,CF$1,FALSE)) -> 0.66 | CG20: =IF($CB20="","",VLOOKUP($CB20,$AE$6:$AM$105,CG$1,FALSE)) -> 4 | CH20: =IF($CB20="","",VLOOKUP($CB20,$AE$6:$AM$105,CH$1,FALSE)) -> 0.248 | CI20: =IF($CB20="","",VLOOKUP($CB20,$AE$6:$AM$105,CI$1,FALSE)) -> 11 | CJ20: =IF($CB20="","",VLOOKUP($CB20,$AE$6:$AM$105,CJ$1,FALSE)) -> 0.6
