Workbook

Sheet KNBB
A1: KNBB Venlo 2026-2027
P3: =IF(D3="","",COUNTIF(D$3:D$58,D3)) | T3: =SUM(T4:T58) -> 18
A4: C2 | B4: De Sport | C4: 126951 | D4: john Hankel | E4: 2.4 | F4: 2.4 | G4: 2.4 | H4: 65 | I4: 0 | J4: 75 | M4: Libre | P4: =IF(D4="","",COUNTIF(D$3:D$58,D4)) -> 3 | R4: =IF(COUNTIF(D$4:D4,D4)=1,D4,"") -> john Hankel | T4: =IF(R4="","",1) -> 1
C5: 130483 | D5: Frans van den Hombergh | E5: 2.312 | F5: 2.312 | G5: 2.312 | H5: 60 | I5: 0 | J5: 70 | M5: Libre | P5: =IF(D5="","",COUNTIF(D$3:D$58,D5)) -> 5 | R5: =IF(COUNTIF(D$4:D5,D5)=1,D5,"") -> Frans van den Hombergh | T5: =IF(R5="","",1) -> 1
C6: 150541 | D6: Ger van Leuven | E6: 2.212 | F6: 2.212 | G6: 2.212 | H6: 60 | I6: 0 | J6: 70 | M6: Libre | P6: =IF(D6="","",COUNTIF(D$3:D$58,D6)) -> 5 | R6: =IF(COUNTIF(D$4:D6,D6)=1,D6,"") -> Ger van Leuven | T6: =IF(R6="","",1) -> 1
C7: 387626 | D7: Bram Volleberg | E7: 2.066 | F7: 2.066 | G7: 2.066 | H7: 55 | I7: 0 | J7: 65 | M7: Libre | P7: =IF(D7="","",COUNTIF(D$3:D$58,D7)) -> 4 | R7: =IF(COUNTIF(D$4:D7,D7)=1,D7,"") -> Bram Volleberg | T7: =IF(R7="","",1) -> 1
C8: 178435 | D8: Herman Kuijpers | E8: 1.805 | F8: 1.805 | G8: 1.805 | H8: 55 | I8: 0 | J8: 65 | M8: Libre | P8: =IF(D8="","",COUNTIF(D$3:D$58,D8)) -> 3 | R8: =IF(COUNTIF(D$4:D8,D8)=1,D8,"") -> Herman Kuijpers | T8: =IF(R8="","",1) -> 1
C9: 145766 | D9: Theo Tabbers | E9: 1.782 | F9: 1.782 | G9: 1.782 | H9: 55 | I9: 0 | J9: 65 | M9: Libre | P9: =IF(D9="","",COUNTIF(D$3:D$58,D9)) -> 3 | R9: =IF(COUNTIF(D$4:D9,D9)=1,D9,"") -> Theo Tabbers | T9: =IF(R9="","",1) -> 1
C10: 275459 | D10: Sjaak Geurts | E10: 1.7 | F10: 1.7 | G10: 1.7 | H10: 55 | I10: 0 | J10: 65 | M10: Libre | P10: =IF(D10="","",COUNTIF(D$3:D$58,D10)) -> 3 | R10: =IF(COUNTIF(D$4:D10,D10)=1,D10,"") -> Sjaak Geurts | T10: =IF(R10="","",1) -> 1
C11: 383859 | D11: paul crooijmans | E11: 1.665 | F11: 1.665 | G11: 1.665 | H11: 55 | I11: 0 | J11: 65 | M11: Libre | P11: =IF(D11="","",COUNTIF(D$3:D$58,D11)) -> 2 | R11: =IF(COUNTIF(D$4:D11,D11)=1,D11,"") -> paul crooijmans | T11: =IF(R11="","",1) -> 1
C12: 275457 | D12: Frits Geenen | E12: 1.57 | F12: 1.57 | G12: 1.57 | H12: 55 | I12: 0 | J12: 65 | M12: Libre | P12: =IF(D12="","",COUNTIF(D$3:D$58,D12)) -> 3 | R12: =IF(COUNTIF(D$4:D12,D12)=1,D12,"") -> Frits Geenen | T12: =IF(R12="","",1) -> 1
C13: 178434 | D13: Henk Martens | E13: 1.253 | F13: 1.253 | G13: 1.253 | H13: 55 | I13: 0 | J13: 65 | M13: Libre | P13: =IF(D13="","",COUNTIF(D$3:D$58,D13)) -> 5 | R13: =IF(COUNTIF(D$4:D13,D13)=1,D13,"") -> Henk Martens | T13: =IF(R13="","",1) -> 1
P14: =IF(D14="","",COUNTIF(D$3:D$58,D14)) | R14: =IF(COUNTIF(D$4:D14,D14)=1,D14,"") | T14: =IF(R14="","",1)
A15: C3 | B15: De Sport | C15: 130483 | D15: Frans van den Hombergh | E15: 2.312 | F15: 2.312 | G15: 2.312 | H15: 60 | I15: 0 | J15: 70 | M15: Libre | P15: =IF(D15="","",COUNTIF(D$3:D$58,D15)) -> 5 | R15: =IF(COUNTIF(D$4:D15,D15)=1,D15,"") | T15: =IF(R15="","",1)
C16: 150541 | D16: Ger van Leuven | E16: 2.212 | F16: 2.212 | G16: 2.212 | H16: 60 | I16: 0 | J16: 70 | M16: Libre | P16: =IF(D16="","",COUNTIF(D$3:D$58,D16)) -> 5 | R16: =IF(COUNTIF(D$4:D16,D16)=1,D16,"") | T16: =IF(R16="","",1)
C17: 237191 | D17: Mart van Beek | E17: 2.193 | F17: 2.193 | G17: 2.193 | H17: 55 | I17: 0 | J17: 65 | M17: Libre | P17: =IF(D17="","",COUNTIF(D$3:D$58,D17)) -> 1 | R17: =IF(COUNTIF(D$4:D17,D17)=1,D17,"") -> Mart van Beek | T17: =IF(R17="","",1) -> 1
C18: 387626 | D18: Bram Volleberg | E18: 2.066 | F18: 2.066 | G18: 2.066 | H18: 55 | I18: 0 | J18: 65 | M18: Libre | P18: =IF(D18="","",COUNTIF(D$3:D$58,D18)) -> 4 | R18: =IF(COUNTIF(D$4:D18,D18)=1,D18,"") | T18: =IF(R18="","",1)
C19: 178435 | D19: Herman Kuijpers | E19: 1.805 | F19: 1.805 | G19: 1.805 | H19: 51 | I19: 0 | J19: 55 | M19: Libre | P19: =IF(D19="","",COUNTIF(D$3:D$58,D19)) -> 3 | R19: =IF(COUNTIF(D$4:D19,D19)=1,D19,"") | T19: =IF(R19="","",1)
C20: 145766 | D20: Theo Tabbers | E20: 1.782 | F20: 1.782 | G20: 1.782 | H20: 49 | I20: 0 | J20: 53 | M20: Libre | P20: =IF(D20="","",COUNTIF(D$3:D$58,D20)) -> 3 | R20: =IF(COUNTIF(D$4:D20,D20)=1,D20,"") | T20: =IF(R20="","",1)
C21: 383859 | D21: paul crooijmans | E21: 1.665 | F21: 1.665 | G21: 1.665 | H21: 47 | I21: 0 | J21: 51 | M21: Libre | P21: =IF(D21="","",COUNTIF(D$3:D$58,D21)) -> 2 | R21: =IF(COUNTIF(D$4:D21,D21)=1,D21,"") | T21: =IF(R21="","",1)
C22: 182235 | D22: Tony Erkens | E22: 1.5 | F22: 1.5 | G22: 1.5 | H22: 45 | I22: 0 | J22: 49 | M22: Libre | P22: =IF(D22="","",COUNTIF(D$3:D$58,D22)) -> 4 | R22: =IF(COUNTIF(D$4:D22,D22)=1,D22,"") -> Tony Erkens | T22: =IF(R22="","",1) -> 1
C23: 178434 | D23: Henk Martens | E23: 1.253 | F23: 1.253 | G23: 1.253 | H23: 39 | I23: 0 | J23: 43 | M23: Libre | P23: =IF(D23="","",COUNTIF(D$3:D$58,D23)) -> 5 | R23: =IF(COUNTIF(D$4:D23,D23)=1,D23,"") | T23: =IF(R23="","",1)
C24: 383857 | D24: Frans Litjens | E24: 0.992 | F24: 0.992 | G24: 0.992 | H24: 35 | I24: 0 | J24: 39 | M24: Libre | P24: =IF(D24="","",COUNTIF(D$3:D$58,D24)) -> 1 | R24: =IF(COUNTIF(D$4:D24,D24)=1,D24,"") -> Frans Litjens | T24: =IF(R24="","",1) -> 1
R25: =IF(COUNTIF(D$4:D25,D25)=1,D25,"") | T25: =IF(R25="","",1)
A26: B1 | B26: De Sport | C26: 20727 | D26: Miel Brueren | E26: 0.716 | F26: 0.716 | G26: 0.716 | H26: 35 | I26: 0 | J26: 37 | M26: Driebanden | P26: =IF(D26="","",COUNTIF(D$3:D$58,D26)) -> 2 | R26: =IF(COUNTIF(D$4:D26,D26)=1,D26,"") -> Miel Brueren | T26: =IF(R26="","",1) -> 1
C27: 177528 | D27: Bjorn Timmermans | E27: 0.705 | F27: 0.705 | G27: 0.705 | H27: 35 | I27: 0 | J27: 37 | M27: Driebanden | P27: =IF(D27="","",COUNTIF(D$3:D$58,D27)) -> 1 | R27: =IF(COUNTIF(D$4:D27,D27)=1,D27,"") -> Bjorn Timmermans | T27: =IF(R27="","",1) -> 1
C28: 150539 | D28: huub Graat | E28: 0.552 | F28: 0.552 | G28: 0.552 | H28: 27 | I28: 0 | J28: 29 | M28: Driebanden | P28: =IF(D28="","",COUNTIF(D$3:D$58,D28)) -> 1 | R28: =IF(COUNTIF(D$4:D28,D28)=1,D28,"") -> huub Graat | T28: =IF(R28="","",1) -> 1
C29: 275456 | D29: Ron Vermazeren | E29: 0.545 | F29: 0.545 | G29: 0.545 | H29: 27 | I29: 0 | J29: 29 | M29: Driebanden | P29: =IF(D29="","",COUNTIF(D$3:D$58,D29)) -> 3 | R29: =IF(COUNTIF(D$4:D29,D29)=1,D29,"") -> Ron Vermazeren | T29: =IF(R29="","",1) -> 1
C30: 181143 | D30: Hans Wauben | E30: 0.508 | F30: 0.508 | G30: 0.508 | H30: 25 | I30: 0 | J30: 27 | M30: Driebanden | P30: =IF(D30="","",COUNTIF(D$3:D$58,D30)) -> 1 | R30: =IF(COUNTIF(D$4:D30,D30)=1,D30,"") -> Hans Wauben | T30: =IF(R30="","",1) -> 1
C31: 126951 | D31: john Hankel | E31: 0.504 | F31: 0.504 | G31: 0.504 | H31: 25 | I31: 0 | J31: 27 | M31: Driebanden | P31: =IF(D31="","",COUNTIF(D$3:D$58,D31)) -> 3 | R31: =IF(COUNTIF(D$4:D31,D31)=1,D31,"") | T31: =IF(R31="","",1)
C32: 182235 | D32: Tony Erkens | E32: 0.455 | F32: 0.455 | G32: 0.455 | H32: 23 | I32: 0 | J32: 25 | M32: Driebanden | P32: =IF(D32="","",COUNTIF(D$3:D$58,D32)) -> 4 | R32: =IF(COUNTIF(D$4:D32,D32)=1,D32,"") | T32: =IF(R32="","",1)
C33: 150541 | D33: Ger van Leuven | E33: 0.429 | F33: 0.429 | G33: 0.429 | H33: 23 | I33: 0 | J33: 25 | M33: Driebanden | P33: =IF(D33="","",COUNTIF(D$3:D$58,D33)) -> 5 | R33: =IF(COUNTIF(D$4:D33,D33)=1,D33,"") | T33: =IF(R33="","",1)
C34: 178434 | D34: Henk Martens | E34: 0.402 | F34: 0.402 | G34: 0.402 | H34: 23 | I34: 0 | J34: 25 | M34: Driebanden | P34: =IF(D34="","",COUNTIF(D$3:D$58,D34)) -> 5 | R34: =IF(COUNTIF(D$4:D34,D34)=1,D34,"") | T34: =IF(R34="","",1)
C35: 130483 | D35: Frans van den Hombergh | E35: 0.397 | F35: 0.397 | G35: 0.397 | H35: 23 | I35: 0 | J35: 25 | M35: Driebanden | P35: =IF(D35="","",COUNTIF(D$3:D$58,D35)) -> 5 | R35: =IF(COUNTIF(D$4:D35,D35)=1,D35,"") | T35: =IF(R35="","",1)
P36: =IF(D36="","",COUNTIF(D$3:D$58,D36)) | R36: =IF(COUNTIF(D$4:D36,D36)=1,D36,"") | T36: =IF(R36="","",1)
P37: =IF(D37="","",COUNTIF(D$3:D$58,D37)) | R37: =IF(COUNTIF(D$4:D37,D37)=1,D37,"") | T37: =IF(R37="","",1)
A38: B2 | B38: De Sport 2 | C38: 275456 | D38: Ron Vermazeren | E38: 0.545 | F38: 0.545 | G38: 0.545 | H38: 27 | I38: 0 | J38: 29 | M38: Driebanden | P38: =IF(D38="","",COUNTIF(D$3:D$58,D38)) -> 3 | R38: =IF(COUNTIF(D$4:D38,D38)=1,D38,"") | T38: =IF(R38="","",1)
C39: 126951 | D39: john Hankel | E39: 0.504 | F39: 0.504 | G39: 0.504 | H39: 25 | I39: 0 | J39: 27 | M39: Driebanden | P39: =IF(D39="","",COUNTIF(D$3:D$58,D39)) -> 3 | R39: =IF(COUNTIF(D$4:D39,D39)=1,D39,"") | T39: =IF(R39="","",1)
C40: 182235 | D40: Tony Erkens | E40: 0.455 | F40: 0.455 | G40: 0.455 | H40: 23 | I40: 0 | J40: 25 | M40: Driebanden | P40: =IF(D40="","",COUNTIF(D$3:D$58,D40)) -> 4 | R40: =IF(COUNTIF(D$4:D40,D40)=1,D40,"") | T40: =IF(R40="","",1)
C41: 150541 | D41: Ger van Leuven | E41: 0.429 | F41: 0.429 | G41: 0.429 | H41: 22 | I41: 0 | J41: 23 | M41: Driebanden | P41: =IF(D41="","",COUNTIF(D$3:D$58,D41)) -> 5 | R41: =IF(COUNTIF(D$4:D41,D41)=1,D41,"") | T41: =IF(R41="","",1)
C42: 178434 | D42: Henk Martens | E42: 0.402 | F42: 0.402 | G42: 0.402 | H42: 21 | I42: 0 | J42: 22 | M42: Driebanden | P42: =IF(D42="","",COUNTIF(D$3:D$58,D42)) -> 5 | R42: =IF(COUNTIF(D$4:D42,D42)=1,D42,"") | T42: =IF(R42="","",1)
C43: 130483 | D43: Frans van den Hombergh | E43: 0.397 | F43: 0.397 | G43: 0.397 | H43: 20 | I43: 0 | J43: 21 | M43: Driebanden | P43: =IF(D43="","",COUNTIF(D$3:D$58,D43)) -> 5 | R43: =IF(COUNTIF(D$4:D43,D43)=1,D43,"") | T43: =IF(R43="","",1)
C44: 145766 | D44: Theo Tabbers | E44: 0.357 | F44: 0.357 | G44: 0.357 | H44: 18 | I44: 0 | J44: 19 | M44: Driebanden | P44: =IF(D44="","",COUNTIF(D$3:D$58,D44)) -> 3 | R44: =IF(COUNTIF(D$4:D44,D44)=1,D44,"") | T44: =IF(R44="","",1)
C45: 275457 | D45: Frits Geenen | E45: 0.329 | F45: 0.329 | G45: 0.329 | H45: 17 | I45: 0 | J45: 18 | M45: Driebanden | P45: =IF(D45="","",COUNTIF(D$3:D$58,D45)) -> 3 | R45: =IF(COUNTIF(D$4:D45,D45)=1,D45,"") | T45: =IF(R45="","",1)
C46: 387626 | D46: Bram Volleberg | E46: 0.303 | F46: 0.303 | G46: 0.303 | H46: 16 | I46: 0 | J46: 17 | M46: Driebanden | P46: =IF(D46="","",COUNTIF(D$3:D$58,D46)) -> 4 | R46: =IF(COUNTIF(D$4:D46,D46)=1,D46,"") | T46: =IF(R46="","",1)
C47: 275459 | D47: Sjaak Geurts | E47: 0.281 | F47: 0.281 | G47: 0.281 | H47: 15 | I47: 0 | J47: 17 | M47: Driebanden | P47: =IF(D47="","",COUNTIF(D$3:D$58,D47)) -> 3 | R47: =IF(COUNTIF(D$4:D47,D47)=1,D47,"") | T47: =IF(R47="","",1)
P48: =IF(D48="","",COUNTIF(D$3:D$58,D48)) | R48: =IF(COUNTIF(D$4:D48,D48)=1,D48,"") | T48: =IF(R48="","",1)
A49: B2 | B49: De Sport 1 | C49: 220727 | D49: Miel Brueren | E49: 0.716 | F49: 0.716 | G49: 0.716 | H49: 35 | I49: 0 | J49: 37 | M49: Driebanden | P49: =IF(D49="","",COUNTIF(D$3:D$58,D49)) -> 2 | R49: =IF(COUNTIF(D$4:D49,D49)=1,D49,"") | T49: =IF(R49="","",1)
C50: 275456 | D50: Ron Vermazeren | E50: 0.545 | F50: 0.545 | G50: 0.545 | H50: 27 | I50: 0 | J50: 29 | M50: Driebanden | P50: =IF(D50="","",COUNTIF(D$3:D$58,D50)) -> 3 | R50: =IF(COUNTIF(D$4:D50,D50)=1,D50,"") | T50: =IF(R50="","",1)
C51: 182235 | D51: Tony Erkens | E51: 0.455 | F51: 0.455 | G51: 0.455 | H51: 23 | I51: 0 | J51: 25 | M51: Driebanden | P51: =IF(D51="","",COUNTIF(D$3:D$58,D51)) -> 4 | R51: =IF(COUNTIF(D$4:D51,D51)=1,D51,"") | T51: =IF(R51="","",1)
C52: 150541 | D52: Ger van Leuven | E52: 0.429 | F52: 0.429 | G52: 0.429 | H52: 22 | I52: 0 | J52: 23 | M52: Driebanden | P52: =IF(D52="","",COUNTIF(D$3:D$58,D52)) -> 5 | R52: =IF(COUNTIF(D$4:D52,D52)=1,D52,"") | T52: =IF(R52="","",1)
C53: 178435 | D53: Herman Kuijpers | E53: 0.405 | F53: 0.405 | G53: 0.405 | H53: 21 | I53: 0 | J53: 22 | M53: Driebanden | P53: =IF(D53="","",COUNTIF(D$3:D$58,D53)) -> 3 | R53: =IF(COUNTIF(D$4:D53,D53)=1,D53,"") | T53: =IF(R53="","",1)
C54: 178434 | D54: Henk Martens | E54: 0.402 | F54: 0.402 | G54: 0.402 | H54: 21 | I54: 0 | J54: 22 | M54: Driebanden | P54: =IF(D54="","",COUNTIF(D$3:D$58,D54)) -> 5 | R54: =IF(COUNTIF(D$4:D54,D54)=1,D54,"") | T54: =IF(R54="","",1)
C55: 130483 | D55: Frans van den Hombergh | E55: 0.397 | F55: 0.397 | G55: 0.397 | H55: 20 | I55: 0 | J55: 21 | M55: Driebanden | P55: =IF(D55="","",COUNTIF(D$3:D$58,D55)) -> 5 | R55: =IF(COUNTIF(D$4:D55,D55)=1,D55,"") | T55: =IF(R55="","",1)
C56: 275457 | D56: Frits Geenen | E56: 0.329 | F56: 0.329 | G56: 0.329 | H56: 17 | I56: 0 | J56: 18 | M56: Driebanden | P56: =IF(D56="","",COUNTIF(D$3:D$58,D56)) -> 3 | R56: =IF(COUNTIF(D$4:D56,D56)=1,D56,"") | T56: =IF(R56="","",1)
C57: 387626 | D57: Bram Volleberg | E57: 0.303 | F57: 0.303 | G57: 0.303 | H57: 16 | I57: 0 | J57: 17 | M57: Driebanden | P57: =IF(D57="","",COUNTIF(D$3:D$58,D57)) -> 4 | R57: =IF(COUNTIF(D$4:D57,D57)=1,D57,"") | T57: =IF(R57="","",1)
C58: 275459 | D58: Sjaak Geurts | E58: 0.281 | F58: 0.281 | G58: 0.281 | H58: 15 | I58: 0 | J58: 17 | M58: Driebanden | P58: =IF(D58="","",COUNTIF(D$3:D$58,D58)) -> 3 | R58: =IF(COUNTIF(D$4:D58,D58)=1,D58,"") | T58: =IF(R58="","",1)

Sheet VBBeo
A1: VBBeo 2026-2027
A2: Spelers | C2: kopiëren vanaf groene cellen inschrijvingsformulieren (met PsW)
A3: 233
C4: tussen- | E4: Libre | G4: Driebanden
A5: afk | B5: achternaam | C5: voegsel | D5: roepnaam | E5: gem | F5: N | G5: gem | H5: N
A6: pum | B6: Aken | C6: v. | D6: Ben | E6: 2.24
A7: pum | B7: Bloemen | C7: v.d. | D7: Sjraar | E7: 0.98
A8: pum | B8: Bouten | D8: Fred | E8: 0.74
A9: pum | B9: Frencken | D9: Toon | E9: 2.39
A10: pum | B10: Jacobs | D10: Daniël | E10: 1.82
A11: pum | B11: Kazenbroot | D11: Wout | E11: 1.3 | F11: N
A12: pum | B12: Kessels | D12: Ben | E12: 1.24
A13: pum | B13: Klij | D13: Ton | E13: 2.07 | F13: N
A14: pum | B14: Steegh | D14: Maikel | E14: 1.15
A15: pum | B15: Zwiggelaar | D15: Karel | E15: 1.6
A16: vel | B16: Bol | D16: Mark | E16: 1.12
A17: vel | B17: Bouten | D17: Rob | E17: 1.62
A18: vel | B18: Brueren | D18: Leo | E18: 1.02
A19: vel | B19: Crooijmans | D19: Paul | E19: 1.64 | F19: N
A20: vel | B20: Eikelenberg | D20: Hans | E20: 2.17
A21: vel | B21: Heesch | C21: v. | D21: Rob | E21: 2.5
A22: vel | B22: Kuijpers | D22: Theo | E22: 0.85
A23: vel | B23: Litjens | D23: Frans | E23: 1.11 | F23: N
A24: vel | B24: Lucassen | D24: Lambert | E24: 0.87
A25: vel | B25: Mooy | D25: Cees | E25: 1.19
A26: vel | B26: Paulus | D26: Albert | E26: 2.93
A27: vel | B27: Peters | D27: Henk | E27: 0.99
A28: vel | B28: Steegh | D28: Frank | E28: 0.5 | F28: N
A29: vel | B29: Teunissen | D29: Jéro | E29: 1.99 | F29: N
A30: vel | B30: Thiesen | D30: Erik | E30: 1.57
A31: vel | B31: Venne | C31: v.d. | D31: Ron | E31: 1.15
A32: vel | B32: Zandt | C32: in 't | D32: Dion | E32: 2.49
A33: ven | B33: Cleef | C33: v. | D33: André | E33: 1.61
A34: ven | B34: Cleef | C34: v. | D34: Daniël | E34: 1.87
A35: ven | B35: Cleef | C35: v. | D35: Jan | E35: 1.36
A36: ven | B36: Driessen | D36: Berend | E36: 1.55 | F36: N
A37: ven | B37: Frits | D37: Jules | E37: 1.98 | F37: N
A38: ven | B38: Jacobs | D38: John | E38: 1.69
A39: ven | B39: Verleysdonk | D39: Angela | E39: 1.37
A40: wit | B40: Driessen | D40: Ron | E40: 0.93 | F40: N
A41: wit | B41: Heijnen | D41: Ron | E41: 0.78 | F41: N
A42: wit | B42: Hendrick | D42: Martien | E42: 0.84 | F42: N
A43: wit | B43: Hombergh | C43: v.d. | D43: Hans | E43: 4.96
A44: wit | B44: Huijs | D44: René | E44: 0.78 | F44: N
A45: wit | B45: Janssen | D45: Piet | E45: 1.05 | F45: N
A46: wit | B46: Kessels | D46: René | E46: 1.33
A47: wit | B47: Kusters | D47: Ruud | E47: 0.52 | F47: N
A48: wit | B48: Loo | C48: v.d. | D48: Wim | E48: 0.96
A49: wit | B49: Martens | D49: Hans | E49: 0.99 | F49: N
A50: wit | B50: Peters | D50: Peter | E50: 0.84
A51: wit | B51: Pingen | D51: Leo | E51: 1.44
A52: wit | B52: Reijmer | D52: Nol | E52: 1.11
A53: wit | B53: Weijs | D53: Frank | E53: 1.44 | F53: N
A54: wit | B54: Wijlick | C54: v. | D54: Jos | E54: 1.92
A55: wit | B55: Zandt | C55: in 't | D55: Hay | E55: 1.33
F175: Aantallen teams, spelers
F178: aln | G178: 6
F179: ber | G179: 6
F180: boo | G180: 8
F181: cob | G181: 5
F182: ege | G182: 6
F183: get | G183: 6
F184: gla | G184: 6
F185: haz | G185: 10
F186: hel | G186: 5
F187: hob | G187: 12
F188: kei | G188: 9
F189: lea | G189: 10
... F198: wit | G198: 16
H209: deelfactor

Sheet TT-spelers 2025-2026
A1: Verzamelde gegevens 2018 t/m 2026 | S1: !!!!!!!!!!!!!!!!!!!!!!!!!!!!!!!!!!!!! | T1: !!!!!!!!!! | U1: !!!!!!!!!! | W1: !!!!!!!!!! | AF1: 4 | AG1: 7 | AH1: 10 | AI1: 13 | AJ1: 3 | AK1: 6 | AL1: 9 | AM1: 12 | BH1: 30 | BI1: 30 | BJ1: 50 | BK1: 17 | CC1: 2 | CD1: 6 | CE1: =CC1+1 -> 3 | CF1: =CD1+1 -> 7 | CG1: =CE1+1 -> 4 | CH1: =CF1+1 -> 8 | CI1: =CG1+1 -> 5 | CJ1: =CH1+1 -> 9
S2: Hotel Café de Sport teamtoernooi 2025-2026 | AD2: gemiddelden ophalen | AF2: aantal | AQ2: externe gemiddelden | AU2: afgeleide gemiddelden | AY2: te spelen gemiddelden | BC2: teamindelingen | BH2: te maken caramboles | BM2: sorteren | BR2: spelerslijst 2026-2027 | CB2: verzamelde gegevens van de spelerslijst 2026-2027
A3: sorteren: P | C3: 9001 - 9999: afgemeld | E3: max | AD3: uit verzamelde gegevens | AF3: gespeelde | AJ3: gespeelde | AU3: uit externe gemiddelden | BH3: uit te spelen gemiddelden | BM3: code = 100*s.nr + T
A4: dubbel: rood | C4: 8001 - 9000: beschikbaar | E4: 1 | F4: 2 | I4: 2 | L4: 3 | O4: 2 | S4: Spelerslijst | AF4: TT-partijen | AJ4: TT-gemiddelden | AQ4: VBBeo | AR4: KNBB | AS4: KNBB | BM4: =COUNT(BH6:BH105) -> 59 | CD4: Libre | CF4: Band | CH4: Drieb | CJ4: Rood
A5: nr | B5: leider | C5: prt | E5: dubbel | F5: Lgem | G5: Lprt | I5: Bgem | J5: Bprt | L5: Dgem | M5: Dprt | O5: Rgem | P5: Rprt | S5: team / reserve | T5: t.nr | U5: s.nr | X5: Libre | Y5: Band | Z5: Drieb | AA5: Rood | AD5: # | AF5: Lprt | AG5: Bprt | AH5: Dprt | AI5: Rprt | AJ5: Lgem | AK5: Bgem | AL5: Dgem | AM5: Rgem | AO5: <4 | AQ5: Lgem | AR5: Lgem | AS5: Dgem | AU5: Lgem | AV5: Bgem | AW5: Dgem | AY5: Lgem | AZ5: Bgem | BA5: Dgem | BC5: team/reserve | BD5: t.nr | BE5: s.nr | BF5: naam | BH5: Libre | BI5: Band | BJ5: Drieb | BK5: Rood | BL5: T | BM5: code | BN5: <code | BO5: s.nr | BP5: T | BW5: Libre | BX5: Band | BY5: Drieb | BZ5: Rood | CC5: prt | CD5: gem | CE5: prt | CF5: gem | CG5: prt | CH5: gem | CI5: prt | CJ5: gem
A6: 1101 | C6: 41 | D6: Hans Eikelenberg | E6: 1 | F6: 2.18 | G6: 10 | I6: 1.39 | J6: 11 | L6: 0.397 | M6: 14 | O6: 1.16 | P6: 6 | S6: 't Pumpke 1 | T6: 11 | U6: 111 | V6: Ben v. Aken | W6: L | X6: 67 | Y6: 37 | Z6: 18 | AA6: 38 | AD6: =IF(V6="","",COUNTIF(D$6:D$105,V6)) -> 1 | AE6: =IF(V6="","",V6) -> Ben v. Aken | AF6: =IF($AD6=1,VLOOKUP($AE6,$D$6:$P$105,AF$1,FALSE),0) -> 3 | AG6: =IF($AD6=1,VLOOKUP($AE6,$D$6:$P$105,AG$1,FALSE),0) -> 3 | AH6: =IF($AD6=1,VLOOKUP($AE6,$D$6:$P$105,AH$1,FALSE),0) -> 2 | AI6: =IF($AD6=1,VLOOKUP($AE6,$D$6:$P$105,AI$1,FALSE),0) -> 1 | AJ6: =IF(AF6=0,"",VLOOKUP($AE6,$D$6:$P105,AJ$1,FALSE)) -> 2.52 | AK6: =IF(AG6=0,"",VLOOKUP($AE6,$D$6:$P105,AK$1,FALSE)) -> 1 | AL6: =IF(AH6=0,"",VLOOKUP($AE6,$D$6:$P105,AL$1,FALSE)) -> 0.387 | AM6: =IF(AI6=0,"",VLOOKUP($AE6,$D$6:$P105,AM$1,FALSE)) -> 0.85 | AO6: =IF(AE6="","",IF(COUNT(AJ6:AM6)=4,"",IF(COUNT(AQ6:AS6)>0,"","x"))) | AU6: =IF(COUNT(AQ6:AR6)>0,SUM(AQ6:AR6),IF(AS6="","",ROUND((50*AS6-5)/6,2))) | AV6: =IF(AU6="","",ROUND((12*AU6+10)/30,2)) | AW6: =IF(AU6="","",ROUND((6*AU6+5)/50,3)) | AY6: =IF(AJ6="",AU6,AJ6) -> 2.52 | AZ6: =IF(AK6="",AV6,AK6) -> 1 | BA6: =IF(AL6="",AW6,AL6) -> 0.387 | BC6: 't Pumpke 1 | BD6: 11 | BE6: 111 | BF6: Ben v. Aken | BG6: L | BH6: =IF(AY6="","",ROUND(BH$1*AY6,0)) -> 76 | BI6: =IF(AZ6="","",ROUND(BI$1*AZ6,0)) -> 30 | BJ6: =IF(BA6="","",ROUND(BJ$1*BA6,0)) -> 19 | BK6: =IF(AY6="","",ROUND(BK$1*AY6,0)) -> 43 | BL6: 1 | BM6: =IF(BL6>BM$4,"",100*BE6+BL6) -> 11101 | BN6: =IF(BM6="","",SMALL(BM$6:BM$105,BL6)) -> 11101 | BO6: =IF(BN6="","",INT(BN6/100)) -> 111 | BP6: =IF(BN6="","",BN6-100*BO6) -> 1 | BR6: {=IF($BP6="","",IF(INDEX(BC$6:BC$105,$BP6,1)="","",INDEX(BC$6:BC$105,$BP6,1)))} -> 't Pumpke 1 | BS6: {=IF($BP6="","",IF(INDEX(BD$6:BD$105,$BP6,1)="","",INDEX(BD$6:BD$105,$BP6,1)))} -> 11 | BT6: {=IF($BP6="","",IF(INDEX(BE$6:BE$105,$BP6,1)="","",INDEX(BE$6:BE$105,$BP6,1)))} -> 111 | BU6: {=IF($BP6="","",IF(INDEX(BF$6:BF$105,$BP6,1)="","",INDEX(BF$6:BF$105,$BP6,1)))} -> Ben v. Aken | BV6: {=IF($BP6="","",IF(INDEX(BG$6:BG$105,$BP6,1)="","",INDEX(BG$6:BG$105,$BP6,1)))} -> L | BW6: {=IF($BP6="","",IF(INDEX(BH$6:BH$105,$BP6,1)="","",INDEX(BH$6:BH$105,$BP6,1)))} -> 76 | BX6: {=IF($BP6="","",IF(INDEX(BI$6:BI$105,$BP6,1)="","",INDEX(BI$6:BI$105,$BP6,1)))} -> 30 | BY6: {=IF($BP6="","",IF(INDEX(BJ$6:BJ$105,$BP6,1)="","",INDEX(BJ$6:BJ$105,$BP6,1)))} -> 19 | BZ6: {=IF($BP6="","",IF(INDEX(BK$6:BK$105,$BP6,1)="","",INDEX(BK$6:BK$105,$BP6,1)))} -> 43 | CB6: =IF(BU6="","",BU6) -> Ben v. Aken | CC6: =IF($CB6="","",VLOOKUP($CB6,$AE$6:$AM$105,CC$1,FALSE)) -> 3 | CD6: =IF($CB6="","",VLOOKUP($CB6,$AE$6:$AM$105,CD$1,FALSE)) -> 2.52 | CE6: =IF($CB6="","",VLOOKUP($CB6,$AE$6:$AM$105,CE$1,FALSE)) -> 3 | CF6: =IF($CB6="","",VLOOKUP($CB6,$AE$6:$AM$105,CF$1,FALSE)) -> 1 | CG6: =IF($CB6="","",VLOOKUP($CB6,$AE$6:$AM$105,CG$1,FALSE)) -> 2 | CH6: =IF($CB6="","",VLOOKUP($CB6,$AE$6:$AM$105,CH$1,FALSE)) -> 0.387 | CI6: =IF($CB6="","",VLOOKUP($CB6,$AE$6:$AM$105,CI$1,FALSE)) -> 1 | CJ6: =IF($CB6="","",VLOOKUP($CB6,$AE$6:$AM$105,CJ$1,FALSE)) -> 0.85
A7: 1102 | B7: L | C7: 42 | D7: Albert Paulus | E7: 1 | F7: 2.42 | G7: 9 | I7: 1.73 | J7: 12 | L7: 0.536 | M7: 16 | O7: 1.29 | P7: 5 | U7: 112 | V7: Toon Frencken | X7: 64 | Y7: 35 | Z7: 18 | AA7: 36 | AD7: =IF(V7="","",COUNTIF(D$6:D$105,V7)) -> 1 | AE7: =IF(V7="","",V7) -> Toon Frencken | AF7: =IF($AD7=1,VLOOKUP($AE7,$D$6:$P$105,AF$1,FALSE),0) -> 2 | AG7: =IF($AD7=1,VLOOKUP($AE7,$D$6:$P$105,AG$1,FALSE),0) -> 2 | AH7: =IF($AD7=1,VLOOKUP($AE7,$D$6:$P$105,AH$1,FALSE),0) -> 3 | AI7: =IF($AD7=1,VLOOKUP($AE7,$D$6:$P$105,AI$1,FALSE),0) -> 2 | AJ7: =IF(AF7=0,"",VLOOKUP($AE7,$D$6:$P106,AJ$1,FALSE)) -> 3.05 | AK7: =IF(AG7=0,"",VLOOKUP($AE7,$D$6:$P106,AK$1,FALSE)) -> 1.19 | AL7: =IF(AH7=0,"",VLOOKUP($AE7,$D$6:$P106,AL$1,FALSE)) -> 0.345 | AM7: =IF(AI7=0,"",VLOOKUP($AE7,$D$6:$P106,AM$1,FALSE)) -> 1.19 | AO7: =IF(AE7="","",IF(COUNT(AJ7:AM7)=4,"",IF(COUNT(AQ7:AS7)>0,"","x"))) | AU7: =IF(COUNT(AQ7:AR7)>0,SUM(AQ7:AR7),IF(AS7="","",ROUND((50*AS7-5)/6,2))) | AV7: =IF(AU7="","",ROUND((12*AU7+10)/30,2)) | AW7: =IF(AU7="","",ROUND((6*AU7+5)/50,3)) | AY7: =IF(AJ7="",AU7,AJ7) -> 3.05 | AZ7: =IF(AK7="",AV7,AK7) -> 1.19 | BA7: =IF(AL7="",AW7,AL7) -> 0.345 | BE7: 112 | BF7: Toon Frencken | BH7: =IF(AY7="","",ROUND(BH$1*AY7,0)) -> 92 | BI7: =IF(AZ7="","",ROUND(BI$1*AZ7,0)) -> 36 | BJ7: =IF(BA7="","",ROUND(BJ$1*BA7,0)) -> 17 | BK7: =IF(AY7="","",ROUND(BK$1*AY7,0)) -> 52 | BL7: 2 | BM7: =IF(BL7>BM$4,"",100*BE7+BL7) -> 11202 | BN7: =IF(BM7="","",SMALL(BM$6:BM$105,BL7)) -> 11202 | BO7: =IF(BN7="","",INT(BN7/100)) -> 112 | BP7: =IF(BN7="","",BN7-100*BO7) -> 2 | BR7: {=IF($BP7="","",IF(INDEX(BC$6:BC$105,$BP7,1)="","",INDEX(BC$6:BC$105,$BP7,1)))} | BS7: {=IF($BP7="","",IF(INDEX(BD$6:BD$105,$BP7,1)="","",INDEX(BD$6:BD$105,$BP7,1)))} | BT7: {=IF($BP7="","",IF(INDEX(BE$6:BE$105,$BP7,1)="","",INDEX(BE$6:BE$105,$BP7,1)))} -> 112 | BU7: {=IF($BP7="","",IF(INDEX(BF$6:BF$105,$BP7,1)="","",INDEX(BF$6:BF$105,$BP7,1)))} -> Toon Frencken | BV7: {=IF($BP7="","",IF(INDEX(BG$6:BG$105,$BP7,1)="","",INDEX(BG$6:BG$105,$BP7,1)))} | BW7: {=IF($BP7="","",IF(INDEX(BH$6:BH$105,$BP7,1)="","",INDEX(BH$6:BH$105,$BP7,1)))} -> 92 | BX7: {=IF($BP7="","",IF(INDEX(BI$6:BI$105,$BP7,1)="","",INDEX(BI$6:BI$105,$BP7,1)))} -> 36 | BY7: {=IF($BP7="","",IF(INDEX(BJ$6:BJ$105,$BP7,1)="","",INDEX(BJ$6:BJ$105,$BP7,1)))} -> 17 | BZ7: {=IF($BP7="","",IF(INDEX(BK$6:BK$105,$BP7,1)="","",INDEX(BK$6:BK$105,$BP7,1)))} -> 52 | CB7: =IF(BU7="","",BU7) -> Toon Frencken | CC7: =IF($CB7="","",VLOOKUP($CB7,$AE$6:$AM$105,CC$1,FALSE)) -> 2 | CD7: =IF($CB7="","",VLOOKUP($CB7,$AE$6:$AM$105,CD$1,FALSE)) -> 3.05 | CE7: =IF($CB7="","",VLOOKUP($CB7,$AE$6:$AM$105,CE$1,FALSE)) -> 2 | CF7: =IF($CB7="","",VLOOKUP($CB7,$AE$6:$AM$105,CF$1,FALSE)) -> 1.19 | CG7: =IF($CB7="","",VLOOKUP($CB7,$AE$6:$AM$105,CG$1,FALSE)) -> 3 | CH7: =IF($CB7="","",VLOOKUP($CB7,$AE$6:$AM$105,CH$1,FALSE)) -> 0.345 | CI7: =IF($CB7="","",VLOOKUP($CB7,$AE$6:$AM$105,CI$1,FALSE)) -> 2 | CJ7: =IF($CB7="","",VLOOKUP($CB7,$AE$6:$AM$105,CJ$1,FALSE)) -> 1.19
A8: 1104 | C8: 28 | D8: Henk Peters | E8: 1 | F8: 0.98 | G8: 13 | I8: 0.56 | J8: 6 | L8: 0.145 | M8: 3 | O8: 0.71 | P8: 6 | U8: 113 | V8: Daniël Jacobs | X8: 53 | Y8: 31 | Z8: 16 | AA8: 30 | AD8: =IF(V8="","",COUNTIF(D$6:D$105,V8)) -> 1 | AE8: =IF(V8="","",V8) -> Daniël Jacobs | AF8: =IF($AD8=1,VLOOKUP($AE8,$D$6:$P$105,AF$1,FALSE),0) -> 2 | AG8: =IF($AD8=1,VLOOKUP($AE8,$D$6:$P$105,AG$1,FALSE),0) -> 2 | AH8: =IF($AD8=1,VLOOKUP($AE8,$D$6:$P$105,AH$1,FALSE),0) -> 2 | AI8: =IF($AD8=1,VLOOKUP($AE8,$D$6:$P$105,AI$1,FALSE),0) -> 1 | AJ8: =IF(AF8=0,"",VLOOKUP($AE8,$D$6:$P107,AJ$1,FALSE)) -> 1.86 | AK8: =IF(AG8=0,"",VLOOKUP($AE8,$D$6:$P107,AK$1,FALSE)) -> 1.15 | AL8: =IF(AH8=0,"",VLOOKUP($AE8,$D$6:$P107,AL$1,FALSE)) -> 0.261 | AM8: =IF(AI8=0,"",VLOOKUP($AE8,$D$6:$P107,AM$1,FALSE)) -> 1.67 | AO8: =IF(AE8="","",IF(COUNT(AJ8:AM8)=4,"",IF(COUNT(AQ8:AS8)>0,"","x"))) | AU8: =IF(COUNT(AQ8:AR8)>0,SUM(AQ8:AR8),IF(AS8="","",ROUND((50*AS8-5)/6,2))) | AV8: =IF(AU8="","",ROUND((12*AU8+10)/30,2)) | AW8: =IF(AU8="","",ROUND((6*AU8+5)/50,3)) | AY8: =IF(AJ8="",AU8,AJ8) -> 1.86 | AZ8: =IF(AK8="",AV8,AK8) -> 1.15 | BA8: =IF(AL8="",AW8,AL8) -> 0.261 | BE8: 113 | BF8: Daniël Jacobs | BH8: =IF(AY8="","",ROUND(BH$1*AY8,0)) -> 56 | BI8: =IF(AZ8="","",ROUND(BI$1*AZ8,0)) -> 35 | BJ8: =IF(BA8="","",ROUND(BJ$1*BA8,0)) -> 13 | BK8: =IF(AY8="","",ROUND(BK$1*AY8,0)) -> 32 | BL8: 3 | BM8: =IF(BL8>BM$4,"",100*BE8+BL8) -> 11303 | BN8: =IF(BM8="","",SMALL(BM$6:BM$105,BL8)) -> 11303 | BO8: =IF(BN8="","",INT(BN8/100)) -> 113 | BP8: =IF(BN8="","",BN8-100*BO8) -> 3 | BR8: {=IF($BP8="","",IF(INDEX(BC$6:BC$105,$BP8,1)="","",INDEX(BC$6:BC$105,$BP8,1)))} | BS8: {=IF($BP8="","",IF(INDEX(BD$6:BD$105,$BP8,1)="","",INDEX(BD$6:BD$105,$BP8,1)))} | BT8: {=IF($BP8="","",IF(INDEX(BE$6:BE$105,$BP8,1)="","",INDEX(BE$6:BE$105,$BP8,1)))} -> 113 | BU8: {=IF($BP8="","",IF(INDEX(BF$6:BF$105,$BP8,1)="","",INDEX(BF$6:BF$105,$BP8,1)))} -> Daniël Jacobs | BV8: {=IF($BP8="","",IF(INDEX(BG$6:BG$105,$BP8,1)="","",INDEX(BG$6:BG$105,$BP8,1)))} | BW8: {=IF($BP8="","",IF(INDEX(BH$6:BH$105,$BP8,1)="","",INDEX(BH$6:BH$105,$BP8,1)))} -> 56 | BX8: {=IF($BP8="","",IF(INDEX(BI$6:BI$105,$BP8,1)="","",INDEX(BI$6:BI$105,$BP8,1)))} -> 35 | BY8: {=IF($BP8="","",IF(INDEX(BJ$6:BJ$105,$BP8,1)="","",INDEX(BJ$6:BJ$105,$BP8,1)))} -> 13 | BZ8: {=IF($BP8="","",IF(INDEX(BK$6:BK$105,$BP8,1)="","",INDEX(BK$6:BK$105,$BP8,1)))} -> 32 | CB8: =IF(BU8="","",BU8) -> Daniël Jacobs | CC8: =IF($CB8="","",VLOOKUP($CB8,$AE$6:$AM$105,CC$1,FALSE)) -> 2 | CD8: =IF($CB8="","",VLOOKUP($CB8,$AE$6:$AM$105,CD$1,FALSE)) -> 1.86 | CE8: =IF($CB8="","",VLOOKUP($CB8,$AE$6:$AM$105,CE$1,FALSE)) -> 2 | CF8: =IF($CB8="","",VLOOKUP($CB8,$AE$6:$AM$105,CF$1,FALSE)) -> 1.15 | CG8: =IF($CB8="","",VLOOKUP($CB8,$AE$6:$AM$105,CG$1,FALSE)) -> 2 | CH8: =IF($CB8="","",VLOOKUP($CB8,$AE$6:$AM$105,CH$1,FALSE)) -> 0.261 | CI8: =IF($CB8="","",VLOOKUP($CB8,$AE$6:$AM$105,CI$1,FALSE)) -> 1 | CJ8: =IF($CB8="","",VLOOKUP($CB8,$AE$6:$AM$105,CJ$1,FALSE)) -> 1.67
A9: 1201 | C9: 31 | D9: Rob Bouten | E9: 1 | F9: 1.41 | G9: 8 | I9: 0.97 | J9: 8 | L9: 0.366 | M9: 11 | O9: 1.05 | P9: 4 | U9: 114 | V9: Maikel Steegh | X9: 34 | Y9: 24 | Z9: 12 | AA9: 19 | AD9: =IF(V9="","",COUNTIF(D$6:D$105,V9)) -> 1 | AE9: =IF(V9="","",V9) -> Maikel Steegh | AF9: =IF($AD9=1,VLOOKUP($AE9,$D$6:$P$105,AF$1,FALSE),0) -> 1 | AG9: =IF($AD9=1,VLOOKUP($AE9,$D$6:$P$105,AG$1,FALSE),0) -> 1 | AH9: =IF($AD9=1,VLOOKUP($AE9,$D$6:$P$105,AH$1,FALSE),0) -> 1 | AI9: =IF($AD9=1,VLOOKUP($AE9,$D$6:$P$105,AI$1,FALSE),0) -> 4 | AJ9: =IF(AF9=0,"",VLOOKUP($AE9,$D$6:$P108,AJ$1,FALSE)) -> 1.17 | AK9: =IF(AG9=0,"",VLOOKUP($AE9,$D$6:$P108,AK$1,FALSE)) -> 0.92 | AL9: =IF(AH9=0,"",VLOOKUP($AE9,$D$6:$P108,AL$1,FALSE)) -> 0.19 | AM9: =IF(AI9=0,"",VLOOKUP($AE9,$D$6:$P108,AM$1,FALSE)) -> 0.71 | AO9: =IF(AE9="","",IF(COUNT(AJ9:AM9)=4,"",IF(COUNT(AQ9:AS9)>0,"","x"))) | AU9: =IF(COUNT(AQ9:AR9)>0,SUM(AQ9:AR9),IF(AS9="","",ROUND((50*AS9-5)/6,2))) | AV9: =IF(AU9="","",ROUND((12*AU9+10)/30,2)) | AW9: =IF(AU9="","",ROUND((6*AU9+5)/50,3)) | AY9: =IF(AJ9="",AU9,AJ9) -> 1.17 | AZ9: =IF(AK9="",AV9,AK9) -> 0.92 | BA9: =IF(AL9="",AW9,AL9) -> 0.19 | BE9: 114 | BF9: Maikel Steegh | BH9: =IF(AY9="","",ROUND(BH$1*AY9,0)) -> 35 | BI9: =IF(AZ9="","",ROUND(BI$1*AZ9,0)) -> 28 | BJ9: =IF(BA9="","",ROUND(BJ$1*BA9,0)) -> 10 | BK9: =IF(AY9="","",ROUND(BK$1*AY9,0)) -> 20 | BL9: 4 | BM9: =IF(BL9>BM$4,"",100*BE9+BL9) -> 11404 | BN9: =IF(BM9="","",SMALL(BM$6:BM$105,BL9)) -> 11404 | BO9: =IF(BN9="","",INT(BN9/100)) -> 114 | BP9: =IF(BN9="","",BN9-100*BO9) -> 4 | BR9: {=IF($BP9="","",IF(INDEX(BC$6:BC$105,$BP9,1)="","",INDEX(BC$6:BC$105,$BP9,1)))} | BS9: {=IF($BP9="","",IF(INDEX(BD$6:BD$105,$BP9,1)="","",INDEX(BD$6:BD$105,$BP9,1)))} | BT9: {=IF($BP9="","",IF(INDEX(BE$6:BE$105,$BP9,1)="","",INDEX(BE$6:BE$105,$BP9,1)))} -> 114 | BU9: {=IF($BP9="","",IF(INDEX(BF$6:BF$105,$BP9,1)="","",INDEX(BF$6:BF$105,$BP9,1)))} -> Maikel Steegh | BV9: {=IF($BP9="","",IF(INDEX(BG$6:BG$105,$BP9,1)="","",INDEX(BG$6:BG$105,$BP9,1)))} | BW9: {=IF($BP9="","",IF(INDEX(BH$6:BH$105,$BP9,1)="","",INDEX(BH$6:BH$105,$BP9,1)))} -> 35 | BX9: {=IF($BP9="","",IF(INDEX(BI$6:BI$105,$BP9,1)="","",INDEX(BI$6:BI$105,$BP9,1)))} -> 28 | BY9: {=IF($BP9="","",IF(INDEX(BJ$6:BJ$105,$BP9,1)="","",INDEX(BJ$6:BJ$105,$BP9,1)))} -> 10 | BZ9: {=IF($BP9="","",IF(INDEX(BK$6:BK$105,$BP9,1)="","",INDEX(BK$6:BK$105,$BP9,1)))} -> 20 | CB9: =IF(BU9="","",BU9) -> Maikel Steegh | CC9: =IF($CB9="","",VLOOKUP($CB9,$AE$6:$AM$105,CC$1,FALSE)) -> 1 | CD9: =IF($CB9="","",VLOOKUP($CB9,$AE$6:$AM$105,CD$1,FALSE)) -> 1.17 | CE9: =IF($CB9="","",VLOOKUP($CB9,$AE$6:$AM$105,CE$1,FALSE)) -> 1 | CF9: =IF($CB9="","",VLOOKUP($CB9,$AE$6:$AM$105,CF$1,FALSE)) -> 0.92 | CG9: =IF($CB9="","",VLOOKUP($CB9,$AE$6:$AM$105,CG$1,FALSE)) -> 1 | CH9: =IF($CB9="","",VLOOKUP($CB9,$AE$6:$AM$105,CH$1,FALSE)) -> 0.19 | CI9: =IF($CB9="","",VLOOKUP($CB9,$AE$6:$AM$105,CI$1,FALSE)) -> 4 | CJ9: =IF($CB9="","",VLOOKUP($CB9,$AE$6:$AM$105,CJ$1,FALSE)) -> 0.71
A10: 1202 | C10: 38 | D10: Erik Thiesen | E10: 1 | F10: 1.38 | G10: 7 | I10: 0.96 | J10: 15 | L10: 0.284 | M10: 10 | O10: 0.83 | P10: 6 | S10: De Sport 1 | T10: 21 | U10: 211 | V10: Tony Erkens | X10: 35 | Y10: 23 | Z10: 21 | AA10: 20 | AD10: =IF(V10="","",COUNTIF(D$6:D$105,V10)) -> 1 | AE10: =IF(V10="","",V10) -> Tony Erkens | AF10: =IF($AD10=1,VLOOKUP($AE10,$D$6:$P$105,AF$1,FALSE),0) -> 10 | AG10: =IF($AD10=1,VLOOKUP($AE10,$D$6:$P$105,AG$1,FALSE),0) -> 15 | AH10: =IF($AD10=1,VLOOKUP($AE10,$D$6:$P$105,AH$1,FALSE),0) -> 14 | AI10: =IF($AD10=1,VLOOKUP($AE10,$D$6:$P$105,AI$1,FALSE),0) -> 1 | AJ10: =IF(AF10=0,"",VLOOKUP($AE10,$D$6:$P109,AJ$1,FALSE)) -> 1.18 | AK10: =IF(AG10=0,"",VLOOKUP($AE10,$D$6:$P109,AK$1,FALSE)) -> 0.84 | AL10: =IF(AH10=0,"",VLOOKUP($AE10,$D$6:$P109,AL$1,FALSE)) -> 0.416 | AM10: =IF(AI10=0,"",VLOOKUP($AE10,$D$6:$P109,AM$1,FALSE)) -> 0.77 | AO10: =IF(AE10="","",IF(COUNT(AJ10:AM10)=4,"",IF(COUNT(AQ10:AS10)>0,"","x"))) | AU10: =IF(COUNT(AQ10:AR10)>0,SUM(AQ10:AR10),IF(AS10="","",ROUND((50*AS10-5)/6,2))) | AV10: =IF(AU10="","",ROUND((12*AU10+10)/30,2)) | AW10: =IF(AU10="","",ROUND((6*AU10+5)/50,3)) | AY10: =IF(AJ10="",AU10,AJ10) -> 1.18 | AZ10: =IF(AK10="",AV10,AK10) -> 0.84 | BA10: =IF(AL10="",AW10,AL10) -> 0.416 | BC10: De Sport 1 | BD10: 21 | BE10: 211 | BF10: Tony Erkens | BH10: =IF(AY10="","",ROUND(BH$1*AY10,0)) -> 35 | BI10: =IF(AZ10="","",ROUND(BI$1*AZ10,0)) -> 25 | BJ10: =IF(BA10="","",ROUND(BJ$1*BA10,0)) -> 21 | BK10: =IF(AY10="","",ROUND(BK$1*AY10,0)) -> 20 | BL10: 5 | BM10: =IF(BL10>BM$4,"",100*BE10+BL10) -> 21105 | BN10: =IF(BM10="","",SMALL(BM$6:BM$105,BL10)) -> 21105 | BO10: =IF(BN10="","",INT(BN10/100)) -> 211 | BP10: =IF(BN10="","",BN10-100*BO10) -> 5 | BR10: {=IF($BP10="","",IF(INDEX(BC$6:BC$105,$BP10,1)="","",INDEX(BC$6:BC$105,$BP10,1)))} -> De Sport 1 | BS10: {=IF($BP10="","",IF(INDEX(BD$6:BD$105,$BP10,1)="","",INDEX(BD$6:BD$105,$BP10,1)))} -> 21 | BT10: {=IF($BP10="","",IF(INDEX(BE$6:BE$105,$BP10,1)="","",INDEX(BE$6:BE$105,$BP10,1)))} -> 211 | BU10: {=IF($BP10="","",IF(INDEX(BF$6:BF$105,$BP10,1)="","",INDEX(BF$6:BF$105,$BP10,1)))} -> Tony Erkens | BV10: {=IF($BP10="","",IF(INDEX(BG$6:BG$105,$BP10,1)="","",INDEX(BG$6:BG$105,$BP10,1)))} | BW10: {=IF($BP10="","",IF(INDEX(BH$6:BH$105,$BP10,1)="","",INDEX(BH$6:BH$105,$BP10,1)))} -> 35 | BX10: {=IF($BP10="","",IF(INDEX(BI$6:BI$105,$BP10,1)="","",INDEX(BI$6:BI$105,$BP10,1)))} -> 25 | BY10: {=IF($BP10="","",IF(INDEX(BJ$6:BJ$105,$BP10,1)="","",INDEX(BJ$6:BJ$105,$BP10,1)))} -> 21 | BZ10: {=IF($BP10="","",IF(INDEX(BK$6:BK$105,$BP10,1)="","",INDEX(BK$6:BK$105,$BP10,1)))} -> 20 | CB10: =IF(BU10="","",BU10) -> Tony Erkens | CC10: =IF($CB10="","",VLOOKUP($CB10,$AE$6:$AM$105,CC$1,FALSE)) -> 10 | CD10: =IF($CB10="","",VLOOKUP($CB10,$AE$6:$AM$105,CD$1,FALSE)) -> 1.18 | CE10: =IF($CB10="","",VLOOKUP($CB10,$AE$6:$AM$105,CE$1,FALSE)) -> 15 | CF10: =IF($CB10="","",VLOOKUP($CB10,$AE$6:$AM$105,CF$1,FALSE)) -> 0.84 | CG10: =IF($CB10="","",VLOOKUP($CB10,$AE$6:$AM$105,CG$1,FALSE)) -> 14 | CH10: =IF($CB10="","",VLOOKUP($CB10,$AE$6:$AM$105,CH$1,FALSE)) -> 0.416 | CI10: =IF($CB10="","",VLOOKUP($CB10,$AE$6:$AM$105,CI$1,FALSE)) -> 1 | CJ10: =IF($CB10="","",VLOOKUP($CB10,$AE$6:$AM$105,CJ$1,FALSE)) -> 0.77
A11: 1203 | C11: 29 | D11: Ron v.d. Venne | E11: 1 | F11: 1.24 | G11: 13 | I11: 0.66 | J11: 8 | L11: 0.215 | M11: 6 | O11: 0.61 | P11: 2 | U11: 212 | V11: John Hankel | X11: 68 | Y11: 39 | Z11: 32 | AA11: 38 | AD11: =IF(V11="","",COUNTIF(D$6:D$105,V11)) -> 1 | AE11: =IF(V11="","",V11) -> John Hankel | AF11: =IF($AD11=1,VLOOKUP($AE11,$D$6:$P$105,AF$1,FALSE),0) -> 15 | AG11: =IF($AD11=1,VLOOKUP($AE11,$D$6:$P$105,AG$1,FALSE),0) -> 9 | AH11: =IF($AD11=1,VLOOKUP($AE11,$D$6:$P$105,AH$1,FALSE),0) -> 8 | AI11: =IF($AD11=1,VLOOKUP($AE11,$D$6:$P$105,AI$1,FALSE),0) -> 9 | AJ11: =IF(AF11=0,"",VLOOKUP($AE11,$D$6:$P110,AJ$1,FALSE)) -> 2.29 | AK11: =IF(AG11=0,"",VLOOKUP($AE11,$D$6:$P110,AK$1,FALSE)) -> 1.3 | AL11: =IF(AH11=0,"",VLOOKUP($AE11,$D$6:$P110,AL$1,FALSE)) -> 0.563 | AM11: =IF(AI11=0,"",VLOOKUP($AE11,$D$6:$P110,AM$1,FALSE)) -> 1.59 | AO11: =IF(AE11="","",IF(COUNT(AJ11:AM11)=4,"",IF(COUNT(AQ11:AS11)>0,"","x"))) | AU11: =IF(COUNT(AQ11:AR11)>0,SUM(AQ11:AR11),IF(AS11="","",ROUND((50*AS11-5)/6,2))) | AV11: =IF(AU11="","",ROUND((12*AU11+10)/30,2)) | AW11: =IF(AU11="","",ROUND((6*AU11+5)/50,3)) | AY11: =IF(AJ11="",AU11,AJ11) -> 2.29 | AZ11: =IF(AK11="",AV11,AK11) -> 1.3 | BA11: =IF(AL11="",AW11,AL11) -> 0.563 | BE11: 212 | BF11: John Hankel | BH11: =IF(AY11="","",ROUND(BH$1*AY11,0)) -> 69 | BI11: =IF(AZ11="","",ROUND(BI$1*AZ11,0)) -> 39 | BJ11: =IF(BA11="","",ROUND(BJ$1*BA11,0)) -> 28 | BK11: =IF(AY11="","",ROUND(BK$1*AY11,0)) -> 39 | BL11: 6 | BM11: =IF(BL11>BM$4,"",100*BE11+BL11) -> 21206 | BN11: =IF(BM11="","",SMALL(BM$6:BM$105,BL11)) -> 21206 | BO11: =IF(BN11="","",INT(BN11/100)) -> 212 | BP11: =IF(BN11="","",BN11-100*BO11) -> 6 | BR11: {=IF($BP11="","",IF(INDEX(BC$6:BC$105,$BP11,1)="","",INDEX(BC$6:BC$105,$BP11,1)))} | BS11: {=IF($BP11="","",IF(INDEX(BD$6:BD$105,$BP11,1)="","",INDEX(BD$6:BD$105,$BP11,1)))} | BT11: {=IF($BP11="","",IF(INDEX(BE$6:BE$105,$BP11,1)="","",INDEX(BE$6:BE$105,$BP11,1)))} -> 212 | BU11: {=IF($BP11="","",IF(INDEX(BF$6:BF$105,$BP11,1)="","",INDEX(BF$6:BF$105,$BP11,1)))} -> John Hankel | BV11: {=IF($BP11="","",IF(INDEX(BG$6:BG$105,$BP11,1)="","",INDEX(BG$6:BG$105,$BP11,1)))} | BW11: {=IF($BP11="","",IF(INDEX(BH$6:BH$105,$BP11,1)="","",INDEX(BH$6:BH$105,$BP11,1)))} -> 69 | BX11: {=IF($BP11="","",IF(INDEX(BI$6:BI$105,$BP11,1)="","",INDEX(BI$6:BI$105,$BP11,1)))} -> 39 | BY11: {=IF($BP11="","",IF(INDEX(BJ$6:BJ$105,$BP11,1)="","",INDEX(BJ$6:BJ$105,$BP11,1)))} -> 28 | BZ11: {=IF($BP11="","",IF(INDEX(BK$6:BK$105,$BP11,1)="","",INDEX(BK$6:BK$105,$BP11,1)))} -> 39 | CB11: =IF(BU11="","",BU11) -> John Hankel | CC11: =IF($CB11="","",VLOOKUP($CB11,$AE$6:$AM$105,CC$1,FALSE)) -> 15 | CD11: =IF($CB11="","",VLOOKUP($CB11,$AE$6:$AM$105,CD$1,FALSE)) -> 2.29 | CE11: =IF($CB11="","",VLOOKUP($CB11,$AE$6:$AM$105,CE$1,FALSE)) -> 9 | CF11: =IF($CB11="","",VLOOKUP($CB11,$AE$6:$AM$105,CF$1,FALSE)) -> 1.3 | CG11: =IF($CB11="","",VLOOKUP($CB11,$AE$6:$AM$105,CG$1,FALSE)) -> 8 | CH11: =IF($CB11="","",VLOOKUP($CB11,$AE$6:$AM$105,CH$1,FALSE)) -> 0.563 | CI11: =IF($CB11="","",VLOOKUP($CB11,$AE$6:$AM$105,CI$1,FALSE)) -> 9 | CJ11: =IF($CB11="","",VLOOKUP($CB11,$AE$6:$AM$105,CJ$1,FALSE)) -> 1.59
A12: 1204 | B12: L | C12: 34 | D12: Dion in 't Zandt | E12: 1 | F12: 1.94 | G12: 8 | I12: 1.24 | J12: 9 | L12: 0.377 | M12: 8 | O12: 1.05 | P12: 9 | U12: 213 | V12: Bjorn Timmermans | W12: L | X12: 73 | Y12: 54 | Z12: 40 | AA12: 41 | AD12: =IF(V12="","",COUNTIF(D$6:D$105,V12)) -> 1 | AE12: =IF(V12="","",V12) -> Bjorn Timmermans | AF12: =IF($AD12=1,VLOOKUP($AE12,$D$6:$P$105,AF$1,FALSE),0) -> 12 | AG12: =IF($AD12=1,VLOOKUP($AE12,$D$6:$P$105,AG$1,FALSE),0) -> 6 | AH12: =IF($AD12=1,VLOOKUP($AE12,$D$6:$P$105,AH$1,FALSE),0) -> 17 | AI12: =IF($AD12=1,VLOOKUP($AE12,$D$6:$P$105,AI$1,FALSE),0) -> 4 | AJ12: =IF(AF12=0,"",VLOOKUP($AE12,$D$6:$P111,AJ$1,FALSE)) -> 2.54 | AK12: =IF(AG12=0,"",VLOOKUP($AE12,$D$6:$P111,AK$1,FALSE)) -> 1.8 | AL12: =IF(AH12=0,"",VLOOKUP($AE12,$D$6:$P111,AL$1,FALSE)) -> 0.775 | AM12: =IF(AI12=0,"",VLOOKUP($AE12,$D$6:$P111,AM$1,FALSE)) -> 1.2 | AO12: =IF(AE12="","",IF(COUNT(AJ12:AM12)=4,"",IF(COUNT(AQ12:AS12)>0,"","x"))) | AU12: =IF(COUNT(AQ12:AR12)>0,SUM(AQ12:AR12),IF(AS12="","",ROUND((50*AS12-5)/6,2))) | AV12: =IF(AU12="","",ROUND((12*AU12+10)/30,2)) | AW12: =IF(AU12="","",ROUND((6*AU12+5)/50,3)) | AY12: =IF(AJ12="",AU12,AJ12) -> 2.54 | AZ12: =IF(AK12="",AV12,AK12) -> 1.8 | BA12: =IF(AL12="",AW12,AL12) -> 0.775 | BE12: 213 | BF12: Bjorn Timmermans | BG12: L | BH12: =IF(AY12="","",ROUND(BH$1*AY12,0)) -> 76 | BI12: =IF(AZ12="","",ROUND(BI$1*AZ12,0)) -> 54 | BJ12: =IF(BA12="","",ROUND(BJ$1*BA12,0)) -> 39 | BK12: =IF(AY12="","",ROUND(BK$1*AY12,0)) -> 43 | BL12: 7 | BM12: =IF(BL12>BM$4,"",100*BE12+BL12) -> 21307 | BN12: =IF(BM12="","",SMALL(BM$6:BM$105,BL12)) -> 21307 | BO12: =IF(BN12="","",INT(BN12/100)) -> 213 | BP12: =IF(BN12="","",BN12-100*BO12) -> 7 | BR12: {=IF($BP12="","",IF(INDEX(BC$6:BC$105,$BP12,1)="","",INDEX(BC$6:BC$105,$BP12,1)))} | BS12: {=IF($BP12="","",IF(INDEX(BD$6:BD$105,$BP12,1)="","",INDEX(BD$6:BD$105,$BP12,1)))} | BT12: {=IF($BP12="","",IF(INDEX(BE$6:BE$105,$BP12,1)="","",INDEX(BE$6:BE$105,$BP12,1)))} -> 213 | BU12: {=IF($BP12="","",IF(INDEX(BF$6:BF$105,$BP12,1)="","",INDEX(BF$6:BF$105,$BP12,1)))} -> Bjorn Timmermans | BV12: {=IF($BP12="","",IF(INDEX(BG$6:BG$105,$BP12,1)="","",INDEX(BG$6:BG$105,$BP12,1)))} -> L | BW12: {=IF($BP12="","",IF(INDEX(BH$6:BH$105,$BP12,1)="","",INDEX(BH$6:BH$105,$BP12,1)))} -> 76 | BX12: {=IF($BP12="","",IF(INDEX(BI$6:BI$105,$BP12,1)="","",INDEX(BI$6:BI$105,$BP12,1)))} -> 54 | BY12: {=IF($BP12="","",IF(INDEX(BJ$6:BJ$105,$BP12,1)="","",INDEX(BJ$6:BJ$105,$BP12,1)))} -> 39 | BZ12: {=IF($BP12="","",IF(INDEX(BK$6:BK$105,$BP12,1)="","",INDEX(BK$6:BK$105,$BP12,1)))} -> 43 | CB12: =IF(BU12="","",BU12) -> Bjorn Timmermans | CC12: =IF($CB12="","",VLOOKUP($CB12,$AE$6:$AM$105,CC$1,FALSE)) -> 12 | CD12: =IF($CB12="","",VLOOKUP($CB12,$AE$6:$AM$105,CD$1,FALSE)) -> 2.54 | CE12: =IF($CB12="","",VLOOKUP($CB12,$AE$6:$AM$105,CE$1,FALSE)) -> 6 | CF12: =IF($CB12="","",VLOOKUP($CB12,$AE$6:$AM$105,CF$1,FALSE)) -> 1.8 | CG12: =IF($CB12="","",VLOOKUP($CB12,$AE$6:$AM$105,CG$1,FALSE)) -> 17 | CH12: =IF($CB12="","",VLOOKUP($CB12,$AE$6:$AM$105,CH$1,FALSE)) -> 0.775 | CI12: =IF($CB12="","",VLOOKUP($CB12,$AE$6:$AM$105,CI$1,FALSE)) -> 4 | CJ12: =IF($CB12="","",VLOOKUP($CB12,$AE$6:$AM$105,CJ$1,FALSE)) -> 1.2
A13: 1902 | C13: 17 | D13: Cees Mooy | E13: 1 | F13: 1.11 | G13: 4 | I13: 0.58 | J13: 7 | L13: 0.327 | M13: 4 | O13: 0.89 | P13: 2 | U13: 214 | V13: Hans Wauben | X13: 62 | Y13: 40 | Z13: 32 | AA13: 35 | AD13: =IF(V13="","",COUNTIF(D$6:D$105,V13)) -> 1 | AE13: =IF(V13="","",V13) -> Hans Wauben | AF13: =IF($AD13=1,VLOOKUP($AE13,$D$6:$P$105,AF$1,FALSE),0) -> 9 | AG13: =IF($AD13=1,VLOOKUP($AE13,$D$6:$P$105,AG$1,FALSE),0) -> 16 | AH13: =IF($AD13=1,VLOOKUP($AE13,$D$6:$P$105,AH$1,FALSE),0) -> 7 | AI13: =IF($AD13=1,VLOOKUP($AE13,$D$6:$P$105,AI$1,FALSE),0) -> 1 | AJ13: =IF(AF13=0,"",VLOOKUP($AE13,$D$6:$P112,AJ$1,FALSE)) -> 2.14 | AK13: =IF(AG13=0,"",VLOOKUP($AE13,$D$6:$P112,AK$1,FALSE)) -> 1.32 | AL13: =IF(AH13=0,"",VLOOKUP($AE13,$D$6:$P112,AL$1,FALSE)) -> 0.643 | AM13: =IF(AI13=0,"",VLOOKUP($AE13,$D$6:$P112,AM$1,FALSE)) -> 0.91 | AO13: =IF(AE13="","",IF(COUNT(AJ13:AM13)=4,"",IF(COUNT(AQ13:AS13)>0,"","x"))) | AU13: =IF(COUNT(AQ13:AR13)>0,SUM(AQ13:AR13),IF(AS13="","",ROUND((50*AS13-5)/6,2))) | AV13: =IF(AU13="","",ROUND((12*AU13+10)/30,2)) | AW13: =IF(AU13="","",ROUND((6*AU13+5)/50,3)) | AY13: =IF(AJ13="",AU13,AJ13) -> 2.14 | AZ13: =IF(AK13="",AV13,AK13) -> 1.32 | BA13: =IF(AL13="",AW13,AL13) -> 0.643 | BE13: 214 | BF13: Hans Wauben | BH13: =IF(AY13="","",ROUND(BH$1*AY13,0)) -> 64 | BI13: =IF(AZ13="","",ROUND(BI$1*AZ13,0)) -> 40 | BJ13: =IF(BA13="","",ROUND(BJ$1*BA13,0)) -> 32 | BK13: =IF(AY13="","",ROUND(BK$1*AY13,0)) -> 36 | BL13: 8 | BM13: =IF(BL13>BM$4,"",100*BE13+BL13) -> 21408 | BN13: =IF(BM13="","",SMALL(BM$6:BM$105,BL13)) -> 21408 | BO13: =IF(BN13="","",INT(BN13/100)) -> 214 | BP13: =IF(BN13="","",BN13-100*BO13) -> 8 | BR13: {=IF($BP13="","",IF(INDEX(BC$6:BC$105,$BP13,1)="","",INDEX(BC$6:BC$105,$BP13,1)))} | BS13: {=IF($BP13="","",IF(INDEX(BD$6:BD$105,$BP13,1)="","",INDEX(BD$6:BD$105,$BP13,1)))} | BT13: {=IF($BP13="","",IF(INDEX(BE$6:BE$105,$BP13,1)="","",INDEX(BE$6:BE$105,$BP13,1)))} -> 214 | BU13: {=IF($BP13="","",IF(INDEX(BF$6:BF$105,$BP13,1)="","",INDEX(BF$6:BF$105,$BP13,1)))} -> Hans Wauben | BV13: {=IF($BP13="","",IF(INDEX(BG$6:BG$105,$BP13,1)="","",INDEX(BG$6:BG$105,$BP13,1)))} | BW13: {=IF($BP13="","",IF(INDEX(BH$6:BH$105,$BP13,1)="","",INDEX(BH$6:BH$105,$BP13,1)))} -> 64 | BX13: {=IF($BP13="","",IF(INDEX(BI$6:BI$105,$BP13,1)="","",INDEX(BI$6:BI$105,$BP13,1)))} -> 40 | BY13: {=IF($BP13="","",IF(INDEX(BJ$6:BJ$105,$BP13,1)="","",INDEX(BJ$6:BJ$105,$BP13,1)))} -> 32 | BZ13: {=IF($BP13="","",IF(INDEX(BK$6:BK$105,$BP13,1)="","",INDEX(BK$6:BK$105,$BP13,1)))} -> 36 | CB13: =IF(BU13="","",BU13) -> Hans Wauben | CC13: =IF($CB13="","",VLOOKUP($CB13,$AE$6:$AM$105,CC$1,FALSE)) -> 9 | CD13: =IF($CB13="","",VLOOKUP($CB13,$AE$6:$AM$105,CD$1,FALSE)) -> 2.14 | CE13: =IF($CB13="","",VLOOKUP($CB13,$AE$6:$AM$105,CE$1,FALSE)) -> 16 | CF13: =IF($CB13="","",VLOOKUP($CB13,$AE$6:$AM$105,CF$1,FALSE)) -> 1.32 | CG13: =IF($CB13="","",VLOOKUP($CB13,$AE$6:$AM$105,CG$1,FALSE)) -> 7 | CH13: =IF($CB13="","",VLOOKUP($CB13,$AE$6:$AM$105,CH$1,FALSE)) -> 0.643 | CI13: =IF($CB13="","",VLOOKUP($CB13,$AE$6:$AM$105,CI$1,FALSE)) -> 1 | CJ13: =IF($CB13="","",VLOOKUP($CB13,$AE$6:$AM$105,CJ$1,FALSE)) -> 0.91
A14: 1903 | C14: 0 | D14: Mark Bol | E14: 1 | F14: 0 | G14: 0 | I14: 0 | J14: 0 | L14: 0 | M14: 0 | O14: 0 | P14: 0 | S14: De Sport 2 | T14: 22 | U14: 221 | V14: Frits Geenen | X14: 44 | Y14: 22 | Z14: 16 | AA14: 25 | AD14: =IF(V14="","",COUNTIF(D$6:D$105,V14)) -> 1 | AE14: =IF(V14="","",V14) -> Frits Geenen | AF14: =IF($AD14=1,VLOOKUP($AE14,$D$6:$P$105,AF$1,FALSE),0) -> 4 | AG14: =IF($AD14=1,VLOOKUP($AE14,$D$6:$P$105,AG$1,FALSE),0) -> 6 | AH14: =IF($AD14=1,VLOOKUP($AE14,$D$6:$P$105,AH$1,FALSE),0) -> 6 | AI14: =IF($AD14=1,VLOOKUP($AE14,$D$6:$P$105,AI$1,FALSE),0) -> 9 | AJ14: =IF(AF14=0,"",VLOOKUP($AE14,$D$6:$P113,AJ$1,FALSE)) -> 1.48 | AK14: =IF(AG14=0,"",VLOOKUP($AE14,$D$6:$P113,AK$1,FALSE)) -> 0.72 | AL14: =IF(AH14=0,"",VLOOKUP($AE14,$D$6:$P113,AL$1,FALSE)) -> 0.329 | AM14: =IF(AI14=0,"",VLOOKUP($AE14,$D$6:$P113,AM$1,FALSE)) -> 0.91 | AO14: =IF(AE14="","",IF(COUNT(AJ14:AM14)=4,"",IF(COUNT(AQ14:AS14)>0,"","x"))) | AU14: =IF(COUNT(AQ14:AR14)>0,SUM(AQ14:AR14),IF(AS14="","",ROUND((50*AS14-5)/6,2))) | AV14: =IF(AU14="","",ROUND((12*AU14+10)/30,2)) | AW14: =IF(AU14="","",ROUND((6*AU14+5)/50,3)) | AY14: =IF(AJ14="",AU14,AJ14) -> 1.48 | AZ14: =IF(AK14="",AV14,AK14) -> 0.72 | BA14: =IF(AL14="",AW14,AL14) -> 0.329 | BC14: De Sport 2 | BD14: 22 | BE14: 221 | BF14: Frits Geenen | BH14: =IF(AY14="","",ROUND(BH$1*AY14,0)) -> 44 | BI14: =IF(AZ14="","",ROUND(BI$1*AZ14,0)) -> 22 | BJ14: =IF(BA14="","",ROUND(BJ$1*BA14,0)) -> 16 | BK14: =IF(AY14="","",ROUND(BK$1*AY14,0)) -> 25 | BL14: 9 | BM14: =IF(BL14>BM$4,"",100*BE14+BL14) -> 22109 | BN14: =IF(BM14="","",SMALL(BM$6:BM$105,BL14)) -> 22109 | BO14: =IF(BN14="","",INT(BN14/100)) -> 221 | BP14: =IF(BN14="","",BN14-100*BO14) -> 9 | BR14: {=IF($BP14="","",IF(INDEX(BC$6:BC$105,$BP14,1)="","",INDEX(BC$6:BC$105,$BP14,1)))} -> De Sport 2 | BS14: {=IF($BP14="","",IF(INDEX(BD$6:BD$105,$BP14,1)="","",INDEX(BD$6:BD$105,$BP14,1)))} -> 22 | BT14: {=IF($BP14="","",IF(INDEX(BE$6:BE$105,$BP14,1)="","",INDEX(BE$6:BE$105,$BP14,1)))} -> 221 | BU14: {=IF($BP14="","",IF(INDEX(BF$6:BF$105,$BP14,1)="","",INDEX(BF$6:BF$105,$BP14,1)))} -> Frits Geenen | BV14: {=IF($BP14="","",IF(INDEX(BG$6:BG$105,$BP14,1)="","",INDEX(BG$6:BG$105,$BP14,1)))} | BW14: {=IF($BP14="","",IF(INDEX(BH$6:BH$105,$BP14,1)="","",INDEX(BH$6:BH$105,$BP14,1)))} -> 44 | BX14: {=IF($BP14="","",IF(INDEX(BI$6:BI$105,$BP14,1)="","",INDEX(BI$6:BI$105,$BP14,1)))} -> 22 | BY14: {=IF($BP14="","",IF(INDEX(BJ$6:BJ$105,$BP14,1)="","",INDEX(BJ$6:BJ$105,$BP14,1)))} -> 16 | BZ14: {=IF($BP14="","",IF(INDEX(BK$6:BK$105,$BP14,1)="","",INDEX(BK$6:BK$105,$BP14,1)))} -> 25 | CB14: =IF(BU14="","",BU14) -> Frits Geenen | CC14: =IF($CB14="","",VLOOKUP($CB14,$AE$6:$AM$105,CC$1,FALSE)) -> 4 | CD14: =IF($CB14="","",VLOOKUP($CB14,$AE$6:$AM$105,CD$1,FALSE)) -> 1.48 | CE14: =IF($CB14="","",VLOOKUP($CB14,$AE$6:$AM$105,CE$1,FALSE)) -> 6 | CF14: =IF($CB14="","",VLOOKUP($CB14,$AE$6:$AM$105,CF$1,FALSE)) -> 0.72 | CG14: =IF($CB14="","",VLOOKUP($CB14,$AE$6:$AM$105,CG$1,FALSE)) -> 6 | CH14: =IF($CB14="","",VLOOKUP($CB14,$AE$6:$AM$105,CH$1,FALSE)) -> 0.329 | CI14: =IF($CB14="","",VLOOKUP($CB14,$AE$6:$AM$105,CI$1,FALSE)) -> 9 | CJ14: =IF($CB14="","",VLOOKUP($CB14,$AE$6:$AM$105,CJ$1,FALSE)) -> 0.91
A15: 1904 | C15: 8 | D15: Leo Brueren | E15: 1 | F15: 0.73 | G15: 3 | I15: 0.57 | J15: 4 | L15: 0 | M15: 0 | O15: 0.63 | P15: 1 | U15: 222 | V15: Frans v.d. Hombergh | W15: L | X15: 73 | Y15: 35 | Z15: 19 | AA15: 41 | AD15: =IF(V15="","",COUNTIF(D$6:D$105,V15)) -> 1 | AE15: =IF(V15="","",V15) -> Frans v.d. Hombergh | AF15: =IF($AD15=1,VLOOKUP($AE15,$D$6:$P$105,AF$1,FALSE),0) -> 15 | AG15: =IF($AD15=1,VLOOKUP($AE15,$D$6:$P$105,AG$1,FALSE),0) -> 14 | AH15: =IF($AD15=1,VLOOKUP($AE15,$D$6:$P$105,AH$1,FALSE),0) -> 8 | AI15: =IF($AD15=1,VLOOKUP($AE15,$D$6:$P$105,AI$1,FALSE),0) -> 4 | AJ15: =IF(AF15=0,"",VLOOKUP($AE15,$D$6:$P114,AJ$1,FALSE)) -> 2.41 | AK15: =IF(AG15=0,"",VLOOKUP($AE15,$D$6:$P114,AK$1,FALSE)) -> 1.24 | AL15: =IF(AH15=0,"",VLOOKUP($AE15,$D$6:$P114,AL$1,FALSE)) -> 0.38 | AM15: =IF(AI15=0,"",VLOOKUP($AE15,$D$6:$P114,AM$1,FALSE)) -> 1.03 | AO15: =IF(AE15="","",IF(COUNT(AJ15:AM15)=4,"",IF(COUNT(AQ15:AS15)>0,"","x"))) | AU15: =IF(COUNT(AQ15:AR15)>0,SUM(AQ15:AR15),IF(AS15="","",ROUND((50*AS15-5)/6,2))) | AV15: =IF(AU15="","",ROUND((12*AU15+10)/30,2)) | AW15: =IF(AU15="","",ROUND((6*AU15+5)/50,3)) | AY15: =IF(AJ15="",AU15,AJ15) -> 2.41 | AZ15: =IF(AK15="",AV15,AK15) -> 1.24 | BA15: =IF(AL15="",AW15,AL15) -> 0.38 | BE15: 222 | BF15: Frans v.d. Hombergh | BG15: L | BH15: =IF(AY15="","",ROUND(BH$1*AY15,0)) -> 72 | BI15: =IF(AZ15="","",ROUND(BI$1*AZ15,0)) -> 37 | BJ15: =IF(BA15="","",ROUND(BJ$1*BA15,0)) -> 19 | BK15: =IF(AY15="","",ROUND(BK$1*AY15,0)) -> 41 | BL15: 10 | BM15: =IF(BL15>BM$4,"",100*BE15+BL15) -> 22210 | BN15: =IF(BM15="","",SMALL(BM$6:BM$105,BL15)) -> 22210 | BO15: =IF(BN15="","",INT(BN15/100)) -> 222 | BP15: =IF(BN15="","",BN15-100*BO15) -> 10 | BR15: {=IF($BP15="","",IF(INDEX(BC$6:BC$105,$BP15,1)="","",INDEX(BC$6:BC$105,$BP15,1)))} | BS15: {=IF($BP15="","",IF(INDEX(BD$6:BD$105,$BP15,1)="","",INDEX(BD$6:BD$105,$BP15,1)))} | BT15: {=IF($BP15="","",IF(INDEX(BE$6:BE$105,$BP15,1)="","",INDEX(BE$6:BE$105,$BP15,1)))} -> 222 | BU15: {=IF($BP15="","",IF(INDEX(BF$6:BF$105,$BP15,1)="","",INDEX(BF$6:BF$105,$BP15,1)))} -> Frans v.d. Hombergh | BV15: {=IF($BP15="","",IF(INDEX(BG$6:BG$105,$BP15,1)="","",INDEX(BG$6:BG$105,$BP15,1)))} -> L | BW15: {=IF($BP15="","",IF(INDEX(BH$6:BH$105,$BP15,1)="","",INDEX(BH$6:BH$105,$BP15,1)))} -> 72 | BX15: {=IF($BP15="","",IF(INDEX(BI$6:BI$105,$BP15,1)="","",INDEX(BI$6:BI$105,$BP15,1)))} -> 37 | BY15: {=IF($BP15="","",IF(INDEX(BJ$6:BJ$105,$BP15,1)="","",INDEX(BJ$6:BJ$105,$BP15,1)))} -> 19 | BZ15: {=IF($BP15="","",IF(INDEX(BK$6:BK$105,$BP15,1)="","",INDEX(BK$6:BK$105,$BP15,1)))} -> 41 | CB15: =IF(BU15="","",BU15) -> Frans v.d. Hombergh | CC15: =IF($CB15="","",VLOOKUP($CB15,$AE$6:$AM$105,CC$1,FALSE)) -> 15 | CD15: =IF($CB15="","",VLOOKUP($CB15,$AE$6:$AM$105,CD$1,FALSE)) -> 2.41 | CE15: =IF($CB15="","",VLOOKUP($CB15,$AE$6:$AM$105,CE$1,FALSE)) -> 14 | CF15: =IF($CB15="","",VLOOKUP($CB15,$AE$6:$AM$105,CF$1,FALSE)) -> 1.24 | CG15: =IF($CB15="","",VLOOKUP($CB15,$AE$6:$AM$105,CG$1,FALSE)) -> 8 | CH15: =IF($CB15="","",VLOOKUP($CB15,$AE$6:$AM$105,CH$1,FALSE)) -> 0.38 | CI15: =IF($CB15="","",VLOOKUP($CB15,$AE$6:$AM$105,CI$1,FALSE)) -> 4 | CJ15: =IF($CB15="","",VLOOKUP($CB15,$AE$6:$AM$105,CJ$1,FALSE)) -> 1.03
A16: 1905 | C16: 0 | D16: Theo Kuijpers | E16: 1 | F16: 0 | G16: 0 | I16: 0 | J16: 0 | L16: 0 | M16: 0 | O16: 0 | P16: 0 | U16: 223 | V16: Ger v. Leuven | X16: 72 | Y16: 40 | Z16: 21 | AA16: 41 | AD16: =IF(V16="","",COUNTIF(D$6:D$105,V16)) -> 1 | AE16: =IF(V16="","",V16) -> Ger v. Leuven | AF16: =IF($AD16=1,VLOOKUP($AE16,$D$6:$P$105,AF$1,FALSE),0) -> 13 | AG16: =IF($AD16=1,VLOOKUP($AE16,$D$6:$P$105,AG$1,FALSE),0) -> 8 | AH16: =IF($AD16=1,VLOOKUP($AE16,$D$6:$P$105,AH$1,FALSE),0) -> 21 | AI16: =IF($AD16=1,VLOOKUP($AE16,$D$6:$P$105,AI$1,FALSE),0) -> 1 | AJ16: =IF(AF16=0,"",VLOOKUP($AE16,$D$6:$P115,AJ$1,FALSE)) -> 2.42 | AK16: =IF(AG16=0,"",VLOOKUP($AE16,$D$6:$P115,AK$1,FALSE)) -> 1.33 | AL16: =IF(AH16=0,"",VLOOKUP($AE16,$D$6:$P115,AL$1,FALSE)) -> 0.412 | AM16: =IF(AI16=0,"",VLOOKUP($AE16,$D$6:$P115,AM$1,FALSE)) -> 0.65 | AO16: =IF(AE16="","",IF(COUNT(AJ16:AM16)=4,"",IF(COUNT(AQ16:AS16)>0,"","x"))) | AU16: =IF(COUNT(AQ16:AR16)>0,SUM(AQ16:AR16),IF(AS16="","",ROUND((50*AS16-5)/6,2))) | AV16: =IF(AU16="","",ROUND((12*AU16+10)/30,2)) | AW16: =IF(AU16="","",ROUND((6*AU16+5)/50,3)) | AY16: =IF(AJ16="",AU16,AJ16) -> 2.42 | AZ16: =IF(AK16="",AV16,AK16) -> 1.33 | BA16: =IF(AL16="",AW16,AL16) -> 0.412 | BE16: 223 | BF16: Ger v. Leuven | BH16: =IF(AY16="","",ROUND(BH$1*AY16,0)) -> 73 | BI16: =IF(AZ16="","",ROUND(BI$1*AZ16,0)) -> 40 | BJ16: =IF(BA16="","",ROUND(BJ$1*BA16,0)) -> 21 | BK16: =IF(AY16="","",ROUND(BK$1*AY16,0)) -> 41 | BL16: 11 | BM16: =IF(BL16>BM$4,"",100*BE16+BL16) -> 22311 | BN16: =IF(BM16="","",SMALL(BM$6:BM$105,BL16)) -> 22311 | BO16: =IF(BN16="","",INT(BN16/100)) -> 223 | BP16: =IF(BN16="","",BN16-100*BO16) -> 11 | BR16: {=IF($BP16="","",IF(INDEX(BC$6:BC$105,$BP16,1)="","",INDEX(BC$6:BC$105,$BP16,1)))} | BS16: {=IF($BP16="","",IF(INDEX(BD$6:BD$105,$BP16,1)="","",INDEX(BD$6:BD$105,$BP16,1)))} | BT16: {=IF($BP16="","",IF(INDEX(BE$6:BE$105,$BP16,1)="","",INDEX(BE$6:BE$105,$BP16,1)))} -> 223 | BU16: {=IF($BP16="","",IF(INDEX(BF$6:BF$105,$BP16,1)="","",INDEX(BF$6:BF$105,$BP16,1)))} -> Ger v. Leuven | BV16: {=IF($BP16="","",IF(INDEX(BG$6:BG$105,$BP16,1)="","",INDEX(BG$6:BG$105,$BP16,1)))} | BW16: {=IF($BP16="","",IF(INDEX(BH$6:BH$105,$BP16,1)="","",INDEX(BH$6:BH$105,$BP16,1)))} -> 73 | BX16: {=IF($BP16="","",IF(INDEX(BI$6:BI$105,$BP16,1)="","",INDEX(BI$6:BI$105,$BP16,1)))} -> 40 | BY16: {=IF($BP16="","",IF(INDEX(BJ$6:BJ$105,$BP16,1)="","",INDEX(BJ$6:BJ$105,$BP16,1)))} -> 21 | BZ16: {=IF($BP16="","",IF(INDEX(BK$6:BK$105,$BP16,1)="","",INDEX(BK$6:BK$105,$BP16,1)))} -> 41 | CB16: =IF(BU16="","",BU16) -> Ger v. Leuven | CC16: =IF($CB16="","",VLOOKUP($CB16,$AE$6:$AM$105,CC$1,FALSE)) -> 13 | CD16: =IF($CB16="","",VLOOKUP($CB16,$AE$6:$AM$105,CD$1,FALSE)) -> 2.42 | CE16: =IF($CB16="","",VLOOKUP($CB16,$AE$6:$AM$105,CE$1,FALSE)) -> 8 | CF16: =IF($CB16="","",VLOOKUP($CB16,$AE$6:$AM$105,CF$1,FALSE)) -> 1.33 | CG16: =IF($CB16="","",VLOOKUP($CB16,$AE$6:$AM$105,CG$1,FALSE)) -> 21 | CH16: =IF($CB16="","",VLOOKUP($CB16,$AE$6:$AM$105,CH$1,FALSE)) -> 0.412 | CI16: =IF($CB16="","",VLOOKUP($CB16,$AE$6:$AM$105,CI$1,FALSE)) -> 1 | CJ16: =IF($CB16="","",VLOOKUP($CB16,$AE$6:$AM$105,CJ$1,FALSE)) -> 0.65
A17: 1906 | C17: 25 | D17: Lambert Lucassen | E17: 1 | F17: 0.82 | G17: 13 | I17: 0.51 | J17: 6 | L17: 0.226 | M17: 6 | O17: 0 | P17: 0 | U17: 224 | V17: Theo Tabbers | X17: 58 | Y17: 36 | Z17: 17 | AA17: 33 | AD17: =IF(V17="","",COUNTIF(D$6:D$105,V17)) -> 1 | AE17: =IF(V17="","",V17) -> Theo Tabbers | AF17: =IF($AD17=1,VLOOKUP($AE17,$D$6:$P$105,AF$1,FALSE),0) -> 12 | AG17: =IF($AD17=1,VLOOKUP($AE17,$D$6:$P$105,AG$1,FALSE),0) -> 13 | AH17: =IF($AD17=1,VLOOKUP($AE17,$D$6:$P$105,AH$1,FALSE),0) -> 8 | AI17: =IF($AD17=1,VLOOKUP($AE17,$D$6:$P$105,AI$1,FALSE),0) -> 8 | AJ17: =IF(AF17=0,"",VLOOKUP($AE17,$D$6:$P116,AJ$1,FALSE)) -> 1.91 | AK17: =IF(AG17=0,"",VLOOKUP($AE17,$D$6:$P116,AK$1,FALSE)) -> 1.08 | AL17: =IF(AH17=0,"",VLOOKUP($AE17,$D$6:$P116,AL$1,FALSE)) -> 0.332 | AM17: =IF(AI17=0,"",VLOOKUP($AE17,$D$6:$P116,AM$1,FALSE)) -> 0.99 | AO17: =IF(AE17="","",IF(COUNT(AJ17:AM17)=4,"",IF(COUNT(AQ17:AS17)>0,"","x"))) | AU17: =IF(COUNT(AQ17:AR17)>0,SUM(AQ17:AR17),IF(AS17="","",ROUND((50*AS17-5)/6,2))) | AV17: =IF(AU17="","",ROUND((12*AU17+10)/30,2)) | AW17: =IF(AU17="","",ROUND((6*AU17+5)/50,3)) | AY17: =IF(AJ17="",AU17,AJ17) -> 1.91 | AZ17: =IF(AK17="",AV17,AK17) -> 1.08 | BA17: =IF(AL17="",AW17,AL17) -> 0.332 | BE17: 224 | BF17: Theo Tabbers | BH17: =IF(AY17="","",ROUND(BH$1*AY17,0)) -> 57 | BI17: =IF(AZ17="","",ROUND(BI$1*AZ17,0)) -> 32 | BJ17: =IF(BA17="","",ROUND(BJ$1*BA17,0)) -> 17 | BK17: =IF(AY17="","",ROUND(BK$1*AY17,0)) -> 32 | BL17: 12 | BM17: =IF(BL17>BM$4,"",100*BE17+BL17) -> 22412 | BN17: =IF(BM17="","",SMALL(BM$6:BM$105,BL17)) -> 22412 | BO17: =IF(BN17="","",INT(BN17/100)) -> 224 | BP17: =IF(BN17="","",BN17-100*BO17) -> 12 | BR17: {=IF($BP17="","",IF(INDEX(BC$6:BC$105,$BP17,1)="","",INDEX(BC$6:BC$105,$BP17,1)))} | BS17: {=IF($BP17="","",IF(INDEX(BD$6:BD$105,$BP17,1)="","",INDEX(BD$6:BD$105,$BP17,1)))} | BT17: {=IF($BP17="","",IF(INDEX(BE$6:BE$105,$BP17,1)="","",INDEX(BE$6:BE$105,$BP17,1)))} -> 224 | BU17: {=IF($BP17="","",IF(INDEX(BF$6:BF$105,$BP17,1)="","",INDEX(BF$6:BF$105,$BP17,1)))} -> Theo Tabbers | BV17: {=IF($BP17="","",IF(INDEX(BG$6:BG$105,$BP17,1)="","",INDEX(BG$6:BG$105,$BP17,1)))} | BW17: {=IF($BP17="","",IF(INDEX(BH$6:BH$105,$BP17,1)="","",INDEX(BH$6:BH$105,$BP17,1)))} -> 57 | BX17: {=IF($BP17="","",IF(INDEX(BI$6:BI$105,$BP17,1)="","",INDEX(BI$6:BI$105,$BP17,1)))} -> 32 | BY17: {=IF($BP17="","",IF(INDEX(BJ$6:BJ$105,$BP17,1)="","",INDEX(BJ$6:BJ$105,$BP17,1)))} -> 17 | BZ17: {=IF($BP17="","",IF(INDEX(BK$6:BK$105,$BP17,1)="","",INDEX(BK$6:BK$105,$BP17,1)))} -> 32 | CB17: =IF(BU17="","",BU17) -> Theo Tabbers | CC17: =IF($CB17="","",VLOOKUP($CB17,$AE$6:$AM$105,CC$1,FALSE)) -> 12 | CD17: =IF($CB17="","",VLOOKUP($CB17,$AE$6:$AM$105,CD$1,FALSE)) -> 1.91 | CE17: =IF($CB17="","",VLOOKUP($CB17,$AE$6:$AM$105,CE$1,FALSE)) -> 13 | CF17: =IF($CB17="","",VLOOKUP($CB17,$AE$6:$AM$105,CF$1,FALSE)) -> 1.08 | CG17: =IF($CB17="","",VLOOKUP($CB17,$AE$6:$AM$105,CG$1,FALSE)) -> 8 | CH17: =IF($CB17="","",VLOOKUP($CB17,$AE$6:$AM$105,CH$1,FALSE)) -> 0.332 | CI17: =IF($CB17="","",VLOOKUP($CB17,$AE$6:$AM$105,CI$1,FALSE)) -> 8 | CJ17: =IF($CB17="","",VLOOKUP($CB17,$AE$6:$AM$105,CJ$1,FALSE)) -> 0.99
A18: 1908 | C18: 31 | D18: Rob v. Heesch | E18: 1 | F18: 2.19 | G18: 14 | I18: 1.3 | J18: 9 | L18: 0.281 | M18: 7 | O18: 0.48 | P18: 1 | S18: De Sport 3 | T18: 23 | U18: 231 | V18: Mart v. Beek | X18: 53 | Y18: 42 | Z18: 17 | AA18: 30 | AD18: =IF(V18="","",COUNTIF(D$6:D$105,V18)) -> 1 | AE18: =IF(V18="","",V18) -> Mart v. Beek | AF18: =IF($AD18=1,VLOOKUP($AE18,$D$6:$P$105,AF$1,FALSE),0) -> 10 | AG18: =IF($AD18=1,VLOOKUP($AE18,$D$6:$P$105,AG$1,FALSE),0) -> 24 | AH18: =IF($AD18=1,VLOOKUP($AE18,$D$6:$P$105,AH$1,FALSE),0) -> 7 | AI18: =IF($AD18=1,VLOOKUP($AE18,$D$6:$P$105,AI$1,FALSE),0) -> 1 | AJ18: =IF(AF18=0,"",VLOOKUP($AE18,$D$6:$P117,AJ$1,FALSE)) -> 1.86 | AK18: =IF(AG18=0,"",VLOOKUP($AE18,$D$6:$P117,AK$1,FALSE)) -> 1.35 | AL18: =IF(AH18=0,"",VLOOKUP($AE18,$D$6:$P117,AL$1,FALSE)) -> 0.33 | AM18: =IF(AI18=0,"",VLOOKUP($AE18,$D$6:$P117,AM$1,FALSE)) -> 1.13 | AO18: =IF(AE18="","",IF(COUNT(AJ18:AM18)=4,"",IF(COUNT(AQ18:AS18)>0,"","x"))) | AU18: =IF(COUNT(AQ18:AR18)>0,SUM(AQ18:AR18),IF(AS18="","",ROUND((50*AS18-5)/6,2))) | AV18: =IF(AU18="","",ROUND((12*AU18+10)/30,2)) | AW18: =IF(AU18="","",ROUND((6*AU18+5)/50,3)) | AY18: =IF(AJ18="",AU18,AJ18) -> 1.86 | AZ18: =IF(AK18="",AV18,AK18) -> 1.35 | BA18: =IF(AL18="",AW18,AL18) -> 0.33 | BC18: De Sport 3 | BD18: 23 | BE18: 231 | BF18: Mart v. Beek | BH18: =IF(AY18="","",ROUND(BH$1*AY18,0)) -> 56 | BI18: =IF(AZ18="","",ROUND(BI$1*AZ18,0)) -> 41 | BJ18: =IF(BA18="","",ROUND(BJ$1*BA18,0)) -> 17 | BK18: =IF(AY18="","",ROUND(BK$1*AY18,0)) -> 32 | BL18: 13 | BM18: =IF(BL18>BM$4,"",100*BE18+BL18) -> 23113 | BN18: =IF(BM18="","",SMALL(BM$6:BM$105,BL18)) -> 23113 | BO18: =IF(BN18="","",INT(BN18/100)) -> 231 | BP18: =IF(BN18="","",BN18-100*BO18) -> 13 | BR18: {=IF($BP18="","",IF(INDEX(BC$6:BC$105,$BP18,1)="","",INDEX(BC$6:BC$105,$BP18,1)))} -> De Sport 3 | BS18: {=IF($BP18="","",IF(INDEX(BD$6:BD$105,$BP18,1)="","",INDEX(BD$6:BD$105,$BP18,1)))} -> 23 | BT18: {=IF($BP18="","",IF(INDEX(BE$6:BE$105,$BP18,1)="","",INDEX(BE$6:BE$105,$BP18,1)))} -> 231 | BU18: {=IF($BP18="","",IF(INDEX(BF$6:BF$105,$BP18,1)="","",INDEX(BF$6:BF$105,$BP18,1)))} -> Mart v. Beek | BV18: {=IF($BP18="","",IF(INDEX(BG$6:BG$105,$BP18,1)="","",INDEX(BG$6:BG$105,$BP18,1)))} | BW18: {=IF($BP18="","",IF(INDEX(BH$6:BH$105,$BP18,1)="","",INDEX(BH$6:BH$105,$BP18,1)))} -> 56 | BX18: {=IF($BP18="","",IF(INDEX(BI$6:BI$105,$BP18,1)="","",INDEX(BI$6:BI$105,$BP18,1)))} -> 41 | BY18: {=IF($BP18="","",IF(INDEX(BJ$6:BJ$105,$BP18,1)="","",INDEX(BJ$6:BJ$105,$BP18,1)))} -> 17 | BZ18: {=IF($BP18="","",IF(INDEX(BK$6:BK$105,$BP18,1)="","",INDEX(BK$6:BK$105,$BP18,1)))} -> 32 | CB18: =IF(BU18="","",BU18) -> Mart v. Beek | CC18: =IF($CB18="","",VLOOKUP($CB18,$AE$6:$AM$105,CC$1,FALSE)) -> 10 | CD18: =IF($CB18="","",VLOOKUP($CB18,$AE$6:$AM$105,CD$1,FALSE)) -> 1.86 | CE18: =IF($CB18="","",VLOOKUP($CB18,$AE$6:$AM$105,CE$1,FALSE)) -> 24 | CF18: =IF($CB18="","",VLOOKUP($CB18,$AE$6:$AM$105,CF$1,FALSE)) -> 1.35 | CG18: =IF($CB18="","",VLOOKUP($CB18,$AE$6:$AM$105,CG$1,FALSE)) -> 7 | CH18: =IF($CB18="","",VLOOKUP($CB18,$AE$6:$AM$105,CH$1,FALSE)) -> 0.33 | CI18: =IF($CB18="","",VLOOKUP($CB18,$AE$6:$AM$105,CI$1,FALSE)) -> 1 | CJ18: =IF($CB18="","",VLOOKUP($CB18,$AE$6:$AM$105,CJ$1,FALSE)) -> 1.13
A19: 2101 | C19: 33 | D19: Ron Heijnen | E19: 1 | F19: 0.93 | G19: 13 | I19: 0.63 | J19: 11 | L19: 0.146 | M19: 4 | O19: 0.45 | P19: 5 | U19: 232 | V19: Herm Kuijpers | X19: 65 | Y19: 35 | Z19: 21 | AA19: 37 | AD19: =IF(V19="","",COUNTIF(D$6:D$105,V19)) -> 1 | AE19: =IF(V19="","",V19) -> Herm Kuijpers | AF19: =IF($AD19=1,VLOOKUP($AE19,$D$6:$P$105,AF$1,FALSE),0) -> 26 | AG19: =IF($AD19=1,VLOOKUP($AE19,$D$6:$P$105,AG$1,FALSE),0) -> 8 | AH19: =IF($AD19=1,VLOOKUP($AE19,$D$6:$P$105,AH$1,FALSE),0) -> 11 | AI19: =IF($AD19=1,VLOOKUP($AE19,$D$6:$P$105,AI$1,FALSE),0) -> 3 | AJ19: =IF(AF19=0,"",VLOOKUP($AE19,$D$6:$P118,AJ$1,FALSE)) -> 2.13 | AK19: =IF(AG19=0,"",VLOOKUP($AE19,$D$6:$P118,AK$1,FALSE)) -> 1.15 | AL19: =IF(AH19=0,"",VLOOKUP($AE19,$D$6:$P118,AL$1,FALSE)) -> 0.419 | AM19: =IF(AI19=0,"",VLOOKUP($AE19,$D$6:$P118,AM$1,FALSE)) -> 0.98 | AO19: =IF(AE19="","",IF(COUNT(AJ19:AM19)=4,"",IF(COUNT(AQ19:AS19)>0,"","x"))) | AU19: =IF(COUNT(AQ19:AR19)>0,SUM(AQ19:AR19),IF(AS19="","",ROUND((50*AS19-5)/6,2))) | AV19: =IF(AU19="","",ROUND((12*AU19+10)/30,2)) | AW19: =IF(AU19="","",ROUND((6*AU19+5)/50,3)) | AY19: =IF(AJ19="",AU19,AJ19) -> 2.13 | AZ19: =IF(AK19="",AV19,AK19) -> 1.15 | BA19: =IF(AL19="",AW19,AL19) -> 0.419 | BE19: 232 | BF19: Herm Kuijpers | BH19: =IF(AY19="","",ROUND(BH$1*AY19,0)) -> 64 | BI19: =IF(AZ19="","",ROUND(BI$1*AZ19,0)) -> 35 | BJ19: =IF(BA19="","",ROUND(BJ$1*BA19,0)) -> 21 | BK19: =IF(AY19="","",ROUND(BK$1*AY19,0)) -> 36 | BL19: 14 | BM19: =IF(BL19>BM$4,"",100*BE19+BL19) -> 23214 | BN19: =IF(BM19="","",SMALL(BM$6:BM$105,BL19)) -> 23214 | BO19: =IF(BN19="","",INT(BN19/100)) -> 232 | BP19: =IF(BN19="","",BN19-100*BO19) -> 14 | BR19: {=IF($BP19="","",IF(INDEX(BC$6:BC$105,$BP19,1)="","",INDEX(BC$6:BC$105,$BP19,1)))} | BS19: {=IF($BP19="","",IF(INDEX(BD$6:BD$105,$BP19,1)="","",INDEX(BD$6:BD$105,$BP19,1)))} | BT19: {=IF($BP19="","",IF(INDEX(BE$6:BE$105,$BP19,1)="","",INDEX(BE$6:BE$105,$BP19,1)))} -> 232 | BU19: {=IF($BP19="","",IF(INDEX(BF$6:BF$105,$BP19,1)="","",INDEX(BF$6:BF$105,$BP19,1)))} -> Herm Kuijpers | BV19: {=IF($BP19="","",IF(INDEX(BG$6:BG$105,$BP19,1)="","",INDEX(BG$6:BG$105,$BP19,1)))} | BW19: {=IF($BP19="","",IF(INDEX(BH$6:BH$105,$BP19,1)="","",INDEX(BH$6:BH$105,$BP19,1)))} -> 64 | BX19: {=IF($BP19="","",IF(INDEX(BI$6:BI$105,$BP19,1)="","",INDEX(BI$6:BI$105,$BP19,1)))} -> 35 | BY19: {=IF($BP19="","",IF(INDEX(BJ$6:BJ$105,$BP19,1)="","",INDEX(BJ$6:BJ$105,$BP19,1)))} -> 21 | BZ19: {=IF($BP19="","",IF(INDEX(BK$6:BK$105,$BP19,1)="","",INDEX(BK$6:BK$105,$BP19,1)))} -> 36 | CB19: =IF(BU19="","",BU19) -> Herm Kuijpers | CC19: =IF($CB19="","",VLOOKUP($CB19,$AE$6:$AM$105,CC$1,FALSE)) -> 26 | CD19: =IF($CB19="","",VLOOKUP($CB19,$AE$6:$AM$105,CD$1,FALSE)) -> 2.13 | CE19: =IF($CB19="","",VLOOKUP($CB19,$AE$6:$AM$105,CE$1,FALSE)) -> 8 | CF19: =IF($CB19="","",VLOOKUP($CB19,$AE$6:$AM$105,CF$1,FALSE)) -> 1.15 | CG19: =IF($CB19="","",VLOOKUP($CB19,$AE$6:$AM$105,CG$1,FALSE)) -> 11 | CH19: =IF($CB19="","",VLOOKUP($CB19,$AE$6:$AM$105,CH$1,FALSE)) -> 0.419 | CI19: =IF($CB19="","",VLOOKUP($CB19,$AE$6:$AM$105,CI$1,FALSE)) -> 3 | CJ19: =IF($CB19="","",VLOOKUP($CB19,$AE$6:$AM$105,CJ$1,FALSE)) -> 0.98
A20: 2102 | C20: 44 | D20: Hans v.d. Hombergh | E20: 1 | F20: 4.6 | G20: 19 | I20: 1.65 | J20: 9 | L20: 0.45 | M20: 15 | O20: 1.47 | P20: 1 | U20: 233 | V20: Frans Litjens | X20: 37 | Y20: 17 | Z20: 12 | AA20: 21 | AD20: =IF(V20="","",COUNTIF(D$6:D$105,V20)) -> 1 | AE20: =IF(V20="","",V20) -> Frans Litjens | AF20: =IF($AD20=1,VLOOKUP($AE20,$D$6:$P$105,AF$1,FALSE),0) -> 7 | AG20: =IF($AD20=1,VLOOKUP($AE20,$D$6:$P$105,AG$1,FALSE),0) -> 11 | AH20: =IF($AD20=1,VLOOKUP($AE20,$D$6:$P$105,AH$1,FALSE),0) -> 4 | AI20: =IF($AD20=1,VLOOKUP($AE20,$D$6:$P$105,AI$1,FALSE),0) -> 11 | AJ20: =IF(AF20=0,"",VLOOKUP($AE20,$D$6:$P119,AJ$1,FALSE)) -> 1.22 | AK20: =IF(AG20=0,"",VLOOKUP($AE20,$D$6:$P119,AK$1,FALSE)) -> 0.66 | AL20: =IF(AH20=0,"",VLOOKUP($AE20,$D$6:$P119,AL$1,FALSE)) -> 0.248 | AM20: =IF(AI20=0,"",VLOOKUP($AE20,$D$6:$P119,AM$1,FALSE)) -> 0.6 | AO20: =IF(AE20="","",IF(COUNT(AJ20:AM20)=4,"",IF(COUNT(AQ20:AS20)>0,"","x"))) | AU20: =IF(COUNT(AQ20:AR20)>0,SUM(AQ20:AR20),IF(AS20="","",ROUND((50*AS20-5)/6,2))) | AV20: =IF(AU20="","",ROUND((12*AU20+10)/30,2)) | AW20: =IF(AU20="","",ROUND((6*AU20+5)/50,3)) | AY20: =IF(AJ20="",AU20,AJ20) -> 1.22 | AZ20: =IF(AK20="",AV20,AK20) -> 0.66 | BA20: =IF(AL20="",AW20,AL20) -> 0.248 | BE20: 233 | BF20: Frans Litjens | BH20: =IF(AY20="","",ROUND(BH$1*AY20,0)) -> 37 | BI20: =IF(AZ20="","",ROUND(BI$1*AZ20,0)) -> 20 | BJ20: =IF(BA20="","",ROUND(BJ$1*BA20,0)) -> 12 | BK20: =IF(AY20="","",ROUND(BK$1*AY20,0)) -> 21 | BL20: 15 | BM20: =IF(BL20>BM$4,"",100*BE20+BL20) -> 23315 | BN20: =IF(BM20="","",SMALL(BM$6:BM$105,BL20)) -> 23315 | BO20: =IF(BN20="","",INT(BN20/100)) -> 233 | BP20: =IF(BN20="","",BN20-100*BO20) -> 15 | BR20: {=IF($BP20="","",IF(INDEX(BC$6:BC$105,$BP20,1)="","",INDEX(BC$6:BC$105,$BP20,1)))} | BS20: {=IF($BP20="","",IF(INDEX(BD$6:BD$105,$BP20,1)="","",INDEX(BD$6:BD$105,$BP20,1)))} | BT20: {=IF($BP20="","",IF(INDEX(BE$6:BE$105,$BP20,1)="","",INDEX(BE$6:BE$105,$BP20,1)))} -> 233 | BU20: {=IF($BP20="","",IF(INDEX(BF$6:BF$105,$BP20,1)="","",INDEX(BF$6:BF$105,$BP20,1)))} -> Frans Litjens | BV20: {=IF($BP20="","",IF(INDEX(BG$6:BG$105,$BP20,1)="","",INDEX(BG$6:BG$105,$BP20,1)))} | BW20: {=IF($BP20="","",IF(INDEX(BH$6:BH$105,$BP20,1)="","",INDEX(BH$6:BH$105,$BP20,1)))} -> 37 | BX20: {=IF($BP20="","",IF(INDEX(BI$6:BI$105,$BP20,1)="","",INDEX(BI$6:BI$105,$BP20,1)))} -> 20 | BY20: {=IF($BP20="","",IF(INDEX(BJ$6:BJ$105,$BP20,1)="","",INDEX(BJ$6:BJ$105,$BP20,1)))} -> 12 | BZ20: {=IF($BP20="","",IF(INDEX(BK$6:BK$105,$BP20,1)="","",INDEX(BK$6:BK$105,$BP20,1)))} -> 21 | CB20: =IF(BU20="","",BU20) -> Frans Litjens | CC20: =IF($CB20="","",VLOOKUP($CB20,$AE$6:$AM$105,CC$1,FALSE)) -> 7 | CD20: =IF($CB20="","",VLOOKUP($CB20,$AE$6:$AM$105,CD$1,FALSE)) -> 1.22 | CE20: =IF($CB20="","",VLOOKUP($CB20,$AE$6:$AM$105,CE$1,FALSE)) -> 11 | CF20: =IF($CB20="","",VLOOKUP($CB20,$AE$6:$AM$105,CF$1,FALSE)) -> 0.66 | CG20: =IF($CB20="","",VLOOKUP($CB20,$AE$6:$AM$105,CG$1,FALSE)) -> 4 | CH20: =IF($CB20="","",VLOOKUP($CB20,$AE$6:$AM$105,CH$1,FALSE)) -> 0.248 | CI20: =IF($CB20="","",VLOOKUP($CB20,$AE$6:$AM$105,CI$1,FALSE)) -> 11 | CJ20: =IF($CB20="","",VLOOKUP($CB20,$AE$6:$AM$105,CJ$1,FALSE)) -> 0.6
A21: 2103 | B21: L | C21: 39 | D21: Jos v. Wijlick | E21: 1 | F21: 1.97 | G21: 9 | I21: 1.07 | J21: 12 | L21: 0.344 | M21: 10 | O21: 1 | P21: 8 | U21: 234 | V21: Henk Martens | W21: L | X21: 42 | Y21: 25 | Z21: 21 | AA21: 24 | AD21: =IF(V21="","",COUNTIF(D$6:D$105,V21)) -> 1 | AE21: =IF(V21="","",V21) -> Henk Martens | AF21: =IF($AD21=1,VLOOKUP($AE21,$D$6:$P$105,AF$1,FALSE),0) -> 9 | AG21: =IF($AD21=1,VLOOKUP($AE21,$D$6:$P$105,AG$1,FALSE),0) -> 10 | AH21: =IF($AD21=1,VLOOKUP($AE21,$D$6:$P$105,AH$1,FALSE),0) -> 29 | AI21: =IF($AD21=1,VLOOKUP($AE21,$D$6:$P$105,AI$1,FALSE),0) -> 3 | AJ21: =IF(AF21=0,"",VLOOKUP($AE21,$D$6:$P120,AJ$1,FALSE)) -> 1.39 | AK21: =IF(AG21=0,"",VLOOKUP($AE21,$D$6:$P120,AK$1,FALSE)) -> 0.84 | AL21: =IF(AH21=0,"",VLOOKUP($AE21,$D$6:$P120,AL$1,FALSE)) -> 0.43 | AM21: =IF(AI21=0,"",VLOOKUP($AE21,$D$6:$P120,AM$1,FALSE)) -> 0.77 | AO21: =IF(AE21="","",IF(COUNT(AJ21:AM21)=4,"",IF(COUNT(AQ21:AS21)>0,"","x"))) | AU21: =IF(COUNT(AQ21:AR21)>0,SUM(AQ21:AR21),IF(AS21="","",ROUND((50*AS21-5)/6,2))) | AV21: =IF(AU21="","",ROUND((12*AU21+10)/30,2)) | AW21: =IF(AU21="","",ROUND((6*AU21+5)/50,3)) | AY21: =IF(AJ21="",AU21,AJ21) -> 1.39 | AZ21: =IF(AK21="",AV21,AK21) -> 0.84 | BA21: =IF(AL21="",AW21,AL21) -> 0.43 | BE21: 234 | BF21: Henk Martens | BG21: L | BH21: =IF(AY21="","",ROUND(BH$1*AY21,0)) -> 42 | BI21: =IF(AZ21="","",ROUND(BI$1*AZ21,0)) -> 25 | BJ21: =IF(BA21="","",ROUND(BJ$1*BA21,0)) -> 22 | BK21: =IF(AY21="","",ROUND(BK$1*AY21,0)) -> 24 | BL21: 16 | BM21: =IF(BL21>BM$4,"",100*BE21+BL21) -> 23416 | BN21: =IF(BM21="","",SMALL(BM$6:BM$105,BL21)) -> 23416 | BO21: =IF(BN21="","",INT(BN21/100)) -> 234 | BP21: =IF(BN21="","",BN21-100*BO21) -> 16 | BR21: {=IF($BP21="","",IF(INDEX(BC$6:BC$105,$BP21,1)="","",INDEX(BC$6:BC$105,$BP21,1)))} | BS21: {=IF($BP21="","",IF(INDEX(BD$6:BD$105,$BP21,1)="","",INDEX(BD$6:BD$105,$BP21,1)))} | BT21: {=IF($BP21="","",IF(INDEX(BE$6:BE$105,$BP21,1)="","",INDEX(BE$6:BE$105,$BP21,1)))} -> 234 | BU21: {=IF($BP21="","",IF(INDEX(BF$6:BF$105,$BP21,1)="","",INDEX(BF$6:BF$105,$BP21,1)))} -> Henk Martens | BV21: {=IF($BP21="","",IF(INDEX(BG$6:BG$105,$BP21,1)="","",INDEX(BG$6:BG$105,$BP21,1)))} -> L | BW21: {=IF($BP21="","",IF(INDEX(BH$6:BH$105,$BP21,1)="","",INDEX(BH$6:BH$105,$BP21,1)))} -> 42 | BX21: {=IF($BP21="","",IF(INDEX(BI$6:BI$105,$BP21,1)="","",INDEX(BI$6:BI$105,$BP21,1)))} -> 25 | BY21: {=IF($BP21="","",IF(INDEX(BJ$6:BJ$105,$BP21,1)="","",INDEX(BJ$6:BJ$105,$BP21,1)))} -> 22 | BZ21: {=IF($BP21="","",IF(INDEX(BK$6:BK$105,$BP21,1)="","",INDEX(BK$6:BK$105,$BP21,1)))} -> 24 | CB21: =IF(BU21="","",BU21) -> Henk Martens | CC21: =IF($CB21="","",VLOOKUP($CB21,$AE$6:$AM$105,CC$1,FALSE)) -> 9 | CD21: =IF($CB21="","",VLOOKUP($CB21,$AE$6:$AM$105,CD$1,FALSE)) -> 1.39 | CE21: =IF($CB21="","",VLOOKUP($CB21,$AE$6:$AM$105,CE$1,FALSE)) -> 10 | CF21: =IF($CB21="","",VLOOKUP($CB21,$AE$6:$AM$105,CF$1,FALSE)) -> 0.84 | CG21: =IF($CB21="","",VLOOKUP($CB21,$AE$6:$AM$105,CG$1,FALSE)) -> 29 | CH21: =IF($CB21="","",VLOOKUP($CB21,$AE$6:$AM$105,CH$1,FALSE)) -> 0.43 | CI21: =IF($CB21="","",VLOOKUP($CB21,$AE$6:$AM$105,CI$1,FALSE)) -> 3 | CJ21: =IF($CB21="","",VLOOKUP($CB21,$AE$6:$AM$105,CJ$1,FALSE)) -> 0.77
A22: 2104 | C22: 36 | D22: Hay in 't Zandt | E22: 1 | F22: 1.37 | G22: 11 | I22: 0.8 | J22: 11 | L22: 0.206 | M22: 8 | O22: 0.69 | P22: 6 | S22: De Sport R | T22: 29 | U22: 291 | V22: Paul Crooijmans | X22: 62 | Y22: 35 | Z22: 15 | AA22: 35 | AD22: =IF(V22="","",COUNTIF(D$6:D$105,V22)) -> 1 | AE22: =IF(V22="","",V22) -> Paul Crooijmans | AF22: =IF($AD22=1,VLOOKUP($AE22,$D$6:$P$105,AF$1,FALSE),0) -> 7 | AG22: =IF($AD22=1,VLOOKUP($AE22,$D$6:$P$105,AG$1,FALSE),0) -> 9 | AH22: =IF($AD22=1,VLOOKUP($AE22,$D$6:$P$105,AH$1,FALSE),0) -> 5 | AI22: =IF($AD22=1,VLOOKUP($AE22,$D$6:$P$105,AI$1,FALSE),0) -> 1 | AJ22: =IF(AF22=0,"",VLOOKUP($AE22,$D$6:$P121,AJ$1,FALSE)) -> 2.05 | AK22: =IF(AG22=0,"",VLOOKUP($AE22,$D$6:$P121,AK$1,FALSE)) -> 1.17 | AL22: =IF(AH22=0,"",VLOOKUP($AE22,$D$6:$P121,AL$1,FALSE)) -> 0.292 | AM22: =IF(AI22=0,"",VLOOKUP($AE22,$D$6:$P121,AM$1,FALSE)) -> 0.74 | AO22: =IF(AE22="","",IF(COUNT(AJ22:AM22)=4,"",IF(COUNT(AQ22:AS22)>0,"","x"))) | AU22: =IF(COUNT(AQ22:AR22)>0,SUM(AQ22:AR22),IF(AS22="","",ROUND((50*AS22-5)/6,2))) | AV22: =IF(AU22="","",ROUND((12*AU22+10)/30,2)) | AW22: =IF(AU22="","",ROUND((6*AU22+5)/50,3)) | AY22: =IF(AJ22="",AU22,AJ22) -> 2.05 | AZ22: =IF(AK22="",AV22,AK22) -> 1.17 | BA22: =IF(AL22="",AW22,AL22) -> 0.292 | BC22: De Sport R | BD22: 29 | BE22: 291 | BF22: Paul Crooijmans | BH22: =IF(AY22="","",ROUND(BH$1*AY22,0)) -> 62 | BI22: =IF(AZ22="","",ROUND(BI$1*AZ22,0)) -> 35 | BJ22: =IF(BA22="","",ROUND(BJ$1*BA22,0)) -> 15 | BK22: =IF(AY22="","",ROUND(BK$1*AY22,0)) -> 35 | BL22: 17 | BM22: =IF(BL22>BM$4,"",100*BE22+BL22) -> 29117 | BN22: =IF(BM22="","",SMALL(BM$6:BM$105,BL22)) -> 29117 | BO22: =IF(BN22="","",INT(BN22/100)) -> 291 | BP22: =IF(BN22="","",BN22-100*BO22) -> 17 | BR22: {=IF($BP22="","",IF(INDEX(BC$6:BC$105,$BP22,1)="","",INDEX(BC$6:BC$105,$BP22,1)))} -> De Sport R | BS22: {=IF($BP22="","",IF(INDEX(BD$6:BD$105,$BP22,1)="","",INDEX(BD$6:BD$105,$BP22,1)))} -> 29 | BT22: {=IF($BP22="","",IF(INDEX(BE$6:BE$105,$BP22,1)="","",INDEX(BE$6:BE$105,$BP22,1)))} -> 291 | BU22: {=IF($BP22="","",IF(INDEX(BF$6:BF$105,$BP22,1)="","",INDEX(BF$6:BF$105,$BP22,1)))} -> Paul Crooijmans | BV22: {=IF($BP22="","",IF(INDEX(BG$6:BG$105,$BP22,1)="","",INDEX(BG$6:BG$105,$BP22,1)))} | BW22: {=IF($BP22="","",IF(INDEX(BH$6:BH$105,$BP22,1)="","",INDEX(BH$6:BH$105,$BP22,1)))} -> 62 | BX22: {=IF($BP22="","",IF(INDEX(BI$6:BI$105,$BP22,1)="","",INDEX(BI$6:BI$105,$BP22,1)))} -> 35 | BY22: {=IF($BP22="","",IF(INDEX(BJ$6:BJ$105,$BP22,1)="","",INDEX(BJ$6:BJ$105,$BP22,1)))} -> 15 | BZ22: {=IF($BP22="","",IF(INDEX(BK$6:BK$105,$BP22,1)="","",INDEX(BK$6:BK$105,$BP22,1)))} -> 35 | CB22: =IF(BU22="","",BU22) -> Paul Crooijmans | CC22: =IF($CB22="","",VLOOKUP($CB22,$AE$6:$AM$105,CC$1,FALSE)) -> 7 | CD22: =IF($CB22="","",VLOOKUP($CB22,$AE$6:$AM$105,CD$1,FALSE)) -> 2.05 | CE22: =IF($CB22="","",VLOOKUP($CB22,$AE$6:$AM$105,CE$1,FALSE)) -> 9 | CF22: =IF($CB22="","",VLOOKUP($CB22,$AE$6:$AM$105,CF$1,FALSE)) -> 1.17 | CG22: =IF($CB22="","",VLOOKUP($CB22,$AE$6:$AM$105,CG$1,FALSE)) -> 5 | CH22: =IF($CB22="","",VLOOKUP($CB22,$AE$6:$AM$105,CH$1,FALSE)) -> 0.292 | CI22: =IF($CB22="","",VLOOKUP($CB22,$AE$6:$AM$105,CI$1,FALSE)) -> 1 | CJ22: =IF($CB22="","",VLOOKUP($CB22,$AE$6:$AM$105,CJ$1,FALSE)) -> 0.74
A23: 2201 | C23: 33 | D23: Piet Hendrikx | E23: 1 | F23: 0.94 | G23: 21 | I23: 0.59 | J23: 6 | L23: 0.203 | M23: 6 | O23: 0 | P23: 0 | U23: 292 | V23: Sjaak Geurts | X23: 47 | Y23: 26 | Z23: 16 | AA23: 26 | AD23: =IF(V23="","",COUNTIF(D$6:D$105,V23)) -> 1 | AE23: =IF(V23="","",V23) -> Sjaak Geurts | AF23: =IF($AD23=1,VLOOKUP($AE23,$D$6:$P$105,AF$1,FALSE),0) -> 7 | AG23: =IF($AD23=1,VLOOKUP($AE23,$D$6:$P$105,AG$1,FALSE),0) -> 3 | AH23: =IF($AD23=1,VLOOKUP($AE23,$D$6:$P$105,AH$1,FALSE),0) -> 7 | AI23: =IF($AD23=1,VLOOKUP($AE23,$D$6:$P$105,AI$1,FALSE),0) -> 3 | AJ23: =IF(AF23=0,"",VLOOKUP($AE23,$D$6:$P122,AJ$1,FALSE)) -> 1.55 | AK23: =IF(AG23=0,"",VLOOKUP($AE23,$D$6:$P122,AK$1,FALSE)) -> 0.87 | AL23: =IF(AH23=0,"",VLOOKUP($AE23,$D$6:$P122,AL$1,FALSE)) -> 0.343 | AM23: =IF(AI23=0,"",VLOOKUP($AE23,$D$6:$P122,AM$1,FALSE)) -> 0.77 | AO23: =IF(AE23="","",IF(COUNT(AJ23:AM23)=4,"",IF(COUNT(AQ23:AS23)>0,"","x"))) | AU23: =IF(COUNT(AQ23:AR23)>0,SUM(AQ23:AR23),IF(AS23="","",ROUND((50*AS23-5)/6,2))) | AV23: =IF(AU23="","",ROUND((12*AU23+10)/30,2)) | AW23: =IF(AU23="","",ROUND((6*AU23+5)/50,3)) | AY23: =IF(AJ23="",AU23,AJ23) -> 1.55 | AZ23: =IF(AK23="",AV23,AK23) -> 0.87 | BA23: =IF(AL23="",AW23,AL23) -> 0.343 | BE23: 292 | BF23: Sjaak Geurts | BH23: =IF(AY23="","",ROUND(BH$1*AY23,0)) -> 47 | BI23: =IF(AZ23="","",ROUND(BI$1*AZ23,0)) -> 26 | BJ23: =IF(BA23="","",ROUND(BJ$1*BA23,0)) -> 17 | BK23: =IF(AY23="","",ROUND(BK$1*AY23,0)) -> 26 | BL23: 18 | BM23: =IF(BL23>BM$4,"",100*BE23+BL23) -> 29218 | BN23: =IF(BM23="","",SMALL(BM$6:BM$105,BL23)) -> 29218 | BO23: =IF(BN23="","",INT(BN23/100)) -> 292 | BP23: =IF(BN23="","",BN23-100*BO23) -> 18 | BR23: {=IF($BP23="","",IF(INDEX(BC$6:BC$105,$BP23,1)="","",INDEX(BC$6:BC$105,$BP23,1)))} | BS23: {=IF($BP23="","",IF(INDEX(BD$6:BD$105,$BP23,1)="","",INDEX(BD$6:BD$105,$BP23,1)))} | BT23: {=IF($BP23="","",IF(INDEX(BE$6:BE$105,$BP23,1)="","",INDEX(BE$6:BE$105,$BP23,1)))} -> 292 | BU23: {=IF($BP23="","",IF(INDEX(BF$6:BF$105,$BP23,1)="","",INDEX(BF$6:BF$105,$BP23,1)))} -> Sjaak Geurts | BV23: {=IF($BP23="","",IF(INDEX(BG$6:BG$105,$BP23,1)="","",INDEX(BG$6:BG$105,$BP23,1)))} | BW23: {=IF($BP23="","",IF(INDEX(BH$6:BH$105,$BP23,1)="","",INDEX(BH$6:BH$105,$BP23,1)))} -> 47 | BX23: {=IF($BP23="","",IF(INDEX(BI$6:BI$105,$BP23,1)="","",INDEX(BI$6:BI$105,$BP23,1)))} -> 26 | BY23: {=IF($BP23="","",IF(INDEX(BJ$6:BJ$105,$BP23,1)="","",INDEX(BJ$6:BJ$105,$BP23,1)))} -> 17 | BZ23: {=IF($BP23="","",IF(INDEX(BK$6:BK$105,$BP23,1)="","",INDEX(BK$6:BK$105,$BP23,1)))} -> 26 | CB23: =IF(BU23="","",BU23) -> Sjaak Geurts | CC23: =IF($CB23="","",VLOOKUP($CB23,$AE$6:$AM$105,CC$1,FALSE)) -> 7 | CD23: =IF($CB23="","",VLOOKUP($CB23,$AE$6:$AM$105,CD$1,FALSE)) -> 1.55 | CE23: =IF($CB23="","",VLOOKUP($CB23,$AE$6:$AM$105,CE$1,FALSE)) -> 3 | CF23: =IF($CB23="","",VLOOKUP($CB23,$AE$6:$AM$105,CF$1,FALSE)) -> 0.87 | CG23: =IF($CB23="","",VLOOKUP($CB23,$AE$6:$AM$105,CG$1,FALSE)) -> 7 | CH23: =IF($CB23="","",VLOOKUP($CB23,$AE$6:$AM$105,CH$1,FALSE)) -> 0.343 | CI23: =IF($CB23="","",VLOOKUP($CB23,$AE$6:$AM$105,CI$1,FALSE)) -> 3 | CJ23: =IF($CB23="","",VLOOKUP($CB23,$AE$6:$AM$105,CJ$1,FALSE)) -> 0.77
A24: 2202 | C24: 41 | D24: Wim v.d. Loo | E24: 1 | F24: 1.22 | G24: 7 | I24: 0.67 | J24: 14 | L24: 0.19 | M24: 20 | O24: 0 | P24: 0 | U24: 293 | V24: Huub Graat | X24: 68 | Y24: 39 | Z24: 30 | AA24: 38 | AD24: =IF(V24="","",COUNTIF(D$6:D$105,V24)) -> 1 | AE24: =IF(V24="","",V24) -> Huub Graat | AF24: =IF($AD24=1,VLOOKUP($AE24,$D$6:$P$105,AF$1,FALSE),0) -> 5 | AG24: =IF($AD24=1,VLOOKUP($AE24,$D$6:$P$105,AG$1,FALSE),0) -> 3 | AH24: =IF($AD24=1,VLOOKUP($AE24,$D$6:$P$105,AH$1,FALSE),0) -> 5 | AI24: =IF($AD24=1,VLOOKUP($AE24,$D$6:$P$105,AI$1,FALSE),0) -> 4 | AJ24: =IF(AF24=0,"",VLOOKUP($AE24,$D$6:$P123,AJ$1,FALSE)) -> 2.25 | AK24: =IF(AG24=0,"",VLOOKUP($AE24,$D$6:$P123,AK$1,FALSE)) -> 1.29 | AL24: =IF(AH24=0,"",VLOOKUP($AE24,$D$6:$P123,AL$1,FALSE)) -> 0.593 | AM24: =IF(AI24=0,"",VLOOKUP($AE24,$D$6:$P123,AM$1,FALSE)) -> 1.06 | AO24: =IF(AE24="","",IF(COUNT(AJ24:AM24)=4,"",IF(COUNT(AQ24:AS24)>0,"","x"))) | AU24: =IF(COUNT(AQ24:AR24)>0,SUM(AQ24:AR24),IF(AS24="","",ROUND((50*AS24-5)/6,2))) | AV24: =IF(AU24="","",ROUND((12*AU24+10)/30,2)) | AW24: =IF(AU24="","",ROUND((6*AU24+5)/50,3)) | AY24: =IF(AJ24="",AU24,AJ24) -> 2.25 | AZ24: =IF(AK24="",AV24,AK24) -> 1.29 | BA24: =IF(AL24="",AW24,AL24) -> 0.593 | BE24: 293 | BF24: Huub Graat | BH24: =IF(AY24="","",ROUND(BH$1*AY24,0)) -> 68 | BI24: =IF(AZ24="","",ROUND(BI$1*AZ24,0)) -> 39 | BJ24: =IF(BA24="","",ROUND(BJ$1*BA24,0)) -> 30 | BK24: =IF(AY24="","",ROUND(BK$1*AY24,0)) -> 38 | BL24: 19 | BM24: =IF(BL24>BM$4,"",100*BE24+BL24) -> 29319 | BN24: =IF(BM24="","",SMALL(BM$6:BM$105,BL24)) -> 29319 | BO24: =IF(BN24="","",INT(BN24/100)) -> 293 | BP24: =IF(BN24="","",BN24-100*BO24) -> 19 | BR24: {=IF($BP24="","",IF(INDEX(BC$6:BC$105,$BP24,1)="","",INDEX(BC$6:BC$105,$BP24,1)))} | BS24: {=IF($BP24="","",IF(INDEX(BD$6:BD$105,$BP24,1)="","",INDEX(BD$6:BD$105,$BP24,1)))} | BT24: {=IF($BP24="","",IF(INDEX(BE$6:BE$105,$BP24,1)="","",INDEX(BE$6:BE$105,$BP24,1)))} -> 293 | BU24: {=IF($BP24="","",IF(INDEX(BF$6:BF$105,$BP24,1)="","",INDEX(BF$6:BF$105,$BP24,1)))} -> Huub Graat | BV24: {=IF($BP24="","",IF(INDEX(BG$6:BG$105,$BP24,1)="","",INDEX(BG$6:BG$105,$BP24,1)))} | BW24: {=IF($BP24="","",IF(INDEX(BH$6:BH$105,$BP24,1)="","",INDEX(BH$6:BH$105,$BP24,1)))} -> 68 | BX24: {=IF($BP24="","",IF(INDEX(BI$6:BI$105,$BP24,1)="","",INDEX(BI$6:BI$105,$BP24,1)))} -> 39 | BY24: {=IF($BP24="","",IF(INDEX(BJ$6:BJ$105,$BP24,1)="","",INDEX(BJ$6:BJ$105,$BP24,1)))} -> 30 | BZ24: {=IF($BP24="","",IF(INDEX(BK$6:BK$105,$BP24,1)="","",INDEX(BK$6:BK$105,$BP24,1)))} -> 38 | CB24: =IF(BU24="","",BU24) -> Huub Graat | CC24: =IF($CB24="","",VLOOKUP($CB24,$AE$6:$AM$105,CC$1,FALSE)) -> 5 | CD24: =IF($CB24="","",VLOOKUP($CB24,$AE$6:$AM$105,CD$1,FALSE)) -> 2.25 | CE24: =IF($CB24="","",VLOOKUP($CB24,$AE$6:$AM$105,CE$1,FALSE)) -> 3 | CF24: =IF($CB24="","",VLOOKUP($CB24,$AE$6:$AM$105,CF$1,FALSE)) -> 1.29 | CG24: =IF($CB24="","",VLOOKUP($CB24,$AE$6:$AM$105,CG$1,FALSE)) -> 5 | CH24: =IF($CB24="","",VLOOKUP($CB24,$AE$6:$AM$105,CH$1,FALSE)) -> 0.593 | CI24: =IF($CB24="","",VLOOKUP($CB24,$AE$6:$AM$105,CI$1,FALSE)) -> 4 | CJ24: =IF($CB24="","",VLOOKUP($CB24,$AE$6:$AM$105,CJ$1,FALSE)) -> 1.06
A25: 2203 | B25: L | C25: 52 | D25: Leo Pingen | E25: 1 | F25: 1.85 | G25: 13 | I25: 0.9 | J25: 18 | L25: 0.24 | M25: 9 | O25: 0.86 | P25: 12 | U25: 294 | V25: Miel Brueren | X25: 116 | Y25: 56 | Z25: 28 | AA25: 66 | AD25: =IF(V25="","",COUNTIF(D$6:D$105,V25)) -> 1 | AE25: =IF(V25="","",V25) -> Miel Brueren | AF25: =IF($AD25=1,VLOOKUP($AE25,$D$6:$P$105,AF$1,FALSE),0) -> 3 | AG25: =IF($AD25=1,VLOOKUP($AE25,$D$6:$P$105,AG$1,FALSE),0) -> 3 | AH25: =IF($AD25=1,VLOOKUP($AE25,$D$6:$P$105,AH$1,FALSE),0) -> 2 | AI25: =IF($AD25=1,VLOOKUP($AE25,$D$6:$P$105,AI$1,FALSE),0) -> 1 | AJ25: =IF(AF25=0,"",VLOOKUP($AE25,$D$6:$P124,AJ$1,FALSE)) -> 4.27 | AK25: =IF(AG25=0,"",VLOOKUP($AE25,$D$6:$P124,AK$1,FALSE)) -> 3.13 | AL25: =IF(AH25=0,"",VLOOKUP($AE25,$D$6:$P124,AL$1,FALSE)) -> 0.723 | AM25: =IF(AI25=0,"",VLOOKUP($AE25,$D$6:$P124,AM$1,FALSE)) -> 1.34 | AO25: =IF(AE25="","",IF(COUNT(AJ25:AM25)=4,"",IF(COUNT(AQ25:AS25)>0,"","x"))) | AU25: =IF(COUNT(AQ25:AR25)>0,SUM(AQ25:AR25),IF(AS25="","",ROUND((50*AS25-5)/6,2))) | AV25: =IF(AU25="","",ROUND((12*AU25+10)/30,2)) | AW25: =IF(AU25="","",ROUND((6*AU25+5)/50,3)) | AY25: =IF(AJ25="",AU25,AJ25) -> 4.27 | AZ25: =IF(AK25="",AV25,AK25) -> 3.13 | BA25: =IF(AL25="",AW25,AL25) -> 0.723 | BE25: 294 | BF25: Miel Brueren | BH25: =IF(AY25="","",ROUND(BH$1*AY25,0)) -> 128 | BI25: =IF(AZ25="","",ROUND(BI$1*AZ25,0)) -> 94 | BJ25: =IF(BA25="","",ROUND(BJ$1*BA25,0)) -> 36 | BK25: =IF(AY25="","",ROUND(BK$1*AY25,0)) -> 73 | BL25: 20 | BM25: =IF(BL25>BM$4,"",100*BE25+BL25) -> 29420 | BN25: =IF(BM25="","",SMALL(BM$6:BM$105,BL25)) -> 29420 | BO25: =IF(BN25="","",INT(BN25/100)) -> 294 | BP25: =IF(BN25="","",BN25-100*BO25) -> 20 | BR25: {=IF($BP25="","",IF(INDEX(BC$6:BC$105,$BP25,1)="","",INDEX(BC$6:BC$105,$BP25,1)))} | BS25: {=IF($BP25="","",IF(INDEX(BD$6:BD$105,$BP25,1)="","",INDEX(BD$6:BD$105,$BP25,1)))} | BT25: {=IF($BP25="","",IF(INDEX(BE$6:BE$105,$BP25,1)="","",INDEX(BE$6:BE$105,$BP25,1)))} -> 294 | BU25: {=IF($BP25="","",IF(INDEX(BF$6:BF$105,$BP25,1)="","",INDEX(BF$6:BF$105,$BP25,1)))} -> Miel Brueren | BV25: {=IF($BP25="","",IF(INDEX(BG$6:BG$105,$BP25,1)="","",INDEX(BG$6:BG$105,$BP25,1)))} | BW25: {=IF($BP25="","",IF(INDEX(BH$6:BH$105,$BP25,1)="","",INDEX(BH$6:BH$105,$BP25,1)))} -> 128 | BX25: {=IF($BP25="","",IF(INDEX(BI$6:BI$105,$BP25,1)="","",INDEX(BI$6:BI$105,$BP25,1)))} -> 94 | BY25: {=IF($BP25="","",IF(INDEX(BJ$6:BJ$105,$BP25,1)="","",INDEX(BJ$6:BJ$105,$BP25,1)))} -> 36 | BZ25: {=IF($BP25="","",IF(INDEX(BK$6:BK$105,$BP25,1)="","",INDEX(BK$6:BK$105,$BP25,1)))} -> 73 | CB25: =IF(BU25="","",BU25) -> Miel Brueren | CC25: =IF($CB25="","",VLOOKUP($CB25,$AE$6:$AM$105,CC$1,FALSE)) -> 3 | CD25: =IF($CB25="","",VLOOKUP($CB25,$AE$6:$AM$105,CD$1,FALSE)) -> 4.27 | CE25: =IF($CB25="","",VLOOKUP($CB25,$AE$6:$AM$105,CE$1,FALSE)) -> 3 | CF25: =IF($CB25="","",VLOOKUP($CB25,$AE$6:$AM$105,CF$1,FALSE)) -> 3.13 | CG25: =IF($CB25="","",VLOOKUP($CB25,$AE$6:$AM$105,CG$1,FALSE)) -> 2 | CH25: =IF($CB25="","",VLOOKUP($CB25,$AE$6:$AM$105,CH$1,FALSE)) -> 0.723 | CI25: =IF($CB25="","",VLOOKUP($CB25,$AE$6:$AM$105,CI$1,FALSE)) -> 1 | CJ25: =IF($CB25="","",VLOOKUP($CB25,$AE$6:$AM$105,CJ$1,FALSE)) -> 1.34
A26: 2204 | C26: 37 | D26: Nol Reijmer | E26: 1 | F26: 0.85 | G26: 11 | I26: 0.62 | J26: 13 | L26: 0.2 | M26: 5 | O26: 0.62 | P26: 8 | U26: 295 | V26: Bram Volleberg | X26: 63 | Y26: 33 | Z26: 16 | AA26: 36 | AD26: =IF(V26="","",COUNTIF(D$6:D$105,V26)) -> 1 | AE26: =IF(V26="","",V26) -> Bram Volleberg | AF26: =IF($AD26=1,VLOOKUP($AE26,$D$6:$P$105,AF$1,FALSE),0) -> 3 | AG26: =IF($AD26=1,VLOOKUP($AE26,$D$6:$P$105,AG$1,FALSE),0) -> 1 | AH26: =IF($AD26=1,VLOOKUP($AE26,$D$6:$P$105,AH$1,FALSE),0) -> 0 | AI26: =IF($AD26=1,VLOOKUP($AE26,$D$6:$P$105,AI$1,FALSE),0) -> 3 | AJ26: =IF(AF26=0,"",VLOOKUP($AE26,$D$6:$P125,AJ$1,FALSE)) -> 2.13 | AK26: =IF(AG26=0,"",VLOOKUP($AE26,$D$6:$P125,AK$1,FALSE)) -> 1.1 | AL26: =IF(AH26=0,"",VLOOKUP($AE26,$D$6:$P125,AL$1,FALSE)) | AM26: =IF(AI26=0,"",VLOOKUP($AE26,$D$6:$P125,AM$1,FALSE)) -> 1 | AO26: =IF(AE26="","",IF(COUNT(AJ26:AM26)=4,"",IF(COUNT(AQ26:AS26)>0,"","x"))) | AR26: 2.07 | AU26: =IF(COUNT(AQ26:AR26)>0,SUM(AQ26:AR26),IF(AS26="","",ROUND((50*AS26-5)/6,2))) -> 2.07 | AV26: =IF(AU26="","",ROUND((12*AU26+10)/30,2)) -> 1.16 | AW26: =IF(AU26="","",ROUND((6*AU26+5)/50,3)) -> 0.348 | AY26: =IF(AJ26="",AU26,AJ26) -> 2.13 | AZ26: =IF(AK26="",AV26,AK26) -> 1.1 | BA26: =IF(AL26="",AW26,AL26) -> 0.348 | BE26: 295 | BF26: Bram Volleberg | BH26: =IF(AY26="","",ROUND(BH$1*AY26,0)) -> 64 | BI26: =IF(AZ26="","",ROUND(BI$1*AZ26,0)) -> 33 | BJ26: =IF(BA26="","",ROUND(BJ$1*BA26,0)) -> 17 | BK26: =IF(AY26="","",ROUND(BK$1*AY26,0)) -> 36 | BL26: 21 | BM26: =IF(BL26>BM$4,"",100*BE26+BL26) -> 29521 | BN26: =IF(BM26="","",SMALL(BM$6:BM$105,BL26)) -> 29521 | BO26: =IF(BN26="","",INT(BN26/100)) -> 295 | BP26: =IF(BN26="","",BN26-100*BO26) -> 21 | BR26: {=IF($BP26="","",IF(INDEX(BC$6:BC$105,$BP26,1)="","",INDEX(BC$6:BC$105,$BP26,1)))} | BS26: {=IF($BP26="","",IF(INDEX(BD$6:BD$105,$BP26,1)="","",INDEX(BD$6:BD$105,$BP26,1)))} | BT26: {=IF($BP26="","",IF(INDEX(BE$6:BE$105,$BP26,1)="","",INDEX(BE$6:BE$105,$BP26,1)))} -> 295 | BU26: {=IF($BP26="","",IF(INDEX(BF$6:BF$105,$BP26,1)="","",INDEX(BF$6:BF$105,$BP26,1)))} -> Bram Volleberg | BV26: {=IF($BP26="","",IF(INDEX(BG$6:BG$105,$BP26,1)="","",INDEX(BG$6:BG$105,$BP26,1)))} | BW26: {=IF($BP26="","",IF(INDEX(BH$6:BH$105,$BP26,1)="","",INDEX(BH$6:BH$105,$BP26,1)))} -> 64 | BX26: {=IF($BP26="","",IF(INDEX(BI$6:BI$105,$BP26,1)="","",INDEX(BI$6:BI$105,$BP26,1)))} -> 33 | BY26: {=IF($BP26="","",IF(INDEX(BJ$6:BJ$105,$BP26,1)="","",INDEX(BJ$6:BJ$105,$BP26,1)))} -> 17 | BZ26: {=IF($BP26="","",IF(INDEX(BK$6:BK$105,$BP26,1)="","",INDEX(BK$6:BK$105,$BP26,1)))} -> 36 | CB26: =IF(BU26="","",BU26) -> Bram Volleberg | CC26: =IF($CB26="","",VLOOKUP($CB26,$AE$6:$AM$105,CC$1,FALSE)) -> 3 | CD26: =IF($CB26="","",VLOOKUP($CB26,$AE$6:$AM$105,CD$1,FALSE)) -> 2.13 | CE26: =IF($CB26="","",VLOOKUP($CB26,$AE$6:$AM$105,CE$1,FALSE)) -> 1 | CF26: =IF($CB26="","",VLOOKUP($CB26,$AE$6:$AM$105,CF$1,FALSE)) -> 1.1 | CG26: =IF($CB26="","",VLOOKUP($CB26,$AE$6:$AM$105,CG$1,FALSE)) -> 0 | CH26: =IF($CB26="","",VLOOKUP($CB26,$AE$6:$AM$105,CH$1,FALSE)) | CI26: =IF($CB26="","",VLOOKUP($CB26,$AE$6:$AM$105,CI$1,FALSE)) -> 3 | CJ26: =IF($CB26="","",VLOOKUP($CB26,$AE$6:$AM$105,CJ$1,FALSE)) -> 1
A27: 2901 | C27: 3 | D27: Ron Driessen | E27: 1 | F27: 0.88 | G27: 1 | I27: 0.47 | J27: 1 | L27: 0 | M27: 0 | O27: 0.67 | P27: 1 | S27: B.V. Velden 1 | T27: 31 | U27: 311 | V27: Albert Paulus | W27: L | X27: 74 | Y27: 53 | Z27: 26 | AA27: 42 | AD27: =IF(V27="","",COUNTIF(D$6:D$105,V27)) -> 1 | AE27: =IF(V27="","",V27) -> Albert Paulus | AF27: =IF($AD27=1,VLOOKUP($AE27,$D$6:$P$105,AF$1,FALSE),0) -> 9 | AG27: =IF($AD27=1,VLOOKUP($AE27,$D$6:$P$105,AG$1,FALSE),0) -> 12 | AH27: =IF($AD27=1,VLOOKUP($AE27,$D$6:$P$105,AH$1,FALSE),0) -> 16 | AI27: =IF($AD27=1,VLOOKUP($AE27,$D$6:$P$105,AI$1,FALSE),0) -> 5 | AJ27: =IF(AF27=0,"",VLOOKUP($AE27,$D$6:$P126,AJ$1,FALSE)) -> 2.42 | AK27: =IF(AG27=0,"",VLOOKUP($AE27,$D$6:$P126,AK$1,FALSE)) -> 1.73 | AL27: =IF(AH27=0,"",VLOOKUP($AE27,$D$6:$P126,AL$1,FALSE)) -> 0.536 | AM27: =IF(AI27=0,"",VLOOKUP($AE27,$D$6:$P126,AM$1,FALSE)) -> 1.29 | AO27: =IF(AE27="","",IF(COUNT(AJ27:AM27)=4,"",IF(COUNT(AQ27:AS27)>0,"","x"))) | AU27: =IF(COUNT(AQ27:AR27)>0,SUM(AQ27:AR27),IF(AS27="","",ROUND((50*AS27-5)/6,2))) | AV27: =IF(AU27="","",ROUND((12*AU27+10)/30,2)) | AW27: =IF(AU27="","",ROUND((6*AU27+5)/50,3)) | AY27: =IF(AJ27="",AU27,AJ27) -> 2.42 | AZ27: =IF(AK27="",AV27,AK27) -> 1.73 | BA27: =IF(AL27="",AW27,AL27) -> 0.536 | BC27: B.V. Velden 1 | BD27: 31 | BE27: 311 | BF27: Albert Paulus | BG27: L | BH27: =IF(AY27="","",ROUND(BH$1*AY27,0)) -> 73 | BI27: =IF(AZ27="","",ROUND(BI$1*AZ27,0)) -> 52 | BJ27: =IF(BA27="","",ROUND(BJ$1*BA27,0)) -> 27 | BK27: =IF(AY27="","",ROUND(BK$1*AY27,0)) -> 41 | BL27: 22 | BM27: =IF(BL27>BM$4,"",100*BE27+BL27) -> 31122 | BN27: =IF(BM27="","",SMALL(BM$6:BM$105,BL27)) -> 29655 | BO27: =IF(BN27="","",INT(BN27/100)) -> 296 | BP27: =IF(BN27="","",BN27-100*BO27) -> 55 | BR27: {=IF($BP27="","",IF(INDEX(BC$6:BC$105,$BP27,1)="","",INDEX(BC$6:BC$105,$BP27,1)))} | BS27: {=IF($BP27="","",IF(INDEX(BD$6:BD$105,$BP27,1)="","",INDEX(BD$6:BD$105,$BP27,1)))} | BT27: {=IF($BP27="","",IF(INDEX(BE$6:BE$105,$BP27,1)="","",INDEX(BE$6:BE$105,$BP27,1)))} -> 296 | BU27: {=IF($BP27="","",IF(INDEX(BF$6:BF$105,$BP27,1)="","",INDEX(BF$6:BF$105,$BP27,1)))} -> Ron Vermazeren | BV27: {=IF($BP27="","",IF(INDEX(BG$6:BG$105,$BP27,1)="","",INDEX(BG$6:BG$105,$BP27,1)))} | BW27: {=IF($BP27="","",IF(INDEX(BH$6:BH$105,$BP27,1)="","",INDEX(BH$6:BH$105,$BP27,1)))} -> 111 | BX27: {=IF($BP27="","",IF(INDEX(BI$6:BI$105,$BP27,1)="","",INDEX(BI$6:BI$105,$BP27,1)))} -> 28 | BY27: {=IF($BP27="","",IF(INDEX(BJ$6:BJ$105,$BP27,1)="","",INDEX(BJ$6:BJ$105,$BP27,1)))} -> 13 | BZ27: {=IF($BP27="","",IF(INDEX(BK$6:BK$105,$BP27,1)="","",INDEX(BK$6:BK$105,$BP27,1)))} -> 63 | CB27: =IF(BU27="","",BU27) -> Ron Vermazeren | CC27: =IF($CB27="","",VLOOKUP($CB27,$AE$6:$AM$105,CC$1,FALSE)) -> 0 | CD27: =IF($CB27="","",VLOOKUP($CB27,$AE$6:$AM$105,CD$1,FALSE)) | CE27: =IF($CB27="","",VLOOKUP($CB27,$AE$6:$AM$105,CE$1,FALSE)) -> 1 | CF27: =IF($CB27="","",VLOOKUP($CB27,$AE$6:$AM$105,CF$1,FALSE)) -> 0.94 | CG27: =IF($CB27="","",VLOOKUP($CB27,$AE$6:$AM$105,CG$1,FALSE)) -> 1 | CH27: =IF($CB27="","",VLOOKUP($CB27,$AE$6:$AM$105,CH$1,FALSE)) -> 0.25 | CI27: =IF($CB27="","",VLOOKUP($CB27,$AE$6:$AM$105,CI$1,FALSE)) -> 0 | CJ27: =IF($CB27="","",VLOOKUP($CB27,$AE$6:$AM$105,CJ$1,FALSE))
A28: 2903 | C28: 0 | D28: Geert v.d. Hombergh | E28: 1 | F28: 0 | G28: 0 | I28: 0 | J28: 0 | L28: 0 | M28: 0 | O28: 0 | P28: 0 | U28: 312 | V28: Hans Eikelenberg | X28: 66 | Y28: 41 | Z28: 23 | AA28: 37 | AD28: =IF(V28="","",COUNTIF(D$6:D$105,V28)) -> 1 | AE28: =IF(V28="","",V28) -> Hans Eikelenberg | AF28: =IF($AD28=1,VLOOKUP($AE28,$D$6:$P$105,AF$1,FALSE),0) -> 10 | AG28: =IF($AD28=1,VLOOKUP($AE28,$D$6:$P$105,AG$1,FALSE),0) -> 11 | AH28: =IF($AD28=1,VLOOKUP($AE28,$D$6:$P$105,AH$1,FALSE),0) -> 14 | AI28: =IF($AD28=1,VLOOKUP($AE28,$D$6:$P$105,AI$1,FALSE),0) -> 6 | AJ28: =IF(AF28=0,"",VLOOKUP($AE28,$D$6:$P127,AJ$1,FALSE)) -> 2.18 | AK28: =IF(AG28=0,"",VLOOKUP($AE28,$D$6:$P127,AK$1,FALSE)) -> 1.39 | AL28: =IF(AH28=0,"",VLOOKUP($AE28,$D$6:$P127,AL$1,FALSE)) -> 0.397 | AM28: =IF(AI28=0,"",VLOOKUP($AE28,$D$6:$P127,AM$1,FALSE)) -> 1.16 | AO28: =IF(AE28="","",IF(COUNT(AJ28:AM28)=4,"",IF(COUNT(AQ28:AS28)>0,"","x"))) | AU28: =IF(COUNT(AQ28:AR28)>0,SUM(AQ28:AR28),IF(AS28="","",ROUND((50*AS28-5)/6,2))) | AV28: =IF(AU28="","",ROUND((12*AU28+10)/30,2)) | AW28: =IF(AU28="","",ROUND((6*AU28+5)/50,3)) | AY28: =IF(AJ28="",AU28,AJ28) -> 2.18 | AZ28: =IF(AK28="",AV28,AK28) -> 1.39 | BA28: =IF(AL28="",AW28,AL28) -> 0.397 | BE28: 312 | BF28: Hans Eikelenberg | BH28: =IF(AY28="","",ROUND(BH$1*AY28,0)) -> 65 | BI28: =IF(AZ28="","",ROUND(BI$1*AZ28,0)) -> 42 | BJ28: =IF(BA28="","",ROUND(BJ$1*BA28,0)) -> 20 | BK28: =IF(AY28="","",ROUND(BK$1*AY28,0)) -> 37 | BL28: 23 | BM28: =IF(BL28>BM$4,"",100*BE28+BL28) -> 31223 | BN28: =IF(BM28="","",SMALL(BM$6:BM$105,BL28)) -> 31122 | BO28: =IF(BN28="","",INT(BN28/100)) -> 311 | BP28: =IF(BN28="","",BN28-100*BO28) -> 22 | BR28: {=IF($BP28="","",IF(INDEX(BC$6:BC$105,$BP28,1)="","",INDEX(BC$6:BC$105,$BP28,1)))} -> B.V. Velden 1 | BS28: {=IF($BP28="","",IF(INDEX(BD$6:BD$105,$BP28,1)="","",INDEX(BD$6:BD$105,$BP28,1)))} -> 31 | BT28: {=IF($BP28="","",IF(INDEX(BE$6:BE$105,$BP28,1)="","",INDEX(BE$6:BE$105,$BP28,1)))} -> 311 | BU28: {=IF($BP28="","",IF(INDEX(BF$6:BF$105,$BP28,1)="","",INDEX(BF$6:BF$105,$BP28,1)))} -> Albert Paulus | BV28: {=IF($BP28="","",IF(INDEX(BG$6:BG$105,$BP28,1)="","",INDEX(BG$6:BG$105,$BP28,1)))} -> L | BW28: {=IF($BP28="","",IF(INDEX(BH$6:BH$105,$BP28,1)="","",INDEX(BH$6:BH$105,$BP28,1)))} -> 73 | BX28: {=IF($BP28="","",IF(INDEX(BI$6:BI$105,$BP28,1)="","",INDEX(BI$6:BI$105,$BP28,1)))} -> 52 | BY28: {=IF($BP28="","",IF(INDEX(BJ$6:BJ$105,$BP28,1)="","",INDEX(BJ$6:BJ$105,$BP28,1)))} -> 27 | BZ28: {=IF($BP28="","",IF(INDEX(BK$6:BK$105,$BP28,1)="","",INDEX(BK$6:BK$105,$BP28,1)))} -> 41 | CB28: =IF(BU28="","",BU28) -> Albert Paulus | CC28: =IF($CB28="","",VLOOKUP($CB28,$AE$6:$AM$105,CC$1,FALSE)) -> 9 | CD28: =IF($CB28="","",VLOOKUP($CB28,$AE$6:$AM$105,CD$1,FALSE)) -> 2.42 | CE28: =IF($CB28="","",VLOOKUP($CB28,$AE$6:$AM$105,CE$1,FALSE)) -> 12 | CF28: =IF($CB28="","",VLOOKUP($CB28,$AE$6:$AM$105,CF$1,FALSE)) -> 1.73 | CG28: =IF($CB28="","",VLOOKUP($CB28,$AE$6:$AM$105,CG$1,FALSE)) -> 16 | CH28: =IF($CB28="","",VLOOKUP($CB28,$AE$6:$AM$105,CH$1,FALSE)) -> 0.536 | CI28: =IF($CB28="","",VLOOKUP($CB28,$AE$6:$AM$105,CI$1,FALSE)) -> 5 | CJ28: =IF($CB28="","",VLOOKUP($CB28,$AE$6:$AM$105,CJ$1,FALSE)) -> 1.29
A29: 2904 | C29: 0 | D29: René Huijs | E29: 1 | F29: 0 | G29: 0 | I29: 0 | J29: 0 | L29: 0 | M29: 0 | O29: 0 | P29: 0 | U29: 313 | V29: Henk Peters | X29: 28 | Y29: 17 | Z29: 7 | AA29: 16 | AD29: =IF(V29="","",COUNTIF(D$6:D$105,V29)) -> 1 | AE29: =IF(V29="","",V29) -> Henk Peters | AF29: =IF($AD29=1,VLOOKUP($AE29,$D$6:$P$105,AF$1,FALSE),0) -> 13 | AG29: =IF($AD29=1,VLOOKUP($AE29,$D$6:$P$105,AG$1,FALSE),0) -> 6 | AH29: =IF($AD29=1,VLOOKUP($AE29,$D$6:$P$105,AH$1,FALSE),0) -> 3 | AI29: =IF($AD29=1,VLOOKUP($AE29,$D$6:$P$105,AI$1,FALSE),0) -> 6 | AJ29: =IF(AF29=0,"",VLOOKUP($AE29,$D$6:$P128,AJ$1,FALSE)) -> 0.98 | AK29: =IF(AG29=0,"",VLOOKUP($AE29,$D$6:$P128,AK$1,FALSE)) -> 0.56 | AL29: =IF(AH29=0,"",VLOOKUP($AE29,$D$6:$P128,AL$1,FALSE)) -> 0.145 | AM29: =IF(AI29=0,"",VLOOKUP($AE29,$D$6:$P128,AM$1,FALSE)) -> 0.71 | AO29: =IF(AE29="","",IF(COUNT(AJ29:AM29)=4,"",IF(COUNT(AQ29:AS29)>0,"","x"))) | AU29: =IF(COUNT(AQ29:AR29)>0,SUM(AQ29:AR29),IF(AS29="","",ROUND((50*AS29-5)/6,2))) | AV29: =IF(AU29="","",ROUND((12*AU29+10)/30,2)) | AW29: =IF(AU29="","",ROUND((6*AU29+5)/50,3)) | AY29: =IF(AJ29="",AU29,AJ29) -> 0.98 | AZ29: =IF(AK29="",AV29,AK29) -> 0.56 | BA29: =IF(AL29="",AW29,AL29) -> 0.145 | BE29: 313 | BF29: Henk Peters | BH29: =IF(AY29="","",ROUND(BH$1*AY29,0)) -> 29 | BI29: =IF(AZ29="","",ROUND(BI$1*AZ29,0)) -> 17 | BJ29: =IF(BA29="","",ROUND(BJ$1*BA29,0)) -> 7 | BK29: =IF(AY29="","",ROUND(BK$1*AY29,0)) -> 17 | BL29: 24 | BM29: =IF(BL29>BM$4,"",100*BE29+BL29) -> 31324 | BN29: =IF(BM29="","",SMALL(BM$6:BM$105,BL29)) -> 31223 | BO29: =IF(BN29="","",INT(BN29/100)) -> 312 | BP29: =IF(BN29="","",BN29-100*BO29) -> 23 | BR29: {=IF($BP29="","",IF(INDEX(BC$6:BC$105,$BP29,1)="","",INDEX(BC$6:BC$105,$BP29,1)))} | BS29: {=IF($BP29="","",IF(INDEX(BD$6:BD$105,$BP29,1)="","",INDEX(BD$6:BD$105,$BP29,1)))} | BT29: {=IF($BP29="","",IF(INDEX(BE$6:BE$105,$BP29,1)="","",INDEX(BE$6:BE$105,$BP29,1)))} -> 312 | BU29: {=IF($BP29="","",IF(INDEX(BF$6:BF$105,$BP29,1)="","",INDEX(BF$6:BF$105,$BP29,1)))} -> Hans Eikelenberg | BV29: {=IF($BP29="","",IF(INDEX(BG$6:BG$105,$BP29,1)="","",INDEX(BG$6:BG$105,$BP29,1)))} | BW29: {=IF($BP29="","",IF(INDEX(BH$6:BH$105,$BP29,1)="","",INDEX(BH$6:BH$105,$BP29,1)))} -> 65 | BX29: {=IF($BP29="","",IF(INDEX(BI$6:BI$105,$BP29,1)="","",INDEX(BI$6:BI$105,$BP29,1)))} -> 42 | BY29: {=IF($BP29="","",IF(INDEX(BJ$6:BJ$105,$BP29,1)="","",INDEX(BJ$6:BJ$105,$BP29,1)))} -> 20 | BZ29: {=IF($BP29="","",IF(INDEX(BK$6:BK$105,$BP29,1)="","",INDEX(BK$6:BK$105,$BP29,1)))} -> 37 | CB29: =IF(BU29="","",BU29) -> Hans Eikelenberg | CC29: =IF($CB29="","",VLOOKUP($CB29,$AE$6:$AM$105,CC$1,FALSE)) -> 10 | CD29: =IF($CB29="","",VLOOKUP($CB29,$AE$6:$AM$105,CD$1,FALSE)) -> 2.18 | CE29: =IF($CB29="","",VLOOKUP($CB29,$AE$6:$AM$105,CE$1,FALSE)) -> 11 | CF29: =IF($CB29="","",VLOOKUP($CB29,$AE$6:$AM$105,CF$1,FALSE)) -> 1.39 | CG29: =IF($CB29="","",VLOOKUP($CB29,$AE$6:$AM$105,CG$1,FALSE)) -> 14 | CH29: =IF($CB29="","",VLOOKUP($CB29,$AE$6:$AM$105,CH$1,FALSE)) -> 0.397 | CI29: =IF($CB29="","",VLOOKUP($CB29,$AE$6:$AM$105,CI$1,FALSE)) -> 6 | CJ29: =IF($CB29="","",VLOOKUP($CB29,$AE$6:$AM$105,CJ$1,FALSE)) -> 1.16
A30: 2905 | C30: 0 | D30: Piet Janssen | E30: 1 | F30: 0 | G30: 0 | I30: 0 | J30: 0 | L30: 0 | M30: 0 | O30: 0 | P30: 0 | U30: 314 | V30: Lambert Lucassen | X30: 26 | Y30: 15 | Z30: 11 | AA30: 15 | AD30: =IF(V30="","",COUNTIF(D$6:D$105,V30)) -> 1 | AE30: =IF(V30="","",V30) -> Lambert Lucassen | AF30: =IF($AD30=1,VLOOKUP($AE30,$D$6:$P$105,AF$1,FALSE),0) -> 13 | AG30: =IF($AD30=1,VLOOKUP($AE30,$D$6:$P$105,AG$1,FALSE),0) -> 6 | AH30: =IF($AD30=1,VLOOKUP($AE30,$D$6:$P$105,AH$1,FALSE),0) -> 6 | AI30: =IF($AD30=1,VLOOKUP($AE30,$D$6:$P$105,AI$1,FALSE),0) -> 0 | AJ30: =IF(AF30=0,"",VLOOKUP($AE30,$D$6:$P129,AJ$1,FALSE)) -> 0.82 | AK30: =IF(AG30=0,"",VLOOKUP($AE30,$D$6:$P129,AK$1,FALSE)) -> 0.51 | AL30: =IF(AH30=0,"",VLOOKUP($AE30,$D$6:$P129,AL$1,FALSE)) -> 0.226 | AM30: =IF(AI30=0,"",VLOOKUP($AE30,$D$6:$P129,AM$1,FALSE)) | AO30: =IF(AE30="","",IF(COUNT(AJ30:AM30)=4,"",IF(COUNT(AQ30:AS30)>0,"","x"))) | AQ30: 0.87 | AU30: =IF(COUNT(AQ30:AR30)>0,SUM(AQ30:AR30),IF(AS30="","",ROUND((50*AS30-5)/6,2))) -> 0.87 | AV30: =IF(AU30="","",ROUND((12*AU30+10)/30,2)) -> 0.68 | AW30: =IF(AU30="","",ROUND((6*AU30+5)/50,3)) -> 0.204 | AY30: =IF(AJ30="",AU30,AJ30) -> 0.82 | AZ30: =IF(AK30="",AV30,AK30) -> 0.51 | BA30: =IF(AL30="",AW30,AL30) -> 0.226 | BE30: 314 | BF30: Lambert Lucassen | BH30: =IF(AY30="","",ROUND(BH$1*AY30,0)) -> 25 | BI30: =IF(AZ30="","",ROUND(BI$1*AZ30,0)) -> 15 | BJ30: =IF(BA30="","",ROUND(BJ$1*BA30,0)) -> 11 | BK30: =IF(AY30="","",ROUND(BK$1*AY30,0)) -> 14 | BL30: 25 | BM30: =IF(BL30>BM$4,"",100*BE30+BL30) -> 31425 | BN30: =IF(BM30="","",SMALL(BM$6:BM$105,BL30)) -> 31324 | BO30: =IF(BN30="","",INT(BN30/100)) -> 313 | BP30: =IF(BN30="","",BN30-100*BO30) -> 24 | BR30: {=IF($BP30="","",IF(INDEX(BC$6:BC$105,$BP30,1)="","",INDEX(BC$6:BC$105,$BP30,1)))} | BS30: {=IF($BP30="","",IF(INDEX(BD$6:BD$105,$BP30,1)="","",INDEX(BD$6:BD$105,$BP30,1)))} | BT30: {=IF($BP30="","",IF(INDEX(BE$6:BE$105,$BP30,1)="","",INDEX(BE$6:BE$105,$BP30,1)))} -> 313 | BU30: {=IF($BP30="","",IF(INDEX(BF$6:BF$105,$BP30,1)="","",INDEX(BF$6:BF$105,$BP30,1)))} -> Henk Peters | BV30: {=IF($BP30="","",IF(INDEX(BG$6:BG$105,$BP30,1)="","",INDEX(BG$6:BG$105,$BP30,1)))} | BW30: {=IF($BP30="","",IF(INDEX(BH$6:BH$105,$BP30,1)="","",INDEX(BH$6:BH$105,$BP30,1)))} -> 29 | BX30: {=IF($BP30="","",IF(INDEX(BI$6:BI$105,$BP30,1)="","",INDEX(BI$6:BI$105,$BP30,1)))} -> 17 | BY30: {=IF($BP30="","",IF(INDEX(BJ$6:BJ$105,$BP30,1)="","",INDEX(BJ$6:BJ$105,$BP30,1)))} -> 7 | BZ30: {=IF($BP30="","",IF(INDEX(BK$6:BK$105,$BP30,1)="","",INDEX(BK$6:BK$105,$BP30,1)))} -> 17 | CB30: =IF(BU30="","",BU30) -> Henk Peters | CC30: =IF($CB30="","",VLOOKUP($CB30,$AE$6:$AM$105,CC$1,FALSE)) -> 13 | CD30: =IF($CB30="","",VLOOKUP($CB30,$AE$6:$AM$105,CD$1,FALSE)) -> 0.98 | CE30: =IF($CB30="","",VLOOKUP($CB30,$AE$6:$AM$105,CE$1,FALSE)) -> 6 | CF30: =IF($CB30="","",VLOOKUP($CB30,$AE$6:$AM$105,CF$1,FALSE)) -> 0.56 | CG30: =IF($CB30="","",VLOOKUP($CB30,$AE$6:$AM$105,CG$1,FALSE)) -> 3 | CH30: =IF($CB30="","",VLOOKUP($CB30,$AE$6:$AM$105,CH$1,FALSE)) -> 0.145 | CI30: =IF($CB30="","",VLOOKUP($CB30,$AE$6:$AM$105,CI$1,FALSE)) -> 6 | CJ30: =IF($CB30="","",VLOOKUP($CB30,$AE$6:$AM$105,CJ$1,FALSE)) -> 0.71
A31: 2906 | C31: 8 | D31: René Kessels | E31: 1 | F31: 1.24 | G31: 3 | I31: 0.51 | J31: 4 | L31: 0 | M31: 0 | O31: 1 | P31: 1 | S31: B.V. Velden 2 | T31: 32 | U31: 321 | V31: Dion in 't Zandt | W31: L | X31: 57 | Y31: 39 | Z31: 19 | AA31: 32 | AD31: =IF(V31="","",COUNTIF(D$6:D$105,V31)) -> 1 | AE31: =IF(V31="","",V31) -> Dion in 't Zandt | AF31: =IF($AD31=1,VLOOKUP($AE31,$D$6:$P$105,AF$1,FALSE),0) -> 8 | AG31: =IF($AD31=1,VLOOKUP($AE31,$D$6:$P$105,AG$1,FALSE),0) -> 9 | AH31: =IF($AD31=1,VLOOKUP($AE31,$D$6:$P$105,AH$1,FALSE),0) -> 8 | AI31: =IF($AD31=1,VLOOKUP($AE31,$D$6:$P$105,AI$1,FALSE),0) -> 9 | AJ31: =IF(AF31=0,"",VLOOKUP($AE31,$D$6:$P130,AJ$1,FALSE)) -> 1.94 | AK31: =IF(AG31=0,"",VLOOKUP($AE31,$D$6:$P130,AK$1,FALSE)) -> 1.24 | AL31: =IF(AH31=0,"",VLOOKUP($AE31,$D$6:$P130,AL$1,FALSE)) -> 0.377 | AM31: =IF(AI31=0,"",VLOOKUP($AE31,$D$6:$P130,AM$1,FALSE)) -> 1.05 | AO31: =IF(AE31="","",IF(COUNT(AJ31:AM31)=4,"",IF(COUNT(AQ31:AS31)>0,"","x"))) | AU31: =IF(COUNT(AQ31:AR31)>0,SUM(AQ31:AR31),IF(AS31="","",ROUND((50*AS31-5)/6,2))) | AV31: =IF(AU31="","",ROUND((12*AU31+10)/30,2)) | AW31: =IF(AU31="","",ROUND((6*AU31+5)/50,3)) | AY31: =IF(AJ31="",AU31,AJ31) -> 1.94 | AZ31: =IF(AK31="",AV31,AK31) -> 1.24 | BA31: =IF(AL31="",AW31,AL31) -> 0.377 | BC31: B.V. Velden 2 | BD31: 32 | BE31: 321 | BF31: Dion in 't Zandt | BG31: L | BH31: =IF(AY31="","",ROUND(BH$1*AY31,0)) -> 58 | BI31: =IF(AZ31="","",ROUND(BI$1*AZ31,0)) -> 37 | BJ31: =IF(BA31="","",ROUND(BJ$1*BA31,0)) -> 19 | BK31: =IF(AY31="","",ROUND(BK$1*AY31,0)) -> 33 | BL31: 26 | BM31: =IF(BL31>BM$4,"",100*BE31+BL31) -> 32126 | BN31: =IF(BM31="","",SMALL(BM$6:BM$105,BL31)) -> 31425 | BO31: =IF(BN31="","",INT(BN31/100)) -> 314 | BP31: =IF(BN31="","",BN31-100*BO31) -> 25 | BR31: {=IF($BP31="","",IF(INDEX(BC$6:BC$105,$BP31,1)="","",INDEX(BC$6:BC$105,$BP31,1)))} | BS31: {=IF($BP31="","",IF(INDEX(BD$6:BD$105,$BP31,1)="","",INDEX(BD$6:BD$105,$BP31,1)))} | BT31: {=IF($BP31="","",IF(INDEX(BE$6:BE$105,$BP31,1)="","",INDEX(BE$6:BE$105,$BP31,1)))} -> 314 | BU31: {=IF($BP31="","",IF(INDEX(BF$6:BF$105,$BP31,1)="","",INDEX(BF$6:BF$105,$BP31,1)))} -> Lambert Lucassen | BV31: {=IF($BP31="","",IF(INDEX(BG$6:BG$105,$BP31,1)="","",INDEX(BG$6:BG$105,$BP31,1)))} | BW31: {=IF($BP31="","",IF(INDEX(BH$6:BH$105,$BP31,1)="","",INDEX(BH$6:BH$105,$BP31,1)))} -> 25 | BX31: {=IF($BP31="","",IF(INDEX(BI$6:BI$105,$BP31,1)="","",INDEX(BI$6:BI$105,$BP31,1)))} -> 15 | BY31: {=IF($BP31="","",IF(INDEX(BJ$6:BJ$105,$BP31,1)="","",INDEX(BJ$6:BJ$105,$BP31,1)))} -> 11 | BZ31: {=IF($BP31="","",IF(INDEX(BK$6:BK$105,$BP31,1)="","",INDEX(BK$6:BK$105,$BP31,1)))} -> 14 | CB31: =IF(BU31="","",BU31) -> Lambert Lucassen | CC31: =IF($CB31="","",VLOOKUP($CB31,$AE$6:$AM$105,CC$1,FALSE)) -> 13 | CD31: =IF($CB31="","",VLOOKUP($CB31,$AE$6:$AM$105,CD$1,FALSE)) -> 0.82 | CE31: =IF($CB31="","",VLOOKUP($CB31,$AE$6:$AM$105,CE$1,FALSE)) -> 6 | CF31: =IF($CB31="","",VLOOKUP($CB31,$AE$6:$AM$105,CF$1,FALSE)) -> 0.51 | CG31: =IF($CB31="","",VLOOKUP($CB31,$AE$6:$AM$105,CG$1,FALSE)) -> 6 | CH31: =IF($CB31="","",VLOOKUP($CB31,$AE$6:$AM$105,CH$1,FALSE)) -> 0.226 | CI31: =IF($CB31="","",VLOOKUP($CB31,$AE$6:$AM$105,CI$1,FALSE)) -> 0 | CJ31: =IF($CB31="","",VLOOKUP($CB31,$AE$6:$AM$105,CJ$1,FALSE))
A32: 2908 | C32: 0 | D32: Ruud Kusters | E32: 1 | F32: 0 | G32: 0 | I32: 0 | J32: 0 | L32: 0 | M32: 0 | O32: 0 | P32: 0 | U32: 322 | V32: Erik Thiesen | X32: 39 | Y32: 29 | Z32: 14 | AA32: 22 | AD32: =IF(V32="","",COUNTIF(D$6:D$105,V32)) -> 1 | AE32: =IF(V32="","",V32) -> Erik Thiesen | AF32: =IF($AD32=1,VLOOKUP($AE32,$D$6:$P$105,AF$1,FALSE),0) -> 7 | AG32: =IF($AD32=1,VLOOKUP($AE32,$D$6:$P$105,AG$1,FALSE),0) -> 15 | AH32: =IF($AD32=1,VLOOKUP($AE32,$D$6:$P$105,AH$1,FALSE),0) -> 10 | AI32: =IF($AD32=1,VLOOKUP($AE32,$D$6:$P$105,AI$1,FALSE),0) -> 6 | AJ32: =IF(AF32=0,"",VLOOKUP($AE32,$D$6:$P131,AJ$1,FALSE)) -> 1.38 | AK32: =IF(AG32=0,"",VLOOKUP($AE32,$D$6:$P131,AK$1,FALSE)) -> 0.96 | AL32: =IF(AH32=0,"",VLOOKUP($AE32,$D$6:$P131,AL$1,FALSE)) -> 0.284 | AM32: =IF(AI32=0,"",VLOOKUP($AE32,$D$6:$P131,AM$1,FALSE)) -> 0.83 | AO32: =IF(AE32="","",IF(COUNT(AJ32:AM32)=4,"",IF(COUNT(AQ32:AS32)>0,"","x"))) | AU32: =IF(COUNT(AQ32:AR32)>0,SUM(AQ32:AR32),IF(AS32="","",ROUND((50*AS32-5)/6,2))) | AV32: =IF(AU32="","",ROUND((12*AU32+10)/30,2)) | AW32: =IF(AU32="","",ROUND((6*AU32+5)/50,3)) | AY32: =IF(AJ32="",AU32,AJ32) -> 1.38 | AZ32: =IF(AK32="",AV32,AK32) -> 0.96 | BA32: =IF(AL32="",AW32,AL32) -> 0.284 | BE32: 322 | BF32: Erik Thiesen | BH32: =IF(AY32="","",ROUND(BH$1*AY32,0)) -> 41 | BI32: =IF(AZ32="","",ROUND(BI$1*AZ32,0)) -> 29 | BJ32: =IF(BA32="","",ROUND(BJ$1*BA32,0)) -> 14 | BK32: =IF(AY32="","",ROUND(BK$1*AY32,0)) -> 23 | BL32: 27 | BM32: =IF(BL32>BM$4,"",100*BE32+BL32) -> 32227 | BN32: =IF(BM32="","",SMALL(BM$6:BM$105,BL32)) -> 32126 | BO32: =IF(BN32="","",INT(BN32/100)) -> 321 | BP32: =IF(BN32="","",BN32-100*BO32) -> 26 | BR32: {=IF($BP32="","",IF(INDEX(BC$6:BC$105,$BP32,1)="","",INDEX(BC$6:BC$105,$BP32,1)))} -> B.V. Velden 2 | BS32: {=IF($BP32="","",IF(INDEX(BD$6:BD$105,$BP32,1)="","",INDEX(BD$6:BD$105,$BP32,1)))} -> 32 | BT32: {=IF($BP32="","",IF(INDEX(BE$6:BE$105,$BP32,1)="","",INDEX(BE$6:BE$105,$BP32,1)))} -> 321 | BU32: {=IF($BP32="","",IF(INDEX(BF$6:BF$105,$BP32,1)="","",INDEX(BF$6:BF$105,$BP32,1)))} -> Dion in 't Zandt | BV32: {=IF($BP32="","",IF(INDEX(BG$6:BG$105,$BP32,1)="","",INDEX(BG$6:BG$105,$BP32,1)))} -> L | BW32: {=IF($BP32="","",IF(INDEX(BH$6:BH$105,$BP32,1)="","",INDEX(BH$6:BH$105,$BP32,1)))} -> 58 | BX32: {=IF($BP32="","",IF(INDEX(BI$6:BI$105,$BP32,1)="","",INDEX(BI$6:BI$105,$BP32,1)))} -> 37 | BY32: {=IF($BP32="","",IF(INDEX(BJ$6:BJ$105,$BP32,1)="","",INDEX(BJ$6:BJ$105,$BP32,1)))} -> 19 | BZ32: {=IF($BP32="","",IF(INDEX(BK$6:BK$105,$BP32,1)="","",INDEX(BK$6:BK$105,$BP32,1)))} -> 33 | CB32: =IF(BU32="","",BU32) -> Dion in 't Zandt | CC32: =IF($CB32="","",VLOOKUP($CB32,$AE$6:$AM$105,CC$1,FALSE)) -> 8 | CD32: =IF($CB32="","",VLOOKUP($CB32,$AE$6:$AM$105,CD$1,FALSE)) -> 1.94 | CE32: =IF($CB32="","",VLOOKUP($CB32,$AE$6:$AM$105,CE$1,FALSE)) -> 9 | CF32: =IF($CB32="","",VLOOKUP($CB32,$AE$6:$AM$105,CF$1,FALSE)) -> 1.24 | CG32: =IF($CB32="","",VLOOKUP($CB32,$AE$6:$AM$105,CG$1,FALSE)) -> 8 | CH32: =IF($CB32="","",VLOOKUP($CB32,$AE$6:$AM$105,CH$1,FALSE)) -> 0.377 | CI32: =IF($CB32="","",VLOOKUP($CB32,$AE$6:$AM$105,CI$1,FALSE)) -> 9 | CJ32: =IF($CB32="","",VLOOKUP($CB32,$AE$6:$AM$105,CJ$1,FALSE)) -> 1.05
A33: 2909 | C33: 5 | D33: Peter Peters | E33: 1 | F33: 0.79 | G33: 5 | I33: 0 | J33: 0 | L33: 0 | M33: 0 | O33: 0 | P33: 0 | U33: 323 | V33: Rob Bouten | X33: 41 | Y33: 29 | Z33: 20 | AA33: 23 | AD33: =IF(V33="","",COUNTIF(D$6:D$105,V33)) -> 1 | AE33: =IF(V33="","",V33) -> Rob Bouten | AF33: =IF($AD33=1,VLOOKUP($AE33,$D$6:$P$105,AF$1,FALSE),0) -> 8 | AG33: =IF($AD33=1,VLOOKUP($AE33,$D$6:$P$105,AG$1,FALSE),0) -> 8 | AH33: =IF($AD33=1,VLOOKUP($AE33,$D$6:$P$105,AH$1,FALSE),0) -> 11 | AI33: =IF($AD33=1,VLOOKUP($AE33,$D$6:$P$105,AI$1,FALSE),0) -> 4 | AJ33: =IF(AF33=0,"",VLOOKUP($AE33,$D$6:$P132,AJ$1,FALSE)) -> 1.41 | AK33: =IF(AG33=0,"",VLOOKUP($AE33,$D$6:$P132,AK$1,FALSE)) -> 0.97 | AL33: =IF(AH33=0,"",VLOOKUP($AE33,$D$6:$P132,AL$1,FALSE)) -> 0.366 | AM33: =IF(AI33=0,"",VLOOKUP($AE33,$D$6:$P132,AM$1,FALSE)) -> 1.05 | AO33: =IF(AE33="","",IF(COUNT(AJ33:AM33)=4,"",IF(COUNT(AQ33:AS33)>0,"","x"))) | AU33: =IF(COUNT(AQ33:AR33)>0,SUM(AQ33:AR33),IF(AS33="","",ROUND((50*AS33-5)/6,2))) | AV33: =IF(AU33="","",ROUND((12*AU33+10)/30,2)) | AW33: =IF(AU33="","",ROUND((6*AU33+5)/50,3)) | AY33: =IF(AJ33="",AU33,AJ33) -> 1.41 | AZ33: =IF(AK33="",AV33,AK33) -> 0.97 | BA33: =IF(AL33="",AW33,AL33) -> 0.366 | BE33: 323 | BF33: Rob Bouten | BH33: =IF(AY33="","",ROUND(BH$1*AY33,0)) -> 42 | BI33: =IF(AZ33="","",ROUND(BI$1*AZ33,0)) -> 29 | BJ33: =IF(BA33="","",ROUND(BJ$1*BA33,0)) -> 18 | BK33: =IF(AY33="","",ROUND(BK$1*AY33,0)) -> 24 | BL33: 28 | BM33: =IF(BL33>BM$4,"",100*BE33+BL33) -> 32328 | BN33: =IF(BM33="","",SMALL(BM$6:BM$105,BL33)) -> 32227 | BO33: =IF(BN33="","",INT(BN33/100)) -> 322 | BP33: =IF(BN33="","",BN33-100*BO33) -> 27 | BR33: {=IF($BP33="","",IF(INDEX(BC$6:BC$105,$BP33,1)="","",INDEX(BC$6:BC$105,$BP33,1)))} | BS33: {=IF($BP33="","",IF(INDEX(BD$6:BD$105,$BP33,1)="","",INDEX(BD$6:BD$105,$BP33,1)))} | BT33: {=IF($BP33="","",IF(INDEX(BE$6:BE$105,$BP33,1)="","",INDEX(BE$6:BE$105,$BP33,1)))} -> 322 | BU33: {=IF($BP33="","",IF(INDEX(BF$6:BF$105,$BP33,1)="","",INDEX(BF$6:BF$105,$BP33,1)))} -> Erik Thiesen | BV33: {=IF($BP33="","",IF(INDEX(BG$6:BG$105,$BP33,1)="","",INDEX(BG$6:BG$105,$BP33,1)))} | BW33: {=IF($BP33="","",IF(INDEX(BH$6:BH$105,$BP33,1)="","",INDEX(BH$6:BH$105,$BP33,1)))} -> 41 | BX33: {=IF($BP33="","",IF(INDEX(BI$6:BI$105,$BP33,1)="","",INDEX(BI$6:BI$105,$BP33,1)))} -> 29 | BY33: {=IF($BP33="","",IF(INDEX(BJ$6:BJ$105,$BP33,1)="","",INDEX(BJ$6:BJ$105,$BP33,1)))} -> 14 | BZ33: {=IF($BP33="","",IF(INDEX(BK$6:BK$105,$BP33,1)="","",INDEX(BK$6:BK$105,$BP33,1)))} -> 23 | CB33: =IF(BU33="","",BU33) -> Erik Thiesen | CC33: =IF($CB33="","",VLOOKUP($CB33,$AE$6:$AM$105,CC$1,FALSE)) -> 7 | CD33: =IF($CB33="","",VLOOKUP($CB33,$AE$6:$AM$105,CD$1,FALSE)) -> 1.38 | CE33: =IF($CB33="","",VLOOKUP($CB33,$AE$6:$AM$105,CE$1,FALSE)) -> 15 | CF33: =IF($CB33="","",VLOOKUP($CB33,$AE$6:$AM$105,CF$1,FALSE)) -> 0.96 | CG33: =IF($CB33="","",VLOOKUP($CB33,$AE$6:$AM$105,CG$1,FALSE)) -> 10 | CH33: =IF($CB33="","",VLOOKUP($CB33,$AE$6:$AM$105,CH$1,FALSE)) -> 0.284 | CI33: =IF($CB33="","",VLOOKUP($CB33,$AE$6:$AM$105,CI$1,FALSE)) -> 6 | CJ33: =IF($CB33="","",VLOOKUP($CB33,$AE$6:$AM$105,CJ$1,FALSE)) -> 0.83
A34: 2911 | C34: 0 | D34: Frank Weijs | E34: 1 | F34: 0 | G34: 0 | I34: 0 | J34: 0 | L34: 0 | M34: 0 | O34: 0 | P34: 0 | U34: 324 | V34: Ron v.d. Venne | X34: 38 | Y34: 21 | Z34: 11 | AA34: 22 | AD34: =IF(V34="","",COUNTIF(D$6:D$105,V34)) -> 1 | AE34: =IF(V34="","",V34) -> Ron v.d. Venne | AF34: =IF($AD34=1,VLOOKUP($AE34,$D$6:$P$105,AF$1,FALSE),0) -> 13 | AG34: =IF($AD34=1,VLOOKUP($AE34,$D$6:$P$105,AG$1,FALSE),0) -> 8 | AH34: =IF($AD34=1,VLOOKUP($AE34,$D$6:$P$105,AH$1,FALSE),0) -> 6 | AI34: =IF($AD34=1,VLOOKUP($AE34,$D$6:$P$105,AI$1,FALSE),0) -> 2 | AJ34: =IF(AF34=0,"",VLOOKUP($AE34,$D$6:$P133,AJ$1,FALSE)) -> 1.24 | AK34: =IF(AG34=0,"",VLOOKUP($AE34,$D$6:$P133,AK$1,FALSE)) -> 0.66 | AL34: =IF(AH34=0,"",VLOOKUP($AE34,$D$6:$P133,AL$1,FALSE)) -> 0.215 | AM34: =IF(AI34=0,"",VLOOKUP($AE34,$D$6:$P133,AM$1,FALSE)) -> 0.61 | AO34: =IF(AE34="","",IF(COUNT(AJ34:AM34)=4,"",IF(COUNT(AQ34:AS34)>0,"","x"))) | AU34: =IF(COUNT(AQ34:AR34)>0,SUM(AQ34:AR34),IF(AS34="","",ROUND((50*AS34-5)/6,2))) | AV34: =IF(AU34="","",ROUND((12*AU34+10)/30,2)) | AW34: =IF(AU34="","",ROUND((6*AU34+5)/50,3)) | AY34: =IF(AJ34="",AU34,AJ34) -> 1.24 | AZ34: =IF(AK34="",AV34,AK34) -> 0.66 | BA34: =IF(AL34="",AW34,AL34) -> 0.215 | BE34: 324 | BF34: Ron v.d. Venne | BH34: =IF(AY34="","",ROUND(BH$1*AY34,0)) -> 37 | BI34: =IF(AZ34="","",ROUND(BI$1*AZ34,0)) -> 20 | BJ34: =IF(BA34="","",ROUND(BJ$1*BA34,0)) -> 11 | BK34: =IF(AY34="","",ROUND(BK$1*AY34,0)) -> 21 | BL34: 29 | BM34: =IF(BL34>BM$4,"",100*BE34+BL34) -> 32429 | BN34: =IF(BM34="","",SMALL(BM$6:BM$105,BL34)) -> 32328 | BO34: =IF(BN34="","",INT(BN34/100)) -> 323 | BP34: =IF(BN34="","",BN34-100*BO34) -> 28 | BR34: {=IF($BP34="","",IF(INDEX(BC$6:BC$105,$BP34,1)="","",INDEX(BC$6:BC$105,$BP34,1)))} | BS34: {=IF($BP34="","",IF(INDEX(BD$6:BD$105,$BP34,1)="","",INDEX(BD$6:BD$105,$BP34,1)))} | BT34: {=IF($BP34="","",IF(INDEX(BE$6:BE$105,$BP34,1)="","",INDEX(BE$6:BE$105,$BP34,1)))} -> 323 | BU34: {=IF($BP34="","",IF(INDEX(BF$6:BF$105,$BP34,1)="","",INDEX(BF$6:BF$105,$BP34,1)))} -> Rob Bouten | BV34: {=IF($BP34="","",IF(INDEX(BG$6:BG$105,$BP34,1)="","",INDEX(BG$6:BG$105,$BP34,1)))} | BW34: {=IF($BP34="","",IF(INDEX(BH$6:BH$105,$BP34,1)="","",INDEX(BH$6:BH$105,$BP34,1)))} -> 42 | BX34: {=IF($BP34="","",IF(INDEX(BI$6:BI$105,$BP34,1)="","",INDEX(BI$6:BI$105,$BP34,1)))} -> 29 | BY34: {=IF($BP34="","",IF(INDEX(BJ$6:BJ$105,$BP34,1)="","",INDEX(BJ$6:BJ$105,$BP34,1)))} -> 18 | BZ34: {=IF($BP34="","",IF(INDEX(BK$6:BK$105,$BP34,1)="","",INDEX(BK$6:BK$105,$BP34,1)))} -> 24 | CB34: =IF(BU34="","",BU34) -> Rob Bouten | CC34: =IF($CB34="","",VLOOKUP($CB34,$AE$6:$AM$105,CC$1,FALSE)) -> 8 | CD34: =IF($CB34="","",VLOOKUP($CB34,$AE$6:$AM$105,CD$1,FALSE)) -> 1.41 | CE34: =IF($CB34="","",VLOOKUP($CB34,$AE$6:$AM$105,CE$1,FALSE)) -> 8 | CF34: =IF($CB34="","",VLOOKUP($CB34,$AE$6:$AM$105,CF$1,FALSE)) -> 0.97 | CG34: =IF($CB34="","",VLOOKUP($CB34,$AE$6:$AM$105,CG$1,FALSE)) -> 11 | CH34: =IF($CB34="","",VLOOKUP($CB34,$AE$6:$AM$105,CH$1,FALSE)) -> 0.366 | CI34: =IF($CB34="","",VLOOKUP($CB34,$AE$6:$AM$105,CI$1,FALSE)) -> 4 | CJ34: =IF($CB34="","",VLOOKUP($CB34,$AE$6:$AM$105,CJ$1,FALSE)) -> 1.05
A35: 3101 | C35: 40 | D35: Tony Erkens | E35: 1 | F35: 1.18 | G35: 10 | I35: 0.84 | J35: 15 | L35: 0.416 | M35: 14 | O35: 0.77 | P35: 1 | S35: B.V. Velden R | T35: 39 | U35: 391 | V35: Rob v. Heesch | X35: 67 | Y35: 39 | Z35: 14 | AA35: 38 | AD35: =IF(V35="","",COUNTIF(D$6:D$105,V35)) -> 1 | AE35: =IF(V35="","",V35) -> Rob v. Heesch | AF35: =IF($AD35=1,VLOOKUP($AE35,$D$6:$P$105,AF$1,FALSE),0) -> 14 | AG35: =IF($AD35=1,VLOOKUP($AE35,$D$6:$P$105,AG$1,FALSE),0) -> 9 | AH35: =IF($AD35=1,VLOOKUP($AE35,$D$6:$P$105,AH$1,FALSE),0) -> 7 | AI35: =IF($AD35=1,VLOOKUP($AE35,$D$6:$P$105,AI$1,FALSE),0) -> 1 | AJ35: =IF(AF35=0,"",VLOOKUP($AE35,$D$6:$P134,AJ$1,FALSE)) -> 2.19 | AK35: =IF(AG35=0,"",VLOOKUP($AE35,$D$6:$P134,AK$1,FALSE)) -> 1.3 | AL35: =IF(AH35=0,"",VLOOKUP($AE35,$D$6:$P134,AL$1,FALSE)) -> 0.281 | AM35: =IF(AI35=0,"",VLOOKUP($AE35,$D$6:$P134,AM$1,FALSE)) -> 0.48 | AO35: =IF(AE35="","",IF(COUNT(AJ35:AM35)=4,"",IF(COUNT(AQ35:AS35)>0,"","x"))) | AU35: =IF(COUNT(AQ35:AR35)>0,SUM(AQ35:AR35),IF(AS35="","",ROUND((50*AS35-5)/6,2))) | AV35: =IF(AU35="","",ROUND((12*AU35+10)/30,2)) | AW35: =IF(AU35="","",ROUND((6*AU35+5)/50,3)) | AY35: =IF(AJ35="",AU35,AJ35) -> 2.19 | AZ35: =IF(AK35="",AV35,AK35) -> 1.3 | BA35: =IF(AL35="",AW35,AL35) -> 0.281 | BC35: B.V. Velden R | BD35: 39 | BE35: 391 | BF35: Rob v. Heesch | BH35: =IF(AY35="","",ROUND(BH$1*AY35,0)) -> 66 | BI35: =IF(AZ35="","",ROUND(BI$1*AZ35,0)) -> 39 | BJ35: =IF(BA35="","",ROUND(BJ$1*BA35,0)) -> 14 | BK35: =IF(AY35="","",ROUND(BK$1*AY35,0)) -> 37 | BL35: 30 | BM35: =IF(BL35>BM$4,"",100*BE35+BL35) -> 39130 | BN35: =IF(BM35="","",SMALL(BM$6:BM$105,BL35)) -> 32429 | BO35: =IF(BN35="","",INT(BN35/100)) -> 324 | BP35: =IF(BN35="","",BN35-100*BO35) -> 29 | BR35: {=IF($BP35="","",IF(INDEX(BC$6:BC$105,$BP35,1)="","",INDEX(BC$6:BC$105,$BP35,1)))} | BS35: {=IF($BP35="","",IF(INDEX(BD$6:BD$105,$BP35,1)="","",INDEX(BD$6:BD$105,$BP35,1)))} | BT35: {=IF($BP35="","",IF(INDEX(BE$6:BE$105,$BP35,1)="","",INDEX(BE$6:BE$105,$BP35,1)))} -> 324 | BU35: {=IF($BP35="","",IF(INDEX(BF$6:BF$105,$BP35,1)="","",INDEX(BF$6:BF$105,$BP35,1)))} -> Ron v.d. Venne | BV35: {=IF($BP35="","",IF(INDEX(BG$6:BG$105,$BP35,1)="","",INDEX(BG$6:BG$105,$BP35,1)))} | BW35: {=IF($BP35="","",IF(INDEX(BH$6:BH$105,$BP35,1)="","",INDEX(BH$6:BH$105,$BP35,1)))} -> 37 | BX35: {=IF($BP35="","",IF(INDEX(BI$6:BI$105,$BP35,1)="","",INDEX(BI$6:BI$105,$BP35,1)))} -> 20 | BY35: {=IF($BP35="","",IF(INDEX(BJ$6:BJ$105,$BP35,1)="","",INDEX(BJ$6:BJ$105,$BP35,1)))} -> 11 | BZ35: {=IF($BP35="","",IF(INDEX(BK$6:BK$105,$BP35,1)="","",INDEX(BK$6:BK$105,$BP35,1)))} -> 21 | CB35: =IF(BU35="","",BU35) -> Ron v.d. Venne | CC35: =IF($CB35="","",VLOOKUP($CB35,$AE$6:$AM$105,CC$1,FALSE)) -> 13 | CD35: =IF($CB35="","",VLOOKUP($CB35,$AE$6:$AM$105,CD$1,FALSE)) -> 1.24 | CE35: =IF($CB35="","",VLOOKUP($CB35,$AE$6:$AM$105,CE$1,FALSE)) -> 8 | CF35: =IF($CB35="","",VLOOKUP($CB35,$AE$6:$AM$105,CF$1,FALSE)) -> 0.66 | CG35: =IF($CB35="","",VLOOKUP($CB35,$AE$6:$AM$105,CG$1,FALSE)) -> 6 | CH35: =IF($CB35="","",VLOOKUP($CB35,$AE$6:$AM$105,CH$1,FALSE)) -> 0.215 | CI35: =IF($CB35="","",VLOOKUP($CB35,$AE$6:$AM$105,CI$1,FALSE)) -> 2 | CJ35: =IF($CB35="","",VLOOKUP($CB35,$AE$6:$AM$105,CJ$1,FALSE)) -> 0.61
A36: 3102 | C36: 41 | D36: John Hankel | E36: 1 | F36: 2.29 | G36: 15 | I36: 1.3 | J36: 9 | L36: 0.563 | M36: 8 | O36: 1.59 | P36: 9 | U36: 392 | V36: Paul Crooijmans | X36: 62 | Y36: 35 | Z36: 15 | AA36: 35 | AD36: =IF(V36="","",COUNTIF(D$6:D$105,V36)) -> 1 | AE36: =IF(V36="","",V36) -> Paul Crooijmans | AF36: =IF($AD36=1,VLOOKUP($AE36,$D$6:$P$105,AF$1,FALSE),0) -> 7 | AG36: =IF($AD36=1,VLOOKUP($AE36,$D$6:$P$105,AG$1,FALSE),0) -> 9 | AH36: =IF($AD36=1,VLOOKUP($AE36,$D$6:$P$105,AH$1,FALSE),0) -> 5 | AI36: =IF($AD36=1,VLOOKUP($AE36,$D$6:$P$105,AI$1,FALSE),0) -> 1 | AJ36: =IF(AF36=0,"",VLOOKUP($AE36,$D$6:$P135,AJ$1,FALSE)) -> 2.05 | AK36: =IF(AG36=0,"",VLOOKUP($AE36,$D$6:$P135,AK$1,FALSE)) -> 1.17 | AL36: =IF(AH36=0,"",VLOOKUP($AE36,$D$6:$P135,AL$1,FALSE)) -> 0.292 | AM36: =IF(AI36=0,"",VLOOKUP($AE36,$D$6:$P135,AM$1,FALSE)) -> 0.74 | AO36: =IF(AE36="","",IF(COUNT(AJ36:AM36)=4,"",IF(COUNT(AQ36:AS36)>0,"","x"))) | AU36: =IF(COUNT(AQ36:AR36)>0,SUM(AQ36:AR36),IF(AS36="","",ROUND((50*AS36-5)/6,2))) | AV36: =IF(AU36="","",ROUND((12*AU36+10)/30,2)) | AW36: =IF(AU36="","",ROUND((6*AU36+5)/50,3)) | AY36: =IF(AJ36="",AU36,AJ36) -> 2.05 | AZ36: =IF(AK36="",AV36,AK36) -> 1.17 | BA36: =IF(AL36="",AW36,AL36) -> 0.292 | BE36: 392 | BF36: Paul Crooijmans | BH36: =IF(AY36="","",ROUND(BH$1*AY36,0)) -> 62 | BI36: =IF(AZ36="","",ROUND(BI$1*AZ36,0)) -> 35 | BJ36: =IF(BA36="","",ROUND(BJ$1*BA36,0)) -> 15 | BK36: =IF(AY36="","",ROUND(BK$1*AY36,0)) -> 35 | BL36: 31 | BM36: =IF(BL36>BM$4,"",100*BE36+BL36) -> 39231 | BN36: =IF(BM36="","",SMALL(BM$6:BM$105,BL36)) -> 39130 | BO36: =IF(BN36="","",INT(BN36/100)) -> 391 | BP36: =IF(BN36="","",BN36-100*BO36) -> 30 | BR36: {=IF($BP36="","",IF(INDEX(BC$6:BC$105,$BP36,1)="","",INDEX(BC$6:BC$105,$BP36,1)))} -> B.V. Velden R | BS36: {=IF($BP36="","",IF(INDEX(BD$6:BD$105,$BP36,1)="","",INDEX(BD$6:BD$105,$BP36,1)))} -> 39 | BT36: {=IF($BP36="","",IF(INDEX(BE$6:BE$105,$BP36,1)="","",INDEX(BE$6:BE$105,$BP36,1)))} -> 391 | BU36: {=IF($BP36="","",IF(INDEX(BF$6:BF$105,$BP36,1)="","",INDEX(BF$6:BF$105,$BP36,1)))} -> Rob v. Heesch | BV36: {=IF($BP36="","",IF(INDEX(BG$6:BG$105,$BP36,1)="","",INDEX(BG$6:BG$105,$BP36,1)))} | BW36: {=IF($BP36="","",IF(INDEX(BH$6:BH$105,$BP36,1)="","",INDEX(BH$6:BH$105,$BP36,1)))} -> 66 | BX36: {=IF($BP36="","",IF(INDEX(BI$6:BI$105,$BP36,1)="","",INDEX(BI$6:BI$105,$BP36,1)))} -> 39 | BY36: {=IF($BP36="","",IF(INDEX(BJ$6:BJ$105,$BP36,1)="","",INDEX(BJ$6:BJ$105,$BP36,1)))} -> 14 | BZ36: {=IF($BP36="","",IF(INDEX(BK$6:BK$105,$BP36,1)="","",INDEX(BK$6:BK$105,$BP36,1)))} -> 37 | CB36: =IF(BU36="","",BU36) -> Rob v. Heesch | CC36: =IF($CB36="","",VLOOKUP($CB36,$AE$6:$AM$105,CC$1,FALSE)) -> 14 | CD36: =IF($CB36="","",VLOOKUP($CB36,$AE$6:$AM$105,CD$1,FALSE)) -> 2.19 | CE36: =IF($CB36="","",VLOOKUP($CB36,$AE$6:$AM$105,CE$1,FALSE)) -> 9 | CF36: =IF($CB36="","",VLOOKUP($CB36,$AE$6:$AM$105,CF$1,FALSE)) -> 1.3 | CG36: =IF($CB36="","",VLOOKUP($CB36,$AE$6:$AM$105,CG$1,FALSE)) -> 7 | CH36: =IF($CB36="","",VLOOKUP($CB36,$AE$6:$AM$105,CH$1,FALSE)) -> 0.281 | CI36: =IF($CB36="","",VLOOKUP($CB36,$AE$6:$AM$105,CI$1,FALSE)) -> 1 | CJ36: =IF($CB36="","",VLOOKUP($CB36,$AE$6:$AM$105,CJ$1,FALSE)) -> 0.48
A37: 3103 | B37: L | C37: 39 | D37: Bjorn Timmermans | E37: 1 | F37: 2.54 | G37: 12 | I37: 1.8 | J37: 6 | L37: 0.775 | M37: 17 | O37: 1.2 | P37: 4 | U37: 393 | V37: Jéro Teunissen | X37: 55 | Y37: 35 | Z37: 17 | AA37: 31 | AD37: =IF(V37="","",COUNTIF(D$6:D$105,V37)) -> 1 | AE37: =IF(V37="","",V37) -> Jéro Teunissen | AF37: =IF($AD37=1,VLOOKUP($AE37,$D$6:$P$105,AF$1,FALSE),0) -> 4 | AG37: =IF($AD37=1,VLOOKUP($AE37,$D$6:$P$105,AG$1,FALSE),0) -> 3 | AH37: =IF($AD37=1,VLOOKUP($AE37,$D$6:$P$105,AH$1,FALSE),0) -> 7 | AI37: =IF($AD37=1,VLOOKUP($AE37,$D$6:$P$105,AI$1,FALSE),0) -> 0 | AJ37: =IF(AF37=0,"",VLOOKUP($AE37,$D$6:$P136,AJ$1,FALSE)) -> 1.84 | AK37: =IF(AG37=0,"",VLOOKUP($AE37,$D$6:$P136,AK$1,FALSE)) -> 1.16 | AL37: =IF(AH37=0,"",VLOOKUP($AE37,$D$6:$P136,AL$1,FALSE)) -> 0.366 | AM37: =IF(AI37=0,"",VLOOKUP($AE37,$D$6:$P136,AM$1,FALSE)) | AO37: =IF(AE37="","",IF(COUNT(AJ37:AM37)=4,"",IF(COUNT(AQ37:AS37)>0,"","x"))) | AQ37: 1.99 | AU37: =IF(COUNT(AQ37:AR37)>0,SUM(AQ37:AR37),IF(AS37="","",ROUND((50*AS37-5)/6,2))) -> 1.99 | AV37: =IF(AU37="","",ROUND((12*AU37+10)/30,2)) -> 1.13 | AW37: =IF(AU37="","",ROUND((6*AU37+5)/50,3)) -> 0.339 | AY37: =IF(AJ37="",AU37,AJ37) -> 1.84 | AZ37: =IF(AK37="",AV37,AK37) -> 1.16 | BA37: =IF(AL37="",AW37,AL37) -> 0.366 | BE37: 393 | BF37: Jéro Teunissen | BH37: =IF(AY37="","",ROUND(BH$1*AY37,0)) -> 55 | BI37: =IF(AZ37="","",ROUND(BI$1*AZ37,0)) -> 35 | BJ37: =IF(BA37="","",ROUND(BJ$1*BA37,0)) -> 18 | BK37: =IF(AY37="","",ROUND(BK$1*AY37,0)) -> 31 | BL37: 32 | BM37: =IF(BL37>BM$4,"",100*BE37+BL37) -> 39332 | BN37: =IF(BM37="","",SMALL(BM$6:BM$105,BL37)) -> 39231 | BO37: =IF(BN37="","",INT(BN37/100)) -> 392 | BP37: =IF(BN37="","",BN37-100*BO37) -> 31 | BR37: {=IF($BP37="","",IF(INDEX(BC$6:BC$105,$BP37,1)="","",INDEX(BC$6:BC$105,$BP37,1)))} | BS37: {=IF($BP37="","",IF(INDEX(BD$6:BD$105,$BP37,1)="","",INDEX(BD$6:BD$105,$BP37,1)))} | BT37: {=IF($BP37="","",IF(INDEX(BE$6:BE$105,$BP37,1)="","",INDEX(BE$6:BE$105,$BP37,1)))} -> 392 | BU37: {=IF($BP37="","",IF(INDEX(BF$6:BF$105,$BP37,1)="","",INDEX(BF$6:BF$105,$BP37,1)))} -> Paul Crooijmans | BV37: {=IF($BP37="","",IF(INDEX(BG$6:BG$105,$BP37,1)="","",INDEX(BG$6:BG$105,$BP37,1)))} | BW37: {=IF($BP37="","",IF(INDEX(BH$6:BH$105,$BP37,1)="","",INDEX(BH$6:BH$105,$BP37,1)))} -> 62 | BX37: {=IF($BP37="","",IF(INDEX(BI$6:BI$105,$BP37,1)="","",INDEX(BI$6:BI$105,$BP37,1)))} -> 35 | BY37: {=IF($BP37="","",IF(INDEX(BJ$6:BJ$105,$BP37,1)="","",INDEX(BJ$6:BJ$105,$BP37,1)))} -> 15 | BZ37: {=IF($BP37="","",IF(INDEX(BK$6:BK$105,$BP37,1)="","",INDEX(BK$6:BK$105,$BP37,1)))} -> 35 | CB37: =IF(BU37="","",BU37) -> Paul Crooijmans | CC37: =IF($CB37="","",VLOOKUP($CB37,$AE$6:$AM$105,CC$1,FALSE)) -> 7 | CD37: =IF($CB37="","",VLOOKUP($CB37,$AE$6:$AM$105,CD$1,FALSE)) -> 2.05 | CE37: =IF($CB37="","",VLOOKUP($CB37,$AE$6:$AM$105,CE$1,FALSE)) -> 9 | CF37: =IF($CB37="","",VLOOKUP($CB37,$AE$6:$AM$105,CF$1,FALSE)) -> 1.17 | CG37: =IF($CB37="","",VLOOKUP($CB37,$AE$6:$AM$105,CG$1,FALSE)) -> 5 | CH37: =IF($CB37="","",VLOOKUP($CB37,$AE$6:$AM$105,CH$1,FALSE)) -> 0.292 | CI37: =IF($CB37="","",VLOOKUP($CB37,$AE$6:$AM$105,CI$1,FALSE)) -> 1 | CJ37: =IF($CB37="","",VLOOKUP($CB37,$AE$6:$AM$105,CJ$1,FALSE)) -> 0.74
A38: 3104 | C38: 33 | D38: Hans Wauben | E38: 1 | F38: 2.14 | G38: 9 | I38: 1.32 | J38: 16 | L38: 0.643 | M38: 7 | O38: 0.91 | P38: 1 | U38: 394 | V38: Cees Mooy | X38: 33 | Y38: 17 | Z38: 16 | AA38: 19 | AD38: =IF(V38="","",COUNTIF(D$6:D$105,V38)) -> 1 | AE38: =IF(V38="","",V38) -> Cees Mooy | AF38: =IF($AD38=1,VLOOKUP($AE38,$D$6:$P$105,AF$1,FALSE),0) -> 4 | AG38: =IF($AD38=1,VLOOKUP($AE38,$D$6:$P$105,AG$1,FALSE),0) -> 7 | AH38: =IF($AD38=1,VLOOKUP($AE38,$D$6:$P$105,AH$1,FALSE),0) -> 4 | AI38: =IF($AD38=1,VLOOKUP($AE38,$D$6:$P$105,AI$1,FALSE),0) -> 2 | AJ38: =IF(AF38=0,"",VLOOKUP($AE38,$D$6:$P137,AJ$1,FALSE)) -> 1.11 | AK38: =IF(AG38=0,"",VLOOKUP($AE38,$D$6:$P137,AK$1,FALSE)) -> 0.58 | AL38: =IF(AH38=0,"",VLOOKUP($AE38,$D$6:$P137,AL$1,FALSE)) -> 0.327 | AM38: =IF(AI38=0,"",VLOOKUP($AE38,$D$6:$P137,AM$1,FALSE)) -> 0.89 | AO38: =IF(AE38="","",IF(COUNT(AJ38:AM38)=4,"",IF(COUNT(AQ38:AS38)>0,"","x"))) | AU38: =IF(COUNT(AQ38:AR38)>0,SUM(AQ38:AR38),IF(AS38="","",ROUND((50*AS38-5)/6,2))) | AV38: =IF(AU38="","",ROUND((12*AU38+10)/30,2)) | AW38: =IF(AU38="","",ROUND((6*AU38+5)/50,3)) | AY38: =IF(AJ38="",AU38,AJ38) -> 1.11 | AZ38: =IF(AK38="",AV38,AK38) -> 0.58 | BA38: =IF(AL38="",AW38,AL38) -> 0.327 | BE38: 394 | BF38: Cees Mooy | BH38: =IF(AY38="","",ROUND(BH$1*AY38,0)) -> 33 | BI38: =IF(AZ38="","",ROUND(BI$1*AZ38,0)) -> 17 | BJ38: =IF(BA38="","",ROUND(BJ$1*BA38,0)) -> 16 | BK38: =IF(AY38="","",ROUND(BK$1*AY38,0)) -> 19 | BL38: 33 | BM38: =IF(BL38>BM$4,"",100*BE38+BL38) -> 39433 | BN38: =IF(BM38="","",SMALL(BM$6:BM$105,BL38)) -> 39332 | BO38: =IF(BN38="","",INT(BN38/100)) -> 393 | BP38: =IF(BN38="","",BN38-100*BO38) -> 32 | BR38: {=IF($BP38="","",IF(INDEX(BC$6:BC$105,$BP38,1)="","",INDEX(BC$6:BC$105,$BP38,1)))} | BS38: {=IF($BP38="","",IF(INDEX(BD$6:BD$105,$BP38,1)="","",INDEX(BD$6:BD$105,$BP38,1)))} | BT38: {=IF($BP38="","",IF(INDEX(BE$6:BE$105,$BP38,1)="","",INDEX(BE$6:BE$105,$BP38,1)))} -> 393 | BU38: {=IF($BP38="","",IF(INDEX(BF$6:BF$105,$BP38,1)="","",INDEX(BF$6:BF$105,$BP38,1)))} -> Jéro Teunissen | BV38: {=IF($BP38="","",IF(INDEX(BG$6:BG$105,$BP38,1)="","",INDEX(BG$6:BG$105,$BP38,1)))} | BW38: {=IF($BP38="","",IF(INDEX(BH$6:BH$105,$BP38,1)="","",INDEX(BH$6:BH$105,$BP38,1)))} -> 55 | BX38: {=IF($BP38="","",IF(INDEX(BI$6:BI$105,$BP38,1)="","",INDEX(BI$6:BI$105,$BP38,1)))} -> 35 | BY38: {=IF($BP38="","",IF(INDEX(BJ$6:BJ$105,$BP38,1)="","",INDEX(BJ$6:BJ$105,$BP38,1)))} -> 18 | BZ38: {=IF($BP38="","",IF(INDEX(BK$6:BK$105,$BP38,1)="","",INDEX(BK$6:BK$105,$BP38,1)))} -> 31 | CB38: =IF(BU38="","",BU38) -> Jéro Teunissen | CC38: =IF($CB38="","",VLOOKUP($CB38,$AE$6:$AM$105,CC$1,FALSE)) -> 4 | CD38: =IF($CB38="","",VLOOKUP($CB38,$AE$6:$AM$105,CD$1,FALSE)) -> 1.84 | CE38: =IF($CB38="","",VLOOKUP($CB38,$AE$6:$AM$105,CE$1,FALSE)) -> 3 | CF38: =IF($CB38="","",VLOOKUP($CB38,$AE$6:$AM$105,CF$1,FALSE)) -> 1.16 | CG38: =IF($CB38="","",VLOOKUP($CB38,$AE$6:$AM$105,CG$1,FALSE)) -> 7 | CH38: =IF($CB38="","",VLOOKUP($CB38,$AE$6:$AM$105,CH$1,FALSE)) -> 0.366 | CI38: =IF($CB38="","",VLOOKUP($CB38,$AE$6:$AM$105,CI$1,FALSE)) -> 0 | CJ38: =IF($CB38="","",VLOOKUP($CB38,$AE$6:$AM$105,CJ$1,FALSE))
A39: 3201 | C39: 25 | D39: Frits Geenen | E39: 1 | F39: 1.48 | G39: 4 | I39: 0.72 | J39: 6 | L39: 0.329 | M39: 6 | O39: 0.91 | P39: 9 | U39: 395 | V39: Leo Brueren | X39: 28 | Y39: 21 | Z39: 11 | AA39: 16 | AD39: =IF(V39="","",COUNTIF(D$6:D$105,V39)) -> 1 | AE39: =IF(V39="","",V39) -> Leo Brueren | AF39: =IF($AD39=1,VLOOKUP($AE39,$D$6:$P$105,AF$1,FALSE),0) -> 3 | AG39: =IF($AD39=1,VLOOKUP($AE39,$D$6:$P$105,AG$1,FALSE),0) -> 4 | AH39: =IF($AD39=1,VLOOKUP($AE39,$D$6:$P$105,AH$1,FALSE),0) -> 0 | AI39: =IF($AD39=1,VLOOKUP($AE39,$D$6:$P$105,AI$1,FALSE),0) -> 1 | AJ39: =IF(AF39=0,"",VLOOKUP($AE39,$D$6:$P138,AJ$1,FALSE)) -> 0.73 | AK39: =IF(AG39=0,"",VLOOKUP($AE39,$D$6:$P138,AK$1,FALSE)) -> 0.57 | AL39: =IF(AH39=0,"",VLOOKUP($AE39,$D$6:$P138,AL$1,FALSE)) | AM39: =IF(AI39=0,"",VLOOKUP($AE39,$D$6:$P138,AM$1,FALSE)) -> 0.63 | AO39: =IF(AE39="","",IF(COUNT(AJ39:AM39)=4,"",IF(COUNT(AQ39:AS39)>0,"","x"))) | AQ39: 1.02 | AU39: =IF(COUNT(AQ39:AR39)>0,SUM(AQ39:AR39),IF(AS39="","",ROUND((50*AS39-5)/6,2))) -> 1.02 | AV39: =IF(AU39="","",ROUND((12*AU39+10)/30,2)) -> 0.74 | AW39: =IF(AU39="","",ROUND((6*AU39+5)/50,3)) -> 0.222 | AY39: =IF(AJ39="",AU39,AJ39) -> 0.73 | AZ39: =IF(AK39="",AV39,AK39) -> 0.57 | BA39: =IF(AL39="",AW39,AL39) -> 0.222 | BE39: 395 | BF39: Leo Brueren | BH39: =IF(AY39="","",ROUND(BH$1*AY39,0)) -> 22 | BI39: =IF(AZ39="","",ROUND(BI$1*AZ39,0)) -> 17 | BJ39: =IF(BA39="","",ROUND(BJ$1*BA39,0)) -> 11 | BK39: =IF(AY39="","",ROUND(BK$1*AY39,0)) -> 12 | BL39: 34 | BM39: =IF(BL39>BM$4,"",100*BE39+BL39) -> 39534 | BN39: =IF(BM39="","",SMALL(BM$6:BM$105,BL39)) -> 39433 | BO39: =IF(BN39="","",INT(BN39/100)) -> 394 | BP39: =IF(BN39="","",BN39-100*BO39) -> 33 | BR39: {=IF($BP39="","",IF(INDEX(BC$6:BC$105,$BP39,1)="","",INDEX(BC$6:BC$105,$BP39,1)))} | BS39: {=IF($BP39="","",IF(INDEX(BD$6:BD$105,$BP39,1)="","",INDEX(BD$6:BD$105,$BP39,1)))} | BT39: {=IF($BP39="","",IF(INDEX(BE$6:BE$105,$BP39,1)="","",INDEX(BE$6:BE$105,$BP39,1)))} -> 394 | BU39: {=IF($BP39="","",IF(INDEX(BF$6:BF$105,$BP39,1)="","",INDEX(BF$6:BF$105,$BP39,1)))} -> Cees Mooy | BV39: {=IF($BP39="","",IF(INDEX(BG$6:BG$105,$BP39,1)="","",INDEX(BG$6:BG$105,$BP39,1)))} | BW39: {=IF($BP39="","",IF(INDEX(BH$6:BH$105,$BP39,1)="","",INDEX(BH$6:BH$105,$BP39,1)))} -> 33 | BX39: {=IF($BP39="","",IF(INDEX(BI$6:BI$105,$BP39,1)="","",INDEX(BI$6:BI$105,$BP39,1)))} -> 17 | BY39: {=IF($BP39="","",IF(INDEX(BJ$6:BJ$105,$BP39,1)="","",INDEX(BJ$6:BJ$105,$BP39,1)))} -> 16 | BZ39: {=IF($BP39="","",IF(INDEX(BK$6:BK$105,$BP39,1)="","",INDEX(BK$6:BK$105,$BP39,1)))} -> 19 | CB39: =IF(BU39="","",BU39) -> Cees Mooy | CC39: =IF($CB39="","",VLOOKUP($CB39,$AE$6:$AM$105,CC$1,FALSE)) -> 4 | CD39: =IF($CB39="","",VLOOKUP($CB39,$AE$6:$AM$105,CD$1,FALSE)) -> 1.11 | CE39: =IF($CB39="","",VLOOKUP($CB39,$AE$6:$AM$105,CE$1,FALSE)) -> 7 | CF39: =IF($CB39="","",VLOOKUP($CB39,$AE$6:$AM$105,CF$1,FALSE)) -> 0.58 | CG39: =IF($CB39="","",VLOOKUP($CB39,$AE$6:$AM$105,CG$1,FALSE)) -> 4 | CH39: =IF($CB39="","",VLOOKUP($CB39,$AE$6:$AM$105,CH$1,FALSE)) -> 0.327 | CI39: =IF($CB39="","",VLOOKUP($CB39,$AE$6:$AM$105,CI$1,FALSE)) -> 2 | CJ39: =IF($CB39="","",VLOOKUP($CB39,$AE$6:$AM$105,CJ$1,FALSE)) -> 0.89
A40: 3202 | C40: 41 | D40: Frans v.d. Hombergh | E40: 1 | F40: 2.41 | G40: 15 | I40: 1.24 | J40: 14 | L40: 0.38 | M40: 8 | O40: 1.03 | P40: 4 | S40: 't Ven 1 | T40: 41 | U40: 411 | V40: Daniël van Cleef | W40: L | X40: 64 | Y40: 35 | Z40: 17 | AA40: 36 | AD40: =IF(V40="","",COUNTIF(D$6:D$105,V40)) -> 1 | AE40: =IF(V40="","",V40) -> Daniël van Cleef | AF40: =IF($AD40=1,VLOOKUP($AE40,$D$6:$P$105,AF$1,FALSE),0) -> 6 | AG40: =IF($AD40=1,VLOOKUP($AE40,$D$6:$P$105,AG$1,FALSE),0) -> 7 | AH40: =IF($AD40=1,VLOOKUP($AE40,$D$6:$P$105,AH$1,FALSE),0) -> 4 | AI40: =IF($AD40=1,VLOOKUP($AE40,$D$6:$P$105,AI$1,FALSE),0) -> 5 | AJ40: =IF(AF40=0,"",VLOOKUP($AE40,$D$6:$P139,AJ$1,FALSE)) -> 1.9 | AK40: =IF(AG40=0,"",VLOOKUP($AE40,$D$6:$P139,AK$1,FALSE)) -> 1.19 | AL40: =IF(AH40=0,"",VLOOKUP($AE40,$D$6:$P139,AL$1,FALSE)) -> 0.34 | AM40: =IF(AI40=0,"",VLOOKUP($AE40,$D$6:$P139,AM$1,FALSE)) -> 0.81 | AO40: =IF(AE40="","",IF(COUNT(AJ40:AM40)=4,"",IF(COUNT(AQ40:AS40)>0,"","x"))) | AU40: =IF(COUNT(AQ40:AR40)>0,SUM(AQ40:AR40),IF(AS40="","",ROUND((50*AS40-5)/6,2))) | AV40: =IF(AU40="","",ROUND((12*AU40+10)/30,2)) | AW40: =IF(AU40="","",ROUND((6*AU40+5)/50,3)) | AY40: =IF(AJ40="",AU40,AJ40) -> 1.9 | AZ40: =IF(AK40="",AV40,AK40) -> 1.19 | BA40: =IF(AL40="",AW40,AL40) -> 0.34 | BC40: 't Ven 1 | BD40: 41 | BE40: 411 | BF40: Daniël van Cleef | BG40: L | BH40: =IF(AY40="","",ROUND(BH$1*AY40,0)) -> 57 | BI40: =IF(AZ40="","",ROUND(BI$1*AZ40,0)) -> 36 | BJ40: =IF(BA40="","",ROUND(BJ$1*BA40,0)) -> 17 | BK40: =IF(AY40="","",ROUND(BK$1*AY40,0)) -> 32 | BL40: 35 | BM40: =IF(BL40>BM$4,"",100*BE40+BL40) -> 41135 | BN40: =IF(BM40="","",SMALL(BM$6:BM$105,BL40)) -> 39534 | BO40: =IF(BN40="","",INT(BN40/100)) -> 395 | BP40: =IF(BN40="","",BN40-100*BO40) -> 34 | BR40: {=IF($BP40="","",IF(INDEX(BC$6:BC$105,$BP40,1)="","",INDEX(BC$6:BC$105,$BP40,1)))} | BS40: {=IF($BP40="","",IF(INDEX(BD$6:BD$105,$BP40,1)="","",INDEX(BD$6:BD$105,$BP40,1)))} | BT40: {=IF($BP40="","",IF(INDEX(BE$6:BE$105,$BP40,1)="","",INDEX(BE$6:BE$105,$BP40,1)))} -> 395 | BU40: {=IF($BP40="","",IF(INDEX(BF$6:BF$105,$BP40,1)="","",INDEX(BF$6:BF$105,$BP40,1)))} -> Leo Brueren | BV40: {=IF($BP40="","",IF(INDEX(BG$6:BG$105,$BP40,1)="","",INDEX(BG$6:BG$105,$BP40,1)))} | BW40: {=IF($BP40="","",IF(INDEX(BH$6:BH$105,$BP40,1)="","",INDEX(BH$6:BH$105,$BP40,1)))} -> 22 | BX40: {=IF($BP40="","",IF(INDEX(BI$6:BI$105,$BP40,1)="","",INDEX(BI$6:BI$105,$BP40,1)))} -> 17 | BY40: {=IF($BP40="","",IF(INDEX(BJ$6:BJ$105,$BP40,1)="","",INDEX(BJ$6:BJ$105,$BP40,1)))} -> 11 | BZ40: {=IF($BP40="","",IF(INDEX(BK$6:BK$105,$BP40,1)="","",INDEX(BK$6:BK$105,$BP40,1)))} -> 12 | CB40: =IF(BU40="","",BU40) -> Leo Brueren | CC40: =IF($CB40="","",VLOOKUP($CB40,$AE$6:$AM$105,CC$1,FALSE)) -> 3 | CD40: =IF($CB40="","",VLOOKUP($CB40,$AE$6:$AM$105,CD$1,FALSE)) -> 0.73 | CE40: =IF($CB40="","",VLOOKUP($CB40,$AE$6:$AM$105,CE$1,FALSE)) -> 4 | CF40: =IF($CB40="","",VLOOKUP($CB40,$AE$6:$AM$105,CF$1,FALSE)) -> 0.57 | CG40: =IF($CB40="","",VLOOKUP($CB40,$AE$6:$AM$105,CG$1,FALSE)) -> 0 | CH40: =IF($CB40="","",VLOOKUP($CB40,$AE$6:$AM$105,CH$1,FALSE)) | CI40: =IF($CB40="","",VLOOKUP($CB40,$AE$6:$AM$105,CI$1,FALSE)) -> 1 | CJ40: =IF($CB40="","",VLOOKUP($CB40,$AE$6:$AM$105,CJ$1,FALSE)) -> 0.63
A41: 3203 | B41: L | C41: 43 | D41: Ger v. Leuven | E41: 1 | F41: 2.42 | G41: 13 | I41: 1.33 | J41: 8 | L41: 0.412 | M41: 21 | O41: 0.65 | P41: 1 | U41: 412 | V41: Jan van Cleef | X41: 56 | Y41: 31 | Z41: 16 | AA41: 31 | AD41: =IF(V41="","",COUNTIF(D$6:D$105,V41)) -> 1 | AE41: =IF(V41="","",V41) -> Jan van Cleef | AF41: =IF($AD41=1,VLOOKUP($AE41,$D$6:$P$105,AF$1,FALSE),0) -> 7 | AG41: =IF($AD41=1,VLOOKUP($AE41,$D$6:$P$105,AG$1,FALSE),0) -> 6 | AH41: =IF($AD41=1,VLOOKUP($AE41,$D$6:$P$105,AH$1,FALSE),0) -> 2 | AI41: =IF($AD41=1,VLOOKUP($AE41,$D$6:$P$105,AI$1,FALSE),0) -> 9 | AJ41: =IF(AF41=0,"",VLOOKUP($AE41,$D$6:$P140,AJ$1,FALSE)) -> 1.52 | AK41: =IF(AG41=0,"",VLOOKUP($AE41,$D$6:$P140,AK$1,FALSE)) -> 0.9 | AL41: =IF(AH41=0,"",VLOOKUP($AE41,$D$6:$P140,AL$1,FALSE)) -> 0.323 | AM41: =IF(AI41=0,"",VLOOKUP($AE41,$D$6:$P140,AM$1,FALSE)) -> 0.86 | AO41: =IF(AE41="","",IF(COUNT(AJ41:AM41)=4,"",IF(COUNT(AQ41:AS41)>0,"","x"))) | AU41: =IF(COUNT(AQ41:AR41)>0,SUM(AQ41:AR41),IF(AS41="","",ROUND((50*AS41-5)/6,2))) | AV41: =IF(AU41="","",ROUND((12*AU41+10)/30,2)) | AW41: =IF(AU41="","",ROUND((6*AU41+5)/50,3)) | AY41: =IF(AJ41="",AU41,AJ41) -> 1.52 | AZ41: =IF(AK41="",AV41,AK41) -> 0.9 | BA41: =IF(AL41="",AW41,AL41) -> 0.323 | BE41: 412 | BF41: Jan van Cleef | BH41: =IF(AY41="","",ROUND(BH$1*AY41,0)) -> 46 | BI41: =IF(AZ41="","",ROUND(BI$1*AZ41,0)) -> 27 | BJ41: =IF(BA41="","",ROUND(BJ$1*BA41,0)) -> 16 | BK41: =IF(AY41="","",ROUND(BK$1*AY41,0)) -> 26 | BL41: 36 | BM41: =IF(BL41>BM$4,"",100*BE41+BL41) -> 41236 | BN41: =IF(BM41="","",SMALL(BM$6:BM$105,BL41)) -> 41135 | BO41: =IF(BN41="","",INT(BN41/100)) -> 411 | BP41: =IF(BN41="","",BN41-100*BO41) -> 35 | BR41: {=IF($BP41="","",IF(INDEX(BC$6:BC$105,$BP41,1)="","",INDEX(BC$6:BC$105,$BP41,1)))} -> 't Ven 1 | BS41: {=IF($BP41="","",IF(INDEX(BD$6:BD$105,$BP41,1)="","",INDEX(BD$6:BD$105,$BP41,1)))} -> 41 | BT41: {=IF($BP41="","",IF(INDEX(BE$6:BE$105,$BP41,1)="","",INDEX(BE$6:BE$105,$BP41,1)))} -> 411 | BU41: {=IF($BP41="","",IF(INDEX(BF$6:BF$105,$BP41,1)="","",INDEX(BF$6:BF$105,$BP41,1)))} -> Daniël van Cleef | BV41: {=IF($BP41="","",IF(INDEX(BG$6:BG$105,$BP41,1)="","",INDEX(BG$6:BG$105,$BP41,1)))} -> L | BW41: {=IF($BP41="","",IF(INDEX(BH$6:BH$105,$BP41,1)="","",INDEX(BH$6:BH$105,$BP41,1)))} -> 57 | BX41: {=IF($BP41="","",IF(INDEX(BI$6:BI$105,$BP41,1)="","",INDEX(BI$6:BI$105,$BP41,1)))} -> 36 | BY41: {=IF($BP41="","",IF(INDEX(BJ$6:BJ$105,$BP41,1)="","",INDEX(BJ$6:BJ$105,$BP41,1)))} -> 17 | BZ41: {=IF($BP41="","",IF(INDEX(BK$6:BK$105,$BP41,1)="","",INDEX(BK$6:BK$105,$BP41,1)))} -> 32 | CB41: =IF(BU41="","",BU41) -> Daniël van Cleef | CC41: =IF($CB41="","",VLOOKUP($CB41,$AE$6:$AM$105,CC$1,FALSE)) -> 6 | CD41: =IF($CB41="","",VLOOKUP($CB41,$AE$6:$AM$105,CD$1,FALSE)) -> 1.9 | CE41: =IF($CB41="","",VLOOKUP($CB41,$AE$6:$AM$105,CE$1,FALSE)) -> 7 | CF41: =IF($CB41="","",VLOOKUP($CB41,$AE$6:$AM$105,CF$1,FALSE)) -> 1.19 | CG41: =IF($CB41="","",VLOOKUP($CB41,$AE$6:$AM$105,CG$1,FALSE)) -> 4 | CH41: =IF($CB41="","",VLOOKUP($CB41,$AE$6:$AM$105,CH$1,FALSE)) -> 0.34 | CI41: =IF($CB41="","",VLOOKUP($CB41,$AE$6:$AM$105,CI$1,FALSE)) -> 5 | CJ41: =IF($CB41="","",VLOOKUP($CB41,$AE$6:$AM$105,CJ$1,FALSE)) -> 0.81
A42: 3204 | C42: 41 | D42: Theo Tabbers | E42: 1 | F42: 1.91 | G42: 12 | I42: 1.08 | J42: 13 | L42: 0.332 | M42: 8 | O42: 0.99 | P42: 8 | U42: 413 | V42: André van Cleef | X42: 42 | Y42: 18 | Z42: 15 | AA42: 24 | AD42: =IF(V42="","",COUNTIF(D$6:D$105,V42)) -> 1 | AE42: =IF(V42="","",V42) -> André van Cleef | AF42: =IF($AD42=1,VLOOKUP($AE42,$D$6:$P$105,AF$1,FALSE),0) -> 6 | AG42: =IF($AD42=1,VLOOKUP($AE42,$D$6:$P$105,AG$1,FALSE),0) -> 3 | AH42: =IF($AD42=1,VLOOKUP($AE42,$D$6:$P$105,AH$1,FALSE),0) -> 6 | AI42: =IF($AD42=1,VLOOKUP($AE42,$D$6:$P$105,AI$1,FALSE),0) -> 6 | AJ42: =IF(AF42=0,"",VLOOKUP($AE42,$D$6:$P141,AJ$1,FALSE)) -> 1.46 | AK42: =IF(AG42=0,"",VLOOKUP($AE42,$D$6:$P141,AK$1,FALSE)) -> 0.94 | AL42: =IF(AH42=0,"",VLOOKUP($AE42,$D$6:$P141,AL$1,FALSE)) -> 0.292 | AM42: =IF(AI42=0,"",VLOOKUP($AE42,$D$6:$P141,AM$1,FALSE)) -> 0.87 | AO42: =IF(AE42="","",IF(COUNT(AJ42:AM42)=4,"",IF(COUNT(AQ42:AS42)>0,"","x"))) | AU42: =IF(COUNT(AQ42:AR42)>0,SUM(AQ42:AR42),IF(AS42="","",ROUND((50*AS42-5)/6,2))) | AV42: =IF(AU42="","",ROUND((12*AU42+10)/30,2)) | AW42: =IF(AU42="","",ROUND((6*AU42+5)/50,3)) | AY42: =IF(AJ42="",AU42,AJ42) -> 1.46 | AZ42: =IF(AK42="",AV42,AK42) -> 0.94 | BA42: =IF(AL42="",AW42,AL42) -> 0.292 | BE42: 413 | BF42: André van Cleef | BH42: =IF(AY42="","",ROUND(BH$1*AY42,0)) -> 44 | BI42: =IF(AZ42="","",ROUND(BI$1*AZ42,0)) -> 28 | BJ42: =IF(BA42="","",ROUND(BJ$1*BA42,0)) -> 15 | BK42: =IF(AY42="","",ROUND(BK$1*AY42,0)) -> 25 | BL42: 37 | BM42: =IF(BL42>BM$4,"",100*BE42+BL42) -> 41337 | BN42: =IF(BM42="","",SMALL(BM$6:BM$105,BL42)) -> 41236 | BO42: =IF(BN42="","",INT(BN42/100)) -> 412 | BP42: =IF(BN42="","",BN42-100*BO42) -> 36 | BR42: {=IF($BP42="","",IF(INDEX(BC$6:BC$105,$BP42,1)="","",INDEX(BC$6:BC$105,$BP42,1)))} | BS42: {=IF($BP42="","",IF(INDEX(BD$6:BD$105,$BP42,1)="","",INDEX(BD$6:BD$105,$BP42,1)))} | BT42: {=IF($BP42="","",IF(INDEX(BE$6:BE$105,$BP42,1)="","",INDEX(BE$6:BE$105,$BP42,1)))} -> 412 | BU42: {=IF($BP42="","",IF(INDEX(BF$6:BF$105,$BP42,1)="","",INDEX(BF$6:BF$105,$BP42,1)))} -> Jan van Cleef | BV42: {=IF($BP42="","",IF(INDEX(BG$6:BG$105,$BP42,1)="","",INDEX(BG$6:BG$105,$BP42,1)))} | BW42: {=IF($BP42="","",IF(INDEX(BH$6:BH$105,$BP42,1)="","",INDEX(BH$6:BH$105,$BP42,1)))} -> 46 | BX42: {=IF($BP42="","",IF(INDEX(BI$6:BI$105,$BP42,1)="","",INDEX(BI$6:BI$105,$BP42,1)))} -> 27 | BY42: {=IF($BP42="","",IF(INDEX(BJ$6:BJ$105,$BP42,1)="","",INDEX(BJ$6:BJ$105,$BP42,1)))} -> 16 | BZ42: {=IF($BP42="","",IF(INDEX(BK$6:BK$105,$BP42,1)="","",INDEX(BK$6:BK$105,$BP42,1)))} -> 26 | CB42: =IF(BU42="","",BU42) -> Jan van Cleef | CC42: =IF($CB42="","",VLOOKUP($CB42,$AE$6:$AM$105,CC$1,FALSE)) -> 7 | CD42: =IF($CB42="","",VLOOKUP($CB42,$AE$6:$AM$105,CD$1,FALSE)) -> 1.52 | CE42: =IF($CB42="","",VLOOKUP($CB42,$AE$6:$AM$105,CE$1,FALSE)) -> 6 | CF42: =IF($CB42="","",VLOOKUP($CB42,$AE$6:$AM$105,CF$1,FALSE)) -> 0.9 | CG42: =IF($CB42="","",VLOOKUP($CB42,$AE$6:$AM$105,CG$1,FALSE)) -> 2 | CH42: =IF($CB42="","",VLOOKUP($CB42,$AE$6:$AM$105,CH$1,FALSE)) -> 0.323 | CI42: =IF($CB42="","",VLOOKUP($CB42,$AE$6:$AM$105,CI$1,FALSE)) -> 9 | CJ42: =IF($CB42="","",VLOOKUP($CB42,$AE$6:$AM$105,CJ$1,FALSE)) -> 0.86
A43: 3301 | C43: 42 | D43: Mart v. Beek | E43: 1 | F43: 1.86 | G43: 10 | I43: 1.35 | J43: 24 | L43: 0.33 | M43: 7 | O43: 1.13 | P43: 1 | U43: 414 | V43: Angela Verleysdonk | X43: 35 | Y43: 17 | Z43: 20 | AA43: 20 | AD43: =IF(V43="","",COUNTIF(D$6:D$105,V43)) -> 1 | AE43: =IF(V43="","",V43) -> Angela Verleysdonk | AF43: =IF($AD43=1,VLOOKUP($AE43,$D$6:$P$105,AF$1,FALSE),0) -> 3 | AG43: =IF($AD43=1,VLOOKUP($AE43,$D$6:$P$105,AG$1,FALSE),0) -> 5 | AH43: =IF($AD43=1,VLOOKUP($AE43,$D$6:$P$105,AH$1,FALSE),0) -> 4 | AI43: =IF($AD43=1,VLOOKUP($AE43,$D$6:$P$105,AI$1,FALSE),0) -> 2 | AJ43: =IF(AF43=0,"",VLOOKUP($AE43,$D$6:$P142,AJ$1,FALSE)) -> 0.99 | AK43: =IF(AG43=0,"",VLOOKUP($AE43,$D$6:$P142,AK$1,FALSE)) -> 0.56 | AL43: =IF(AH43=0,"",VLOOKUP($AE43,$D$6:$P142,AL$1,FALSE)) -> 0.317 | AM43: =IF(AI43=0,"",VLOOKUP($AE43,$D$6:$P142,AM$1,FALSE)) -> 0.88 | AO43: =IF(AE43="","",IF(COUNT(AJ43:AM43)=4,"",IF(COUNT(AQ43:AS43)>0,"","x"))) | AU43: =IF(COUNT(AQ43:AR43)>0,SUM(AQ43:AR43),IF(AS43="","",ROUND((50*AS43-5)/6,2))) | AV43: =IF(AU43="","",ROUND((12*AU43+10)/30,2)) | AW43: =IF(AU43="","",ROUND((6*AU43+5)/50,3)) | AY43: =IF(AJ43="",AU43,AJ43) -> 0.99 | AZ43: =IF(AK43="",AV43,AK43) -> 0.56 | BA43: =IF(AL43="",AW43,AL43) -> 0.317 | BE43: 414 | BF43: Angela Verleysdonk | BH43: =IF(AY43="","",ROUND(BH$1*AY43,0)) -> 30 | BI43: =IF(AZ43="","",ROUND(BI$1*AZ43,0)) -> 17 | BJ43: =IF(BA43="","",ROUND(BJ$1*BA43,0)) -> 16 | BK43: =IF(AY43="","",ROUND(BK$1*AY43,0)) -> 17 | BL43: 38 | BM43: =IF(BL43>BM$4,"",100*BE43+BL43) -> 41438 | BN43: =IF(BM43="","",SMALL(BM$6:BM$105,BL43)) -> 41337 | BO43: =IF(BN43="","",INT(BN43/100)) -> 413 | BP43: =IF(BN43="","",BN43-100*BO43) -> 37 | BR43: {=IF($BP43="","",IF(INDEX(BC$6:BC$105,$BP43,1)="","",INDEX(BC$6:BC$105,$BP43,1)))} | BS43: {=IF($BP43="","",IF(INDEX(BD$6:BD$105,$BP43,1)="","",INDEX(BD$6:BD$105,$BP43,1)))} | BT43: {=IF($BP43="","",IF(INDEX(BE$6:BE$105,$BP43,1)="","",INDEX(BE$6:BE$105,$BP43,1)))} -> 413 | BU43: {=IF($BP43="","",IF(INDEX(BF$6:BF$105,$BP43,1)="","",INDEX(BF$6:BF$105,$BP43,1)))} -> André van Cleef | BV43: {=IF($BP43="","",IF(INDEX(BG$6:BG$105,$BP43,1)="","",INDEX(BG$6:BG$105,$BP43,1)))} | BW43: {=IF($BP43="","",IF(INDEX(BH$6:BH$105,$BP43,1)="","",INDEX(BH$6:BH$105,$BP43,1)))} -> 44 | BX43: {=IF($BP43="","",IF(INDEX(BI$6:BI$105,$BP43,1)="","",INDEX(BI$6:BI$105,$BP43,1)))} -> 28 | BY43: {=IF($BP43="","",IF(INDEX(BJ$6:BJ$105,$BP43,1)="","",INDEX(BJ$6:BJ$105,$BP43,1)))} -> 15 | BZ43: {=IF($BP43="","",IF(INDEX(BK$6:BK$105,$BP43,1)="","",INDEX(BK$6:BK$105,$BP43,1)))} -> 25 | CB43: =IF(BU43="","",BU43) -> André van Cleef | CC43: =IF($CB43="","",VLOOKUP($CB43,$AE$6:$AM$105,CC$1,FALSE)) -> 6 | CD43: =IF($CB43="","",VLOOKUP($CB43,$AE$6:$AM$105,CD$1,FALSE)) -> 1.46 | CE43: =IF($CB43="","",VLOOKUP($CB43,$AE$6:$AM$105,CE$1,FALSE)) -> 3 | CF43: =IF($CB43="","",VLOOKUP($CB43,$AE$6:$AM$105,CF$1,FALSE)) -> 0.94 | CG43: =IF($CB43="","",VLOOKUP($CB43,$AE$6:$AM$105,CG$1,FALSE)) -> 6 | CH43: =IF($CB43="","",VLOOKUP($CB43,$AE$6:$AM$105,CH$1,FALSE)) -> 0.292 | CI43: =IF($CB43="","",VLOOKUP($CB43,$AE$6:$AM$105,CI$1,FALSE)) -> 6 | CJ43: =IF($CB43="","",VLOOKUP($CB43,$AE$6:$AM$105,CJ$1,FALSE)) -> 0.87
A44: 3302 | C44: 48 | D44: Herm Kuijpers | E44: 1 | F44: 2.13 | G44: 26 | I44: 1.15 | J44: 8 | L44: 0.419 | M44: 11 | O44: 0.98 | P44: 3 | S44: 't Ven R | T44: 49 | U44: 491 | V44: Jules Frits | X44: 59 | Y44: 34 | Z44: 17 | AA44: 34 | AD44: =IF(V44="","",COUNTIF(D$6:D$105,V44)) -> 1 | AE44: =IF(V44="","",V44) -> Jules Frits | AF44: =IF($AD44=1,VLOOKUP($AE44,$D$6:$P$105,AF$1,FALSE),0) -> 0 | AG44: =IF($AD44=1,VLOOKUP($AE44,$D$6:$P$105,AG$1,FALSE),0) -> 0 | AH44: =IF($AD44=1,VLOOKUP($AE44,$D$6:$P$105,AH$1,FALSE),0) -> 0 | AI44: =IF($AD44=1,VLOOKUP($AE44,$D$6:$P$105,AI$1,FALSE),0) -> 0 | AJ44: =IF(AF44=0,"",VLOOKUP($AE44,$D$6:$P143,AJ$1,FALSE)) | AK44: =IF(AG44=0,"",VLOOKUP($AE44,$D$6:$P143,AK$1,FALSE)) | AL44: =IF(AH44=0,"",VLOOKUP($AE44,$D$6:$P143,AL$1,FALSE)) | AM44: =IF(AI44=0,"",VLOOKUP($AE44,$D$6:$P143,AM$1,FALSE)) | AO44: =IF(AE44="","",IF(COUNT(AJ44:AM44)=4,"",IF(COUNT(AQ44:AS44)>0,"","x"))) | AQ44: 1.98 | AU44: =IF(COUNT(AQ44:AR44)>0,SUM(AQ44:AR44),IF(AS44="","",ROUND((50*AS44-5)/6,2))) -> 1.98 | AV44: =IF(AU44="","",ROUND((12*AU44+10)/30,2)) -> 1.13 | AW44: =IF(AU44="","",ROUND((6*AU44+5)/50,3)) -> 0.338 | AY44: =IF(AJ44="",AU44,AJ44) -> 1.98 | AZ44: =IF(AK44="",AV44,AK44) -> 1.13 | BA44: =IF(AL44="",AW44,AL44) -> 0.338 | BC44: 't Ven R | BD44: 49 | BE44: 491 | BF44: Jules Frits | BH44: =IF(AY44="","",ROUND(BH$1*AY44,0)) -> 59 | BI44: =IF(AZ44="","",ROUND(BI$1*AZ44,0)) -> 34 | BJ44: =IF(BA44="","",ROUND(BJ$1*BA44,0)) -> 17 | BK44: =IF(AY44="","",ROUND(BK$1*AY44,0)) -> 34 | BL44: 39 | BM44: =IF(BL44>BM$4,"",100*BE44+BL44) -> 49139 | BN44: =IF(BM44="","",SMALL(BM$6:BM$105,BL44)) -> 41438 | BO44: =IF(BN44="","",INT(BN44/100)) -> 414 | BP44: =IF(BN44="","",BN44-100*BO44) -> 38 | BR44: {=IF($BP44="","",IF(INDEX(BC$6:BC$105,$BP44,1)="","",INDEX(BC$6:BC$105,$BP44,1)))} | BS44: {=IF($BP44="","",IF(INDEX(BD$6:BD$105,$BP44,1)="","",INDEX(BD$6:BD$105,$BP44,1)))} | BT44: {=IF($BP44="","",IF(INDEX(BE$6:BE$105,$BP44,1)="","",INDEX(BE$6:BE$105,$BP44,1)))} -> 414 | BU44: {=IF($BP44="","",IF(INDEX(BF$6:BF$105,$BP44,1)="","",INDEX(BF$6:BF$105,$BP44,1)))} -> Angela Verleysdonk | BV44: {=IF($BP44="","",IF(INDEX(BG$6:BG$105,$BP44,1)="","",INDEX(BG$6:BG$105,$BP44,1)))} | BW44: {=IF($BP44="","",IF(INDEX(BH$6:BH$105,$BP44,1)="","",INDEX(BH$6:BH$105,$BP44,1)))} -> 30 | BX44: {=IF($BP44="","",IF(INDEX(BI$6:BI$105,$BP44,1)="","",INDEX(BI$6:BI$105,$BP44,1)))} -> 17 | BY44: {=IF($BP44="","",IF(INDEX(BJ$6:BJ$105,$BP44,1)="","",INDEX(BJ$6:BJ$105,$BP44,1)))} -> 16 | BZ44: {=IF($BP44="","",IF(INDEX(BK$6:BK$105,$BP44,1)="","",INDEX(BK$6:BK$105,$BP44,1)))} -> 17 | CB44: =IF(BU44="","",BU44) -> Angela Verleysdonk | CC44: =IF($CB44="","",VLOOKUP($CB44,$AE$6:$AM$105,CC$1,FALSE)) -> 3 | CD44: =IF($CB44="","",VLOOKUP($CB44,$AE$6:$AM$105,CD$1,FALSE)) -> 0.99 | CE44: =IF($CB44="","",VLOOKUP($CB44,$AE$6:$AM$105,CE$1,FALSE)) -> 5 | CF44: =IF($CB44="","",VLOOKUP($CB44,$AE$6:$AM$105,CF$1,FALSE)) -> 0.56 | CG44: =IF($CB44="","",VLOOKUP($CB44,$AE$6:$AM$105,CG$1,FALSE)) -> 4 | CH44: =IF($CB44="","",VLOOKUP($CB44,$AE$6:$AM$105,CH$1,FALSE)) -> 0.317 | CI44: =IF($CB44="","",VLOOKUP($CB44,$AE$6:$AM$105,CI$1,FALSE)) -> 2 | CJ44: =IF($CB44="","",VLOOKUP($CB44,$AE$6:$AM$105,CJ$1,FALSE)) -> 0.88
A45: 3303 | C45: 33 | D45: Frans Litjens | E45: 1 | F45: 1.22 | G45: 7 | I45: 0.66 | J45: 11 | L45: 0.248 | M45: 4 | O45: 0.6 | P45: 11 | U45: 492 | V45: Berend Driessen | X45: 47 | Y45: 29 | Z45: 14 | AA45: 26 | AD45: =IF(V45="","",COUNTIF(D$6:D$105,V45)) -> 1 | AE45: =IF(V45="","",V45) -> Berend Driessen | AF45: =IF($AD45=1,VLOOKUP($AE45,$D$6:$P$105,AF$1,FALSE),0) -> 0 | AG45: =IF($AD45=1,VLOOKUP($AE45,$D$6:$P$105,AG$1,FALSE),0) -> 0 | AH45: =IF($AD45=1,VLOOKUP($AE45,$D$6:$P$105,AH$1,FALSE),0) -> 0 | AI45: =IF($AD45=1,VLOOKUP($AE45,$D$6:$P$105,AI$1,FALSE),0) -> 0 | AJ45: =IF(AF45=0,"",VLOOKUP($AE45,$D$6:$P144,AJ$1,FALSE)) | AK45: =IF(AG45=0,"",VLOOKUP($AE45,$D$6:$P144,AK$1,FALSE)) | AL45: =IF(AH45=0,"",VLOOKUP($AE45,$D$6:$P144,AL$1,FALSE)) | AM45: =IF(AI45=0,"",VLOOKUP($AE45,$D$6:$P144,AM$1,FALSE)) | AO45: =IF(AE45="","",IF(COUNT(AJ45:AM45)=4,"",IF(COUNT(AQ45:AS45)>0,"","x"))) | AQ45: 1.55 | AU45: =IF(COUNT(AQ45:AR45)>0,SUM(AQ45:AR45),IF(AS45="","",ROUND((50*AS45-5)/6,2))) -> 1.55 | AV45: =IF(AU45="","",ROUND((12*AU45+10)/30,2)) -> 0.95 | AW45: =IF(AU45="","",ROUND((6*AU45+5)/50,3)) -> 0.286 | AY45: =IF(AJ45="",AU45,AJ45) -> 1.55 | AZ45: =IF(AK45="",AV45,AK45) -> 0.95 | BA45: =IF(AL45="",AW45,AL45) -> 0.286 | BE45: 492 | BF45: Berend Driessen | BH45: =IF(AY45="","",ROUND(BH$1*AY45,0)) -> 47 | BI45: =IF(AZ45="","",ROUND(BI$1*AZ45,0)) -> 29 | BJ45: =IF(BA45="","",ROUND(BJ$1*BA45,0)) -> 14 | BK45: =IF(AY45="","",ROUND(BK$1*AY45,0)) -> 26 | BL45: 40 | BM45: =IF(BL45>BM$4,"",100*BE45+BL45) -> 49240 | BN45: =IF(BM45="","",SMALL(BM$6:BM$105,BL45)) -> 49139 | BO45: =IF(BN45="","",INT(BN45/100)) -> 491 | BP45: =IF(BN45="","",BN45-100*BO45) -> 39 | BR45: {=IF($BP45="","",IF(INDEX(BC$6:BC$105,$BP45,1)="","",INDEX(BC$6:BC$105,$BP45,1)))} -> 't Ven R | BS45: {=IF($BP45="","",IF(INDEX(BD$6:BD$105,$BP45,1)="","",INDEX(BD$6:BD$105,$BP45,1)))} -> 49 | BT45: {=IF($BP45="","",IF(INDEX(BE$6:BE$105,$BP45,1)="","",INDEX(BE$6:BE$105,$BP45,1)))} -> 491 | BU45: {=IF($BP45="","",IF(INDEX(BF$6:BF$105,$BP45,1)="","",INDEX(BF$6:BF$105,$BP45,1)))} -> Jules Frits | BV45: {=IF($BP45="","",IF(INDEX(BG$6:BG$105,$BP45,1)="","",INDEX(BG$6:BG$105,$BP45,1)))} | BW45: {=IF($BP45="","",IF(INDEX(BH$6:BH$105,$BP45,1)="","",INDEX(BH$6:BH$105,$BP45,1)))} -> 59 | BX45: {=IF($BP45="","",IF(INDEX(BI$6:BI$105,$BP45,1)="","",INDEX(BI$6:BI$105,$BP45,1)))} -> 34 | BY45: {=IF($BP45="","",IF(INDEX(BJ$6:BJ$105,$BP45,1)="","",INDEX(BJ$6:BJ$105,$BP45,1)))} -> 17 | BZ45: {=IF($BP45="","",IF(INDEX(BK$6:BK$105,$BP45,1)="","",INDEX(BK$6:BK$105,$BP45,1)))} -> 34 | CB45: =IF(BU45="","",BU45) -> Jules Frits | CC45: =IF($CB45="","",VLOOKUP($CB45,$AE$6:$AM$105,CC$1,FALSE)) -> 0 | CD45: =IF($CB45="","",VLOOKUP($CB45,$AE$6:$AM$105,CD$1,FALSE)) | CE45: =IF($CB45="","",VLOOKUP($CB45,$AE$6:$AM$105,CE$1,FALSE)) -> 0 | CF45: =IF($CB45="","",VLOOKUP($CB45,$AE$6:$AM$105,CF$1,FALSE)) | CG45: =IF($CB45="","",VLOOKUP($CB45,$AE$6:$AM$105,CG$1,FALSE)) -> 0 | CH45: =IF($CB45="","",VLOOKUP($CB45,$AE$6:$AM$105,CH$1,FALSE)) | CI45: =IF($CB45="","",VLOOKUP($CB45,$AE$6:$AM$105,CI$1,FALSE)) -> 0 | CJ45: =IF($CB45="","",VLOOKUP($CB45,$AE$6:$AM$105,CJ$1,FALSE))
A46: 3304 | B46: L | C46: 51 | D46: Henk Martens | E46: 1 | F46: 1.39 | G46: 9 | I46: 0.84 | J46: 10 | L46: 0.43 | M46: 29 | O46: 0.77 | P46: 3 | U46: 493 | V46: John Jacobs | X46: 43 | Y46: 27 | Z46: 14 | AA46: 24 | AD46: =IF(V46="","",COUNTIF(D$6:D$105,V46)) -> 1 | AE46: =IF(V46="","",V46) -> John Jacobs | AF46: =IF($AD46=1,VLOOKUP($AE46,$D$6:$P$105,AF$1,FALSE),0) -> 0 | AG46: =IF($AD46=1,VLOOKUP($AE46,$D$6:$P$105,AG$1,FALSE),0) -> 1 | AH46: =IF($AD46=1,VLOOKUP($AE46,$D$6:$P$105,AH$1,FALSE),0) -> 5 | AI46: =IF($AD46=1,VLOOKUP($AE46,$D$6:$P$105,AI$1,FALSE),0) -> 0 | AJ46: =IF(AF46=0,"",VLOOKUP($AE46,$D$6:$P145,AJ$1,FALSE)) | AK46: =IF(AG46=0,"",VLOOKUP($AE46,$D$6:$P145,AK$1,FALSE)) -> 1.93 | AL46: =IF(AH46=0,"",VLOOKUP($AE46,$D$6:$P145,AL$1,FALSE)) -> 0.345 | AM46: =IF(AI46=0,"",VLOOKUP($AE46,$D$6:$P145,AM$1,FALSE)) | AO46: =IF(AE46="","",IF(COUNT(AJ46:AM46)=4,"",IF(COUNT(AQ46:AS46)>0,"","x"))) | AQ46: 1.69 | AU46: =IF(COUNT(AQ46:AR46)>0,SUM(AQ46:AR46),IF(AS46="","",ROUND((50*AS46-5)/6,2))) -> 1.69 | AV46: =IF(AU46="","",ROUND((12*AU46+10)/30,2)) -> 1.01 | AW46: =IF(AU46="","",ROUND((6*AU46+5)/50,3)) -> 0.303 | AY46: =IF(AJ46="",AU46,AJ46) -> 1.69 | AZ46: =IF(AK46="",AV46,AK46) -> 1.93 | BA46: =IF(AL46="",AW46,AL46) -> 0.345 | BE46: 493 | BF46: John Jacobs | BH46: =IF(AY46="","",ROUND(BH$1*AY46,0)) -> 51 | BI46: =IF(AZ46="","",ROUND(BI$1*AZ46,0)) -> 58 | BJ46: =IF(BA46="","",ROUND(BJ$1*BA46,0)) -> 17 | BK46: =IF(AY46="","",ROUND(BK$1*AY46,0)) -> 29 | BL46: 41 | BM46: =IF(BL46>BM$4,"",100*BE46+BL46) -> 49341 | BN46: =IF(BM46="","",SMALL(BM$6:BM$105,BL46)) -> 49240 | BO46: =IF(BN46="","",INT(BN46/100)) -> 492 | BP46: =IF(BN46="","",BN46-100*BO46) -> 40 | BR46: {=IF($BP46="","",IF(INDEX(BC$6:BC$105,$BP46,1)="","",INDEX(BC$6:BC$105,$BP46,1)))} | BS46: {=IF($BP46="","",IF(INDEX(BD$6:BD$105,$BP46,1)="","",INDEX(BD$6:BD$105,$BP46,1)))} | BT46: {=IF($BP46="","",IF(INDEX(BE$6:BE$105,$BP46,1)="","",INDEX(BE$6:BE$105,$BP46,1)))} -> 492 | BU46: {=IF($BP46="","",IF(INDEX(BF$6:BF$105,$BP46,1)="","",INDEX(BF$6:BF$105,$BP46,1)))} -> Berend Driessen | BV46: {=IF($BP46="","",IF(INDEX(BG$6:BG$105,$BP46,1)="","",INDEX(BG$6:BG$105,$BP46,1)))} | BW46: {=IF($BP46="","",IF(INDEX(BH$6:BH$105,$BP46,1)="","",INDEX(BH$6:BH$105,$BP46,1)))} -> 47 | BX46: {=IF($BP46="","",IF(INDEX(BI$6:BI$105,$BP46,1)="","",INDEX(BI$6:BI$105,$BP46,1)))} -> 29 | BY46: {=IF($BP46="","",IF(INDEX(BJ$6:BJ$105,$BP46,1)="","",INDEX(BJ$6:BJ$105,$BP46,1)))} -> 14 | BZ46: {=IF($BP46="","",IF(INDEX(BK$6:BK$105,$BP46,1)="","",INDEX(BK$6:BK$105,$BP46,1)))} -> 26 | CB46: =IF(BU46="","",BU46) -> Berend Driessen | CC46: =IF($CB46="","",VLOOKUP($CB46,$AE$6:$AM$105,CC$1,FALSE)) -> 0 | CD46: =IF($CB46="","",VLOOKUP($CB46,$AE$6:$AM$105,CD$1,FALSE)) | CE46: =IF($CB46="","",VLOOKUP($CB46,$AE$6:$AM$105,CE$1,FALSE)) -> 0 | CF46: =IF($CB46="","",VLOOKUP($CB46,$AE$6:$AM$105,CF$1,FALSE)) | CG46: =IF($CB46="","",VLOOKUP($CB46,$AE$6:$AM$105,CG$1,FALSE)) -> 0 | CH46: =IF($CB46="","",VLOOKUP($CB46,$AE$6:$AM$105,CH$1,FALSE)) | CI46: =IF($CB46="","",VLOOKUP($CB46,$AE$6:$AM$105,CI$1,FALSE)) -> 0 | CJ46: =IF($CB46="","",VLOOKUP($CB46,$AE$6:$AM$105,CJ$1,FALSE))
A47: 3901 | C47: 22 | D47: Paul Crooijmans | E47: 1 | F47: 2.05 | G47: 7 | I47: 1.17 | J47: 9 | L47: 0.292 | M47: 5 | O47: 0.74 | P47: 1 | S47: De Witte Berg 1 | T47: 51 | U47: 511 | V47: Leo Pingen | W47: L | X47: 55 | Y47: 28 | Z47: 12 | AA47: 31 | AD47: =IF(V47="","",COUNTIF(D$6:D$105,V47)) -> 1 | AE47: =IF(V47="","",V47) -> Leo Pingen | AF47: =IF($AD47=1,VLOOKUP($AE47,$D$6:$P$105,AF$1,FALSE),0) -> 13 | AG47: =IF($AD47=1,VLOOKUP($AE47,$D$6:$P$105,AG$1,FALSE),0) -> 18 | AH47: =IF($AD47=1,VLOOKUP($AE47,$D$6:$P$105,AH$1,FALSE),0) -> 9 | AI47: =IF($AD47=1,VLOOKUP($AE47,$D$6:$P$105,AI$1,FALSE),0) -> 12 | AJ47: =IF(AF47=0,"",VLOOKUP($AE47,$D$6:$P146,AJ$1,FALSE)) -> 1.85 | AK47: =IF(AG47=0,"",VLOOKUP($AE47,$D$6:$P146,AK$1,FALSE)) -> 0.9 | AL47: =IF(AH47=0,"",VLOOKUP($AE47,$D$6:$P146,AL$1,FALSE)) -> 0.24 | AM47: =IF(AI47=0,"",VLOOKUP($AE47,$D$6:$P146,AM$1,FALSE)) -> 0.86 | AO47: =IF(AE47="","",IF(COUNT(AJ47:AM47)=4,"",IF(COUNT(AQ47:AS47)>0,"","x"))) | AU47: =IF(COUNT(AQ47:AR47)>0,SUM(AQ47:AR47),IF(AS47="","",ROUND((50*AS47-5)/6,2))) | AV47: =IF(AU47="","",ROUND((12*AU47+10)/30,2)) | AW47: =IF(AU47="","",ROUND((6*AU47+5)/50,3)) | AY47: =IF(AJ47="",AU47,AJ47) -> 1.85 | AZ47: =IF(AK47="",AV47,AK47) -> 0.9 | BA47: =IF(AL47="",AW47,AL47) -> 0.24 | BE47: 601 | BF47: Leo Pingen | BG47: L | BH47: =IF(AY47="","",ROUND(BH$1*AY47,0)) -> 56 | BI47: =IF(AZ47="","",ROUND(BI$1*AZ47,0)) -> 27 | BJ47: =IF(BA47="","",ROUND(BJ$1*BA47,0)) -> 12 | BK47: =IF(AY47="","",ROUND(BK$1*AY47,0)) -> 31 | BL47: 42 | BM47: =IF(BL47>BM$4,"",100*BE47+BL47) -> 60142 | BN47: =IF(BM47="","",SMALL(BM$6:BM$105,BL47)) -> 49341 | BO47: =IF(BN47="","",INT(BN47/100)) -> 493 | BP47: =IF(BN47="","",BN47-100*BO47) -> 41 | BR47: {=IF($BP47="","",IF(INDEX(BC$6:BC$105,$BP47,1)="","",INDEX(BC$6:BC$105,$BP47,1)))} | BS47: {=IF($BP47="","",IF(INDEX(BD$6:BD$105,$BP47,1)="","",INDEX(BD$6:BD$105,$BP47,1)))} | BT47: {=IF($BP47="","",IF(INDEX(BE$6:BE$105,$BP47,1)="","",INDEX(BE$6:BE$105,$BP47,1)))} -> 493 | BU47: {=IF($BP47="","",IF(INDEX(BF$6:BF$105,$BP47,1)="","",INDEX(BF$6:BF$105,$BP47,1)))} -> John Jacobs | BV47: {=IF($BP47="","",IF(INDEX(BG$6:BG$105,$BP47,1)="","",INDEX(BG$6:BG$105,$BP47,1)))} | BW47: {=IF($BP47="","",IF(INDEX(BH$6:BH$105,$BP47,1)="","",INDEX(BH$6:BH$105,$BP47,1)))} -> 51 | BX47: {=IF($BP47="","",IF(INDEX(BI$6:BI$105,$BP47,1)="","",INDEX(BI$6:BI$105,$BP47,1)))} -> 58 | BY47: {=IF($BP47="","",IF(INDEX(BJ$6:BJ$105,$BP47,1)="","",INDEX(BJ$6:BJ$105,$BP47,1)))} -> 17 | BZ47: {=IF($BP47="","",IF(INDEX(BK$6:BK$105,$BP47,1)="","",INDEX(BK$6:BK$105,$BP47,1)))} -> 29 | CB47: =IF(BU47="","",BU47) -> John Jacobs | CC47: =IF($CB47="","",VLOOKUP($CB47,$AE$6:$AM$105,CC$1,FALSE)) -> 0 | CD47: =IF($CB47="","",VLOOKUP($CB47,$AE$6:$AM$105,CD$1,FALSE)) | CE47: =IF($CB47="","",VLOOKUP($CB47,$AE$6:$AM$105,CE$1,FALSE)) -> 1 | CF47: =IF($CB47="","",VLOOKUP($CB47,$AE$6:$AM$105,CF$1,FALSE)) -> 1.93 | CG47: =IF($CB47="","",VLOOKUP($CB47,$AE$6:$AM$105,CG$1,FALSE)) -> 5 | CH47: =IF($CB47="","",VLOOKUP($CB47,$AE$6:$AM$105,CH$1,FALSE)) -> 0.345 | CI47: =IF($CB47="","",VLOOKUP($CB47,$AE$6:$AM$105,CI$1,FALSE)) -> 0 | CJ47: =IF($CB47="","",VLOOKUP($CB47,$AE$6:$AM$105,CJ$1,FALSE))
A48: 3902 | C48: 20 | D48: Sjaak Geurts | E48: 1 | F48: 1.55 | G48: 7 | I48: 0.87 | J48: 3 | L48: 0.343 | M48: 7 | O48: 0.77 | P48: 3 | U48: 512 | V48: Wim v.d. Loo | X48: 37 | Y48: 22 | Z48: 9 | AA48: 21 | AD48: =IF(V48="","",COUNTIF(D$6:D$105,V48)) -> 1 | AE48: =IF(V48="","",V48) -> Wim v.d. Loo | AF48: =IF($AD48=1,VLOOKUP($AE48,$D$6:$P$105,AF$1,FALSE),0) -> 7 | AG48: =IF($AD48=1,VLOOKUP($AE48,$D$6:$P$105,AG$1,FALSE),0) -> 14 | AH48: =IF($AD48=1,VLOOKUP($AE48,$D$6:$P$105,AH$1,FALSE),0) -> 20 | AI48: =IF($AD48=1,VLOOKUP($AE48,$D$6:$P$105,AI$1,FALSE),0) -> 0 | AJ48: =IF(AF48=0,"",VLOOKUP($AE48,$D$6:$P147,AJ$1,FALSE)) -> 1.22 | AK48: =IF(AG48=0,"",VLOOKUP($AE48,$D$6:$P147,AK$1,FALSE)) -> 0.67 | AL48: =IF(AH48=0,"",VLOOKUP($AE48,$D$6:$P147,AL$1,FALSE)) -> 0.19 | AM48: =IF(AI48=0,"",VLOOKUP($AE48,$D$6:$P147,AM$1,FALSE)) | AO48: =IF(AE48="","",IF(COUNT(AJ48:AM48)=4,"",IF(COUNT(AQ48:AS48)>0,"","x"))) | AQ48: 0.96 | AU48: =IF(COUNT(AQ48:AR48)>0,SUM(AQ48:AR48),IF(AS48="","",ROUND((50*AS48-5)/6,2))) -> 0.96 | AV48: =IF(AU48="","",ROUND((12*AU48+10)/30,2)) -> 0.72 | AW48: =IF(AU48="","",ROUND((6*AU48+5)/50,3)) -> 0.215 | AY48: =IF(AJ48="",AU48,AJ48) -> 1.22 | AZ48: =IF(AK48="",AV48,AK48) -> 0.67 | BA48: =IF(AL48="",AW48,AL48) -> 0.19 | BE48: 602 | BF48: Wim v.d. Loo | BH48: =IF(AY48="","",ROUND(BH$1*AY48,0)) -> 37 | BI48: =IF(AZ48="","",ROUND(BI$1*AZ48,0)) -> 20 | BJ48: =IF(BA48="","",ROUND(BJ$1*BA48,0)) -> 10 | BK48: =IF(AY48="","",ROUND(BK$1*AY48,0)) -> 21 | BL48: 43 | BM48: =IF(BL48>BM$4,"",100*BE48+BL48) -> 60243 | BN48: =IF(BM48="","",SMALL(BM$6:BM$105,BL48)) -> 51146 | BO48: =IF(BN48="","",INT(BN48/100)) -> 511 | BP48: =IF(BN48="","",BN48-100*BO48) -> 46 | BR48: {=IF($BP48="","",IF(INDEX(BC$6:BC$105,$BP48,1)="","",INDEX(BC$6:BC$105,$BP48,1)))} -> De Witte Berg 1 | BS48: {=IF($BP48="","",IF(INDEX(BD$6:BD$105,$BP48,1)="","",INDEX(BD$6:BD$105,$BP48,1)))} -> 51 | BT48: {=IF($BP48="","",IF(INDEX(BE$6:BE$105,$BP48,1)="","",INDEX(BE$6:BE$105,$BP48,1)))} -> 511 | BU48: {=IF($BP48="","",IF(INDEX(BF$6:BF$105,$BP48,1)="","",INDEX(BF$6:BF$105,$BP48,1)))} -> Hans v.d. Hombergh | BV48: {=IF($BP48="","",IF(INDEX(BG$6:BG$105,$BP48,1)="","",INDEX(BG$6:BG$105,$BP48,1)))} | BW48: {=IF($BP48="","",IF(INDEX(BH$6:BH$105,$BP48,1)="","",INDEX(BH$6:BH$105,$BP48,1)))} -> 138 | BX48: {=IF($BP48="","",IF(INDEX(BI$6:BI$105,$BP48,1)="","",INDEX(BI$6:BI$105,$BP48,1)))} -> 50 | BY48: {=IF($BP48="","",IF(INDEX(BJ$6:BJ$105,$BP48,1)="","",INDEX(BJ$6:BJ$105,$BP48,1)))} -> 23 | BZ48: {=IF($BP48="","",IF(INDEX(BK$6:BK$105,$BP48,1)="","",INDEX(BK$6:BK$105,$BP48,1)))} -> 78 | CB48: =IF(BU48="","",BU48) -> Hans v.d. Hombergh | CC48: =IF($CB48="","",VLOOKUP($CB48,$AE$6:$AM$105,CC$1,FALSE)) -> 19 | CD48: =IF($CB48="","",VLOOKUP($CB48,$AE$6:$AM$105,CD$1,FALSE)) -> 4.6 | CE48: =IF($CB48="","",VLOOKUP($CB48,$AE$6:$AM$105,CE$1,FALSE)) -> 9 | CF48: =IF($CB48="","",VLOOKUP($CB48,$AE$6:$AM$105,CF$1,FALSE)) -> 1.65 | CG48: =IF($CB48="","",VLOOKUP($CB48,$AE$6:$AM$105,CG$1,FALSE)) -> 15 | CH48: =IF($CB48="","",VLOOKUP($CB48,$AE$6:$AM$105,CH$1,FALSE)) -> 0.45 | CI48: =IF($CB48="","",VLOOKUP($CB48,$AE$6:$AM$105,CI$1,FALSE)) -> 1 | CJ48: =IF($CB48="","",VLOOKUP($CB48,$AE$6:$AM$105,CJ$1,FALSE)) -> 1.47
A49: 3903 | C49: 17 | D49: Huub Graat | E49: 1 | F49: 2.25 | G49: 5 | I49: 1.29 | J49: 3 | L49: 0.593 | M49: 5 | O49: 1.06 | P49: 4 | U49: 513 | V49: Nol Reijmer | X49: 24 | Y49: 19 | Z49: 10 | AA49: 14 | AD49: =IF(V49="","",COUNTIF(D$6:D$105,V49)) -> 1 | AE49: =IF(V49="","",V49) -> Nol Reijmer | AF49: =IF($AD49=1,VLOOKUP($AE49,$D$6:$P$105,AF$1,FALSE),0) -> 11 | AG49: =IF($AD49=1,VLOOKUP($AE49,$D$6:$P$105,AG$1,FALSE),0) -> 13 | AH49: =IF($AD49=1,VLOOKUP($AE49,$D$6:$P$105,AH$1,FALSE),0) -> 5 | AI49: =IF($AD49=1,VLOOKUP($AE49,$D$6:$P$105,AI$1,FALSE),0) -> 8 | AJ49: =IF(AF49=0,"",VLOOKUP($AE49,$D$6:$P148,AJ$1,FALSE)) -> 0.85 | AK49: =IF(AG49=0,"",VLOOKUP($AE49,$D$6:$P148,AK$1,FALSE)) -> 0.62 | AL49: =IF(AH49=0,"",VLOOKUP($AE49,$D$6:$P148,AL$1,FALSE)) -> 0.2 | AM49: =IF(AI49=0,"",VLOOKUP($AE49,$D$6:$P148,AM$1,FALSE)) -> 0.62 | AO49: =IF(AE49="","",IF(COUNT(AJ49:AM49)=4,"",IF(COUNT(AQ49:AS49)>0,"","x"))) | AU49: =IF(COUNT(AQ49:AR49)>0,SUM(AQ49:AR49),IF(AS49="","",ROUND((50*AS49-5)/6,2))) | AV49: =IF(AU49="","",ROUND((12*AU49+10)/30,2)) | AW49: =IF(AU49="","",ROUND((6*AU49+5)/50,3)) | AY49: =IF(AJ49="",AU49,AJ49) -> 0.85 | AZ49: =IF(AK49="",AV49,AK49) -> 0.62 | BA49: =IF(AL49="",AW49,AL49) -> 0.2 | BE49: 603 | BF49: Nol Reijmer | BH49: =IF(AY49="","",ROUND(BH$1*AY49,0)) -> 26 | BI49: =IF(AZ49="","",ROUND(BI$1*AZ49,0)) -> 19 | BJ49: =IF(BA49="","",ROUND(BJ$1*BA49,0)) -> 10 | BK49: =IF(AY49="","",ROUND(BK$1*AY49,0)) -> 14 | BL49: 44 | BM49: =IF(BL49>BM$4,"",100*BE49+BL49) -> 60344 | BN49: =IF(BM49="","",SMALL(BM$6:BM$105,BL49)) -> 51247 | BO49: =IF(BN49="","",INT(BN49/100)) -> 512 | BP49: =IF(BN49="","",BN49-100*BO49) -> 47 | BR49: {=IF($BP49="","",IF(INDEX(BC$6:BC$105,$BP49,1)="","",INDEX(BC$6:BC$105,$BP49,1)))} | BS49: {=IF($BP49="","",IF(INDEX(BD$6:BD$105,$BP49,1)="","",INDEX(BD$6:BD$105,$BP49,1)))} | BT49: {=IF($BP49="","",IF(INDEX(BE$6:BE$105,$BP49,1)="","",INDEX(BE$6:BE$105,$BP49,1)))} -> 512 | BU49: {=IF($BP49="","",IF(INDEX(BF$6:BF$105,$BP49,1)="","",INDEX(BF$6:BF$105,$BP49,1)))} -> Jos v. Wijlick | BV49: {=IF($BP49="","",IF(INDEX(BG$6:BG$105,$BP49,1)="","",INDEX(BG$6:BG$105,$BP49,1)))} -> L | BW49: {=IF($BP49="","",IF(INDEX(BH$6:BH$105,$BP49,1)="","",INDEX(BH$6:BH$105,$BP49,1)))} -> 59 | BX49: {=IF($BP49="","",IF(INDEX(BI$6:BI$105,$BP49,1)="","",INDEX(BI$6:BI$105,$BP49,1)))} -> 32 | BY49: {=IF($BP49="","",IF(INDEX(BJ$6:BJ$105,$BP49,1)="","",INDEX(BJ$6:BJ$105,$BP49,1)))} -> 17 | BZ49: {=IF($BP49="","",IF(INDEX(BK$6:BK$105,$BP49,1)="","",INDEX(BK$6:BK$105,$BP49,1)))} -> 33 | CB49: =IF(BU49="","",BU49) -> Jos v. Wijlick | CC49: =IF($CB49="","",VLOOKUP($CB49,$AE$6:$AM$105,CC$1,FALSE)) -> 9 | CD49: =IF($CB49="","",VLOOKUP($CB49,$AE$6:$AM$105,CD$1,FALSE)) -> 1.97 | CE49: =IF($CB49="","",VLOOKUP($CB49,$AE$6:$AM$105,CE$1,FALSE)) -> 12 | CF49: =IF($CB49="","",VLOOKUP($CB49,$AE$6:$AM$105,CF$1,FALSE)) -> 1.07 | CG49: =IF($CB49="","",VLOOKUP($CB49,$AE$6:$AM$105,CG$1,FALSE)) -> 10 | CH49: =IF($CB49="","",VLOOKUP($CB49,$AE$6:$AM$105,CH$1,FALSE)) -> 0.344 | CI49: =IF($CB49="","",VLOOKUP($CB49,$AE$6:$AM$105,CI$1,FALSE)) -> 8 | CJ49: =IF($CB49="","",VLOOKUP($CB49,$AE$6:$AM$105,CJ$1,FALSE)) -> 1
A50: 3904 | C50: 14 | D50: Jéro Teunissen | E50: 1 | F50: 1.84 | G50: 4 | I50: 1.16 | J50: 3 | L50: 0.366 | M50: 7 | O50: 0 | P50: 0 | U50: 514 | V50: Piet Hendrikx | X50: 29 | Y50: 18 | Z50: 10 | AA50: 16 | AD50: =IF(V50="","",COUNTIF(D$6:D$105,V50)) -> 1 | AE50: =IF(V50="","",V50) -> Piet Hendrikx | AF50: =IF($AD50=1,VLOOKUP($AE50,$D$6:$P$105,AF$1,FALSE),0) -> 21 | AG50: =IF($AD50=1,VLOOKUP($AE50,$D$6:$P$105,AG$1,FALSE),0) -> 6 | AH50: =IF($AD50=1,VLOOKUP($AE50,$D$6:$P$105,AH$1,FALSE),0) -> 6 | AI50: =IF($AD50=1,VLOOKUP($AE50,$D$6:$P$105,AI$1,FALSE),0) -> 0 | AJ50: =IF(AF50=0,"",VLOOKUP($AE50,$D$6:$P149,AJ$1,FALSE)) -> 0.94 | AK50: =IF(AG50=0,"",VLOOKUP($AE50,$D$6:$P149,AK$1,FALSE)) -> 0.59 | AL50: =IF(AH50=0,"",VLOOKUP($AE50,$D$6:$P149,AL$1,FALSE)) -> 0.203 | AM50: =IF(AI50=0,"",VLOOKUP($AE50,$D$6:$P149,AM$1,FALSE)) | AO50: =IF(AE50="","",IF(COUNT(AJ50:AM50)=4,"",IF(COUNT(AQ50:AS50)>0,"","x"))) -> x | AU50: =IF(COUNT(AQ50:AR50)>0,SUM(AQ50:AR50),IF(AS50="","",ROUND((50*AS50-5)/6,2))) | AV50: =IF(AU50="","",ROUND((12*AU50+10)/30,2)) | AW50: =IF(AU50="","",ROUND((6*AU50+5)/50,3)) | AY50: =IF(AJ50="",AU50,AJ50) -> 0.94 | AZ50: =IF(AK50="",AV50,AK50) -> 0.59 | BA50: =IF(AL50="",AW50,AL50) -> 0.203 | BE50: 604 | BF50: Piet Hendrikx | BH50: =IF(AY50="","",ROUND(BH$1*AY50,0)) -> 28 | BI50: =IF(AZ50="","",ROUND(BI$1*AZ50,0)) -> 18 | BJ50: =IF(BA50="","",ROUND(BJ$1*BA50,0)) -> 10 | BK50: =IF(AY50="","",ROUND(BK$1*AY50,0)) -> 16 | BL50: 45 | BM50: =IF(BL50>BM$4,"",100*BE50+BL50) -> 60445 | BN50: =IF(BM50="","",SMALL(BM$6:BM$105,BL50)) -> 51348 | BO50: =IF(BN50="","",INT(BN50/100)) -> 513 | BP50: =IF(BN50="","",BN50-100*BO50) -> 48 | BR50: {=IF($BP50="","",IF(INDEX(BC$6:BC$105,$BP50,1)="","",INDEX(BC$6:BC$105,$BP50,1)))} | BS50: {=IF($BP50="","",IF(INDEX(BD$6:BD$105,$BP50,1)="","",INDEX(BD$6:BD$105,$BP50,1)))} | BT50: {=IF($BP50="","",IF(INDEX(BE$6:BE$105,$BP50,1)="","",INDEX(BE$6:BE$105,$BP50,1)))} -> 513 | BU50: {=IF($BP50="","",IF(INDEX(BF$6:BF$105,$BP50,1)="","",INDEX(BF$6:BF$105,$BP50,1)))} -> René Kessels | BV50: {=IF($BP50="","",IF(INDEX(BG$6:BG$105,$BP50,1)="","",INDEX(BG$6:BG$105,$BP50,1)))} | BW50: {=IF($BP50="","",IF(INDEX(BH$6:BH$105,$BP50,1)="","",INDEX(BH$6:BH$105,$BP50,1)))} -> 37 | BX50: {=IF($BP50="","",IF(INDEX(BI$6:BI$105,$BP50,1)="","",INDEX(BI$6:BI$105,$BP50,1)))} -> 15 | BY50: {=IF($BP50="","",IF(INDEX(BJ$6:BJ$105,$BP50,1)="","",INDEX(BJ$6:BJ$105,$BP50,1)))} -> 13 | BZ50: {=IF($BP50="","",IF(INDEX(BK$6:BK$105,$BP50,1)="","",INDEX(BK$6:BK$105,$BP50,1)))} -> 21 | CB50: =IF(BU50="","",BU50) -> René Kessels | CC50: =IF($CB50="","",VLOOKUP($CB50,$AE$6:$AM$105,CC$1,FALSE)) -> 3 | CD50: =IF($CB50="","",VLOOKUP($CB50,$AE$6:$AM$105,CD$1,FALSE)) -> 1.24 | CE50: =IF($CB50="","",VLOOKUP($CB50,$AE$6:$AM$105,CE$1,FALSE)) -> 4 | CF50: =IF($CB50="","",VLOOKUP($CB50,$AE$6:$AM$105,CF$1,FALSE)) -> 0.51 | CG50: =IF($CB50="","",VLOOKUP($CB50,$AE$6:$AM$105,CG$1,FALSE)) -> 0 | CH50: =IF($CB50="","",VLOOKUP($CB50,$AE$6:$AM$105,CH$1,FALSE)) | CI50: =IF($CB50="","",VLOOKUP($CB50,$AE$6:$AM$105,CI$1,FALSE)) -> 1 | CJ50: =IF($CB50="","",VLOOKUP($CB50,$AE$6:$AM$105,CJ$1,FALSE)) -> 1
A51: 3905 | C51: 7 | D51: Bram Volleberg | E51: 1 | F51: 2.13 | G51: 3 | I51: 1.1 | J51: 1 | L51: 0 | M51: 0 | O51: 1 | P51: 3 | S51: De Witte Berg 2 | T51: 52 | U51: 521 | V51: Hans v.d. Hombergh | X51: 142 | Y51: 50 | Z51: 21 | AA51: 80 | AD51: =IF(V51="","",COUNTIF(D$6:D$105,V51)) -> 1 | AE51: =IF(V51="","",V51) -> Hans v.d. Hombergh | AF51: =IF($AD51=1,VLOOKUP($AE51,$D$6:$P$105,AF$1,FALSE),0) -> 19 | AG51: =IF($AD51=1,VLOOKUP($AE51,$D$6:$P$105,AG$1,FALSE),0) -> 9 | AH51: =IF($AD51=1,VLOOKUP($AE51,$D$6:$P$105,AH$1,FALSE),0) -> 15 | AI51: =IF($AD51=1,VLOOKUP($AE51,$D$6:$P$105,AI$1,FALSE),0) -> 1 | AJ51: =IF(AF51=0,"",VLOOKUP($AE51,$D$6:$P150,AJ$1,FALSE)) -> 4.6 | AK51: =IF(AG51=0,"",VLOOKUP($AE51,$D$6:$P150,AK$1,FALSE)) -> 1.65 | AL51: =IF(AH51=0,"",VLOOKUP($AE51,$D$6:$P150,AL$1,FALSE)) -> 0.45 | AM51: =IF(AI51=0,"",VLOOKUP($AE51,$D$6:$P150,AM$1,FALSE)) -> 1.47 | AO51: =IF(AE51="","",IF(COUNT(AJ51:AM51)=4,"",IF(COUNT(AQ51:AS51)>0,"","x"))) | AU51: =IF(COUNT(AQ51:AR51)>0,SUM(AQ51:AR51),IF(AS51="","",ROUND((50*AS51-5)/6,2))) | AV51: =IF(AU51="","",ROUND((12*AU51+10)/30,2)) | AW51: =IF(AU51="","",ROUND((6*AU51+5)/50,3)) | AY51: =IF(AJ51="",AU51,AJ51) -> 4.6 | AZ51: =IF(AK51="",AV51,AK51) -> 1.65 | BA51: =IF(AL51="",AW51,AL51) -> 0.45 | BC51: De Witte Berg 1 | BD51: 51 | BE51: 511 | BF51: Hans v.d. Hombergh | BH51: =IF(AY51="","",ROUND(BH$1*AY51,0)) -> 138 | BI51: =IF(AZ51="","",ROUND(BI$1*AZ51,0)) -> 50 | BJ51: =IF(BA51="","",ROUND(BJ$1*BA51,0)) -> 23 | BK51: =IF(AY51="","",ROUND(BK$1*AY51,0)) -> 78 | BL51: 46 | BM51: =IF(BL51>BM$4,"",100*BE51+BL51) -> 51146 | BN51: =IF(BM51="","",SMALL(BM$6:BM$105,BL51)) -> 51449 | BO51: =IF(BN51="","",INT(BN51/100)) -> 514 | BP51: =IF(BN51="","",BN51-100*BO51) -> 49 | BR51: {=IF($BP51="","",IF(INDEX(BC$6:BC$105,$BP51,1)="","",INDEX(BC$6:BC$105,$BP51,1)))} | BS51: {=IF($BP51="","",IF(INDEX(BD$6:BD$105,$BP51,1)="","",INDEX(BD$6:BD$105,$BP51,1)))} | BT51: {=IF($BP51="","",IF(INDEX(BE$6:BE$105,$BP51,1)="","",INDEX(BE$6:BE$105,$BP51,1)))} -> 514 | BU51: {=IF($BP51="","",IF(INDEX(BF$6:BF$105,$BP51,1)="","",INDEX(BF$6:BF$105,$BP51,1)))} -> Hay in 't Zandt | BV51: {=IF($BP51="","",IF(INDEX(BG$6:BG$105,$BP51,1)="","",INDEX(BG$6:BG$105,$BP51,1)))} | BW51: {=IF($BP51="","",IF(INDEX(BH$6:BH$105,$BP51,1)="","",INDEX(BH$6:BH$105,$BP51,1)))} -> 41 | BX51: {=IF($BP51="","",IF(INDEX(BI$6:BI$105,$BP51,1)="","",INDEX(BI$6:BI$105,$BP51,1)))} -> 24 | BY51: {=IF($BP51="","",IF(INDEX(BJ$6:BJ$105,$BP51,1)="","",INDEX(BJ$6:BJ$105,$BP51,1)))} -> 10 | BZ51: {=IF($BP51="","",IF(INDEX(BK$6:BK$105,$BP51,1)="","",INDEX(BK$6:BK$105,$BP51,1)))} -> 23 | CB51: =IF(BU51="","",BU51) -> Hay in 't Zandt | CC51: =IF($CB51="","",VLOOKUP($CB51,$AE$6:$AM$105,CC$1,FALSE)) -> 11 | CD51: =IF($CB51="","",VLOOKUP($CB51,$AE$6:$AM$105,CD$1,FALSE)) -> 1.37 | CE51: =IF($CB51="","",VLOOKUP($CB51,$AE$6:$AM$105,CE$1,FALSE)) -> 11 | CF51: =IF($CB51="","",VLOOKUP($CB51,$AE$6:$AM$105,CF$1,FALSE)) -> 0.8 | CG51: =IF($CB51="","",VLOOKUP($CB51,$AE$6:$AM$105,CG$1,FALSE)) -> 8 | CH51: =IF($CB51="","",VLOOKUP($CB51,$AE$6:$AM$105,CH$1,FALSE)) -> 0.206 | CI51: =IF($CB51="","",VLOOKUP($CB51,$AE$6:$AM$105,CI$1,FALSE)) -> 6 | CJ51: =IF($CB51="","",VLOOKUP($CB51,$AE$6:$AM$105,CJ$1,FALSE)) -> 0.69
A52: 4101 | C52: 21 | D52: André van Cleef | E52: 1 | F52: 1.46 | G52: 6 | I52: 0.94 | J52: 3 | L52: 0.292 | M52: 6 | O52: 0.87 | P52: 6 | U52: 522 | V52: Jos v. Wijlick | W52: L | X52: 59 | Y52: 32 | Z52: 16 | AA52: 33 | AD52: =IF(V52="","",COUNTIF(D$6:D$105,V52)) -> 1 | AE52: =IF(V52="","",V52) -> Jos v. Wijlick | AF52: =IF($AD52=1,VLOOKUP($AE52,$D$6:$P$105,AF$1,FALSE),0) -> 9 | AG52: =IF($AD52=1,VLOOKUP($AE52,$D$6:$P$105,AG$1,FALSE),0) -> 12 | AH52: =IF($AD52=1,VLOOKUP($AE52,$D$6:$P$105,AH$1,FALSE),0) -> 10 | AI52: =IF($AD52=1,VLOOKUP($AE52,$D$6:$P$105,AI$1,FALSE),0) -> 8 | AJ52: =IF(AF52=0,"",VLOOKUP($AE52,$D$6:$P151,AJ$1,FALSE)) -> 1.97 | AK52: =IF(AG52=0,"",VLOOKUP($AE52,$D$6:$P151,AK$1,FALSE)) -> 1.07 | AL52: =IF(AH52=0,"",VLOOKUP($AE52,$D$6:$P151,AL$1,FALSE)) -> 0.344 | AM52: =IF(AI52=0,"",VLOOKUP($AE52,$D$6:$P151,AM$1,FALSE)) -> 1 | AO52: =IF(AE52="","",IF(COUNT(AJ52:AM52)=4,"",IF(COUNT(AQ52:AS52)>0,"","x"))) | AU52: =IF(COUNT(AQ52:AR52)>0,SUM(AQ52:AR52),IF(AS52="","",ROUND((50*AS52-5)/6,2))) | AV52: =IF(AU52="","",ROUND((12*AU52+10)/30,2)) | AW52: =IF(AU52="","",ROUND((6*AU52+5)/50,3)) | AY52: =IF(AJ52="",AU52,AJ52) -> 1.97 | AZ52: =IF(AK52="",AV52,AK52) -> 1.07 | BA52: =IF(AL52="",AW52,AL52) -> 0.344 | BE52: 512 | BF52: Jos v. Wijlick | BG52: L | BH52: =IF(AY52="","",ROUND(BH$1*AY52,0)) -> 59 | BI52: =IF(AZ52="","",ROUND(BI$1*AZ52,0)) -> 32 | BJ52: =IF(BA52="","",ROUND(BJ$1*BA52,0)) -> 17 | BK52: =IF(AY52="","",ROUND(BK$1*AY52,0)) -> 33 | BL52: 47 | BM52: =IF(BL52>BM$4,"",100*BE52+BL52) -> 51247 | BN52: =IF(BM52="","",SMALL(BM$6:BM$105,BL52)) -> 59150 | BO52: =IF(BN52="","",INT(BN52/100)) -> 591 | BP52: =IF(BN52="","",BN52-100*BO52) -> 50 | BR52: {=IF($BP52="","",IF(INDEX(BC$6:BC$105,$BP52,1)="","",INDEX(BC$6:BC$105,$BP52,1)))} -> De Witte Berg R | BS52: {=IF($BP52="","",IF(INDEX(BD$6:BD$105,$BP52,1)="","",INDEX(BD$6:BD$105,$BP52,1)))} -> 59 | BT52: {=IF($BP52="","",IF(INDEX(BE$6:BE$105,$BP52,1)="","",INDEX(BE$6:BE$105,$BP52,1)))} -> 591 | BU52: {=IF($BP52="","",IF(INDEX(BF$6:BF$105,$BP52,1)="","",INDEX(BF$6:BF$105,$BP52,1)))} -> Frank Weijs | BV52: {=IF($BP52="","",IF(INDEX(BG$6:BG$105,$BP52,1)="","",INDEX(BG$6:BG$105,$BP52,1)))} | BW52: {=IF($BP52="","",IF(INDEX(BH$6:BH$105,$BP52,1)="","",INDEX(BH$6:BH$105,$BP52,1)))} -> 43 | BX52: {=IF($BP52="","",IF(INDEX(BI$6:BI$105,$BP52,1)="","",INDEX(BI$6:BI$105,$BP52,1)))} -> 27 | BY52: {=IF($BP52="","",IF(INDEX(BJ$6:BJ$105,$BP52,1)="","",INDEX(BJ$6:BJ$105,$BP52,1)))} -> 14 | BZ52: {=IF($BP52="","",IF(INDEX(BK$6:BK$105,$BP52,1)="","",INDEX(BK$6:BK$105,$BP52,1)))} -> 24 | CB52: =IF(BU52="","",BU52) -> Frank Weijs | CC52: =IF($CB52="","",VLOOKUP($CB52,$AE$6:$AM$105,CC$1,FALSE)) -> 0 | CD52: =IF($CB52="","",VLOOKUP($CB52,$AE$6:$AM$105,CD$1,FALSE)) | CE52: =IF($CB52="","",VLOOKUP($CB52,$AE$6:$AM$105,CE$1,FALSE)) -> 0 | CF52: =IF($CB52="","",VLOOKUP($CB52,$AE$6:$AM$105,CF$1,FALSE)) | CG52: =IF($CB52="","",VLOOKUP($CB52,$AE$6:$AM$105,CG$1,FALSE)) -> 0 | CH52: =IF($CB52="","",VLOOKUP($CB52,$AE$6:$AM$105,CH$1,FALSE)) | CI52: =IF($CB52="","",VLOOKUP($CB52,$AE$6:$AM$105,CI$1,FALSE)) -> 0 | CJ52: =IF($CB52="","",VLOOKUP($CB52,$AE$6:$AM$105,CJ$1,FALSE))
A53: 4102 | B53: L | C53: 22 | D53: Daniël van Cleef | E53: 1 | F53: 1.9 | G53: 6 | I53: 1.19 | J53: 7 | L53: 0.34 | M53: 4 | O53: 0.81 | P53: 5 | U53: 523 | V53: René Kessels | X53: 37 | Y53: 12 | Z53: 13 | AA53: 21 | AD53: =IF(V53="","",COUNTIF(D$6:D$105,V53)) -> 1 | AE53: =IF(V53="","",V53) -> René Kessels | AF53: =IF($AD53=1,VLOOKUP($AE53,$D$6:$P$105,AF$1,FALSE),0) -> 3 | AG53: =IF($AD53=1,VLOOKUP($AE53,$D$6:$P$105,AG$1,FALSE),0) -> 4 | AH53: =IF($AD53=1,VLOOKUP($AE53,$D$6:$P$105,AH$1,FALSE),0) -> 0 | AI53: =IF($AD53=1,VLOOKUP($AE53,$D$6:$P$105,AI$1,FALSE),0) -> 1 | AJ53: =IF(AF53=0,"",VLOOKUP($AE53,$D$6:$P152,AJ$1,FALSE)) -> 1.24 | AK53: =IF(AG53=0,"",VLOOKUP($AE53,$D$6:$P152,AK$1,FALSE)) -> 0.51 | AL53: =IF(AH53=0,"",VLOOKUP($AE53,$D$6:$P152,AL$1,FALSE)) | AM53: =IF(AI53=0,"",VLOOKUP($AE53,$D$6:$P152,AM$1,FALSE)) -> 1 | AO53: =IF(AE53="","",IF(COUNT(AJ53:AM53)=4,"",IF(COUNT(AQ53:AS53)>0,"","x"))) | AQ53: 1.33 | AU53: =IF(COUNT(AQ53:AR53)>0,SUM(AQ53:AR53),IF(AS53="","",ROUND((50*AS53-5)/6,2))) -> 1.33 | AV53: =IF(AU53="","",ROUND((12*AU53+10)/30,2)) -> 0.87 | AW53: =IF(AU53="","",ROUND((6*AU53+5)/50,3)) -> 0.26 | AY53: =IF(AJ53="",AU53,AJ53) -> 1.24 | AZ53: =IF(AK53="",AV53,AK53) -> 0.51 | BA53: =IF(AL53="",AW53,AL53) -> 0.26 | BE53: 513 | BF53: René Kessels | BH53: =IF(AY53="","",ROUND(BH$1*AY53,0)) -> 37 | BI53: =IF(AZ53="","",ROUND(BI$1*AZ53,0)) -> 15 | BJ53: =IF(BA53="","",ROUND(BJ$1*BA53,0)) -> 13 | BK53: =IF(AY53="","",ROUND(BK$1*AY53,0)) -> 21 | BL53: 48 | BM53: =IF(BL53>BM$4,"",100*BE53+BL53) -> 51348 | BN53: =IF(BM53="","",SMALL(BM$6:BM$105,BL53)) -> 59251 | BO53: =IF(BN53="","",INT(BN53/100)) -> 592 | BP53: =IF(BN53="","",BN53-100*BO53) -> 51 | BR53: {=IF($BP53="","",IF(INDEX(BC$6:BC$105,$BP53,1)="","",INDEX(BC$6:BC$105,$BP53,1)))} | BS53: {=IF($BP53="","",IF(INDEX(BD$6:BD$105,$BP53,1)="","",INDEX(BD$6:BD$105,$BP53,1)))} | BT53: {=IF($BP53="","",IF(INDEX(BE$6:BE$105,$BP53,1)="","",INDEX(BE$6:BE$105,$BP53,1)))} -> 592 | BU53: {=IF($BP53="","",IF(INDEX(BF$6:BF$105,$BP53,1)="","",INDEX(BF$6:BF$105,$BP53,1)))} -> Piet Janssen | BV53: {=IF($BP53="","",IF(INDEX(BG$6:BG$105,$BP53,1)="","",INDEX(BG$6:BG$105,$BP53,1)))} | BW53: {=IF($BP53="","",IF(INDEX(BH$6:BH$105,$BP53,1)="","",INDEX(BH$6:BH$105,$BP53,1)))} -> 32 | BX53: {=IF($BP53="","",IF(INDEX(BI$6:BI$105,$BP53,1)="","",INDEX(BI$6:BI$105,$BP53,1)))} -> 23 | BY53: {=IF($BP53="","",IF(INDEX(BJ$6:BJ$105,$BP53,1)="","",INDEX(BJ$6:BJ$105,$BP53,1)))} -> 11 | BZ53: {=IF($BP53="","",IF(INDEX(BK$6:BK$105,$BP53,1)="","",INDEX(BK$6:BK$105,$BP53,1)))} -> 18 | CB53: =IF(BU53="","",BU53) -> Piet Janssen | CC53: =IF($CB53="","",VLOOKUP($CB53,$AE$6:$AM$105,CC$1,FALSE)) -> 0 | CD53: =IF($CB53="","",VLOOKUP($CB53,$AE$6:$AM$105,CD$1,FALSE)) | CE53: =IF($CB53="","",VLOOKUP($CB53,$AE$6:$AM$105,CE$1,FALSE)) -> 0 | CF53: =IF($CB53="","",VLOOKUP($CB53,$AE$6:$AM$105,CF$1,FALSE)) | CG53: =IF($CB53="","",VLOOKUP($CB53,$AE$6:$AM$105,CG$1,FALSE)) -> 0 | CH53: =IF($CB53="","",VLOOKUP($CB53,$AE$6:$AM$105,CH$1,FALSE)) | CI53: =IF($CB53="","",VLOOKUP($CB53,$AE$6:$AM$105,CI$1,FALSE)) -> 0 | CJ53: =IF($CB53="","",VLOOKUP($CB53,$AE$6:$AM$105,CJ$1,FALSE))
A54: 4103 | C54: 24 | D54: Jan van Cleef | E54: 1 | F54: 1.52 | G54: 7 | I54: 0.9 | J54: 6 | L54: 0.323 | M54: 2 | O54: 0.86 | P54: 9 | U54: 524 | V54: Hay in 't Zandt | X54: 41 | Y54: 26 | Z54: 11 | AA54: 23 | AD54: =IF(V54="","",COUNTIF(D$6:D$105,V54)) -> 1 | AE54: =IF(V54="","",V54) -> Hay in 't Zandt | AF54: =IF($AD54=1,VLOOKUP($AE54,$D$6:$P$105,AF$1,FALSE),0) -> 11 | AG54: =IF($AD54=1,VLOOKUP($AE54,$D$6:$P$105,AG$1,FALSE),0) -> 11 | AH54: =IF($AD54=1,VLOOKUP($AE54,$D$6:$P$105,AH$1,FALSE),0) -> 8 | AI54: =IF($AD54=1,VLOOKUP($AE54,$D$6:$P$105,AI$1,FALSE),0) -> 6 | AJ54: =IF(AF54=0,"",VLOOKUP($AE54,$D$6:$P153,AJ$1,FALSE)) -> 1.37 | AK54: =IF(AG54=0,"",VLOOKUP($AE54,$D$6:$P153,AK$1,FALSE)) -> 0.8 | AL54: =IF(AH54=0,"",VLOOKUP($AE54,$D$6:$P153,AL$1,FALSE)) -> 0.206 | AM54: =IF(AI54=0,"",VLOOKUP($AE54,$D$6:$P153,AM$1,FALSE)) -> 0.69 | AO54: =IF(AE54="","",IF(COUNT(AJ54:AM54)=4,"",IF(COUNT(AQ54:AS54)>0,"","x"))) | AU54: =IF(COUNT(AQ54:AR54)>0,SUM(AQ54:AR54),IF(AS54="","",ROUND((50*AS54-5)/6,2))) | AV54: =IF(AU54="","",ROUND((12*AU54+10)/30,2)) | AW54: =IF(AU54="","",ROUND((6*AU54+5)/50,3)) | AY54: =IF(AJ54="",AU54,AJ54) -> 1.37 | AZ54: =IF(AK54="",AV54,AK54) -> 0.8 | BA54: =IF(AL54="",AW54,AL54) -> 0.206 | BE54: 514 | BF54: Hay in 't Zandt | BH54: =IF(AY54="","",ROUND(BH$1*AY54,0)) -> 41 | BI54: =IF(AZ54="","",ROUND(BI$1*AZ54,0)) -> 24 | BJ54: =IF(BA54="","",ROUND(BJ$1*BA54,0)) -> 10 | BK54: =IF(AY54="","",ROUND(BK$1*AY54,0)) -> 23 | BL54: 49 | BM54: =IF(BL54>BM$4,"",100*BE54+BL54) -> 51449 | BN54: =IF(BM54="","",SMALL(BM$6:BM$105,BL54)) -> 59352 | BO54: =IF(BN54="","",INT(BN54/100)) -> 593 | BP54: =IF(BN54="","",BN54-100*BO54) -> 52 | BR54: {=IF($BP54="","",IF(INDEX(BC$6:BC$105,$BP54,1)="","",INDEX(BC$6:BC$105,$BP54,1)))} | BS54: {=IF($BP54="","",IF(INDEX(BD$6:BD$105,$BP54,1)="","",INDEX(BD$6:BD$105,$BP54,1)))} | BT54: {=IF($BP54="","",IF(INDEX(BE$6:BE$105,$BP54,1)="","",INDEX(BE$6:BE$105,$BP54,1)))} -> 593 | BU54: {=IF($BP54="","",IF(INDEX(BF$6:BF$105,$BP54,1)="","",INDEX(BF$6:BF$105,$BP54,1)))} -> Peter Peters | BV54: {=IF($BP54="","",IF(INDEX(BG$6:BG$105,$BP54,1)="","",INDEX(BG$6:BG$105,$BP54,1)))} | BW54: {=IF($BP54="","",IF(INDEX(BH$6:BH$105,$BP54,1)="","",INDEX(BH$6:BH$105,$BP54,1)))} -> 24 | BX54: {=IF($BP54="","",IF(INDEX(BI$6:BI$105,$BP54,1)="","",INDEX(BI$6:BI$105,$BP54,1)))} -> 20 | BY54: {=IF($BP54="","",IF(INDEX(BJ$6:BJ$105,$BP54,1)="","",INDEX(BJ$6:BJ$105,$BP54,1)))} -> 10 | BZ54: {=IF($BP54="","",IF(INDEX(BK$6:BK$105,$BP54,1)="","",INDEX(BK$6:BK$105,$BP54,1)))} -> 13 | CB54: =IF(BU54="","",BU54) -> Peter Peters | CC54: =IF($CB54="","",VLOOKUP($CB54,$AE$6:$AM$105,CC$1,FALSE)) -> 5 | CD54: =IF($CB54="","",VLOOKUP($CB54,$AE$6:$AM$105,CD$1,FALSE)) -> 0.79 | CE54: =IF($CB54="","",VLOOKUP($CB54,$AE$6:$AM$105,CE$1,FALSE)) -> 0 | CF54: =IF($CB54="","",VLOOKUP($CB54,$AE$6:$AM$105,CF$1,FALSE)) | CG54: =IF($CB54="","",VLOOKUP($CB54,$AE$6:$AM$105,CG$1,FALSE)) -> 0 | CH54: =IF($CB54="","",VLOOKUP($CB54,$AE$6:$AM$105,CH$1,FALSE)) | CI54: =IF($CB54="","",VLOOKUP($CB54,$AE$6:$AM$105,CI$1,FALSE)) -> 0 | CJ54: =IF($CB54="","",VLOOKUP($CB54,$AE$6:$AM$105,CJ$1,FALSE))
A55: 4104 | C55: 14 | D55: Angela Verleysdonk | E55: 1 | F55: 0.99 | G55: 3 | I55: 0.56 | J55: 5 | L55: 0.317 | M55: 4 | O55: 0.88 | P55: 2 | S55: De Witte Berg R | T55: 59 | U55: 591 | V55: Frank Weijs | X55: 49 | Y55: 30 | Z55: 15 | AA55: 28 | AD55: =IF(V55="","",COUNTIF(D$6:D$105,V55)) -> 1 | AE55: =IF(V55="","",V55) -> Frank Weijs | AF55: =IF($AD55=1,VLOOKUP($AE55,$D$6:$P$105,AF$1,FALSE),0) -> 0 | AG55: =IF($AD55=1,VLOOKUP($AE55,$D$6:$P$105,AG$1,FALSE),0) -> 0 | AH55: =IF($AD55=1,VLOOKUP($AE55,$D$6:$P$105,AH$1,FALSE),0) -> 0 | AI55: =IF($AD55=1,VLOOKUP($AE55,$D$6:$P$105,AI$1,FALSE),0) -> 0 | AJ55: =IF(AF55=0,"",VLOOKUP($AE55,$D$6:$P154,AJ$1,FALSE)) | AK55: =IF(AG55=0,"",VLOOKUP($AE55,$D$6:$P154,AK$1,FALSE)) | AL55: =IF(AH55=0,"",VLOOKUP($AE55,$D$6:$P154,AL$1,FALSE)) | AM55: =IF(AI55=0,"",VLOOKUP($AE55,$D$6:$P154,AM$1,FALSE)) | AO55: =IF(AE55="","",IF(COUNT(AJ55:AM55)=4,"",IF(COUNT(AQ55:AS55)>0,"","x"))) | AQ55: 1.44 | AU55: =IF(COUNT(AQ55:AR55)>0,SUM(AQ55:AR55),IF(AS55="","",ROUND((50*AS55-5)/6,2))) -> 1.44 | AV55: =IF(AU55="","",ROUND((12*AU55+10)/30,2)) -> 0.91 | AW55: =IF(AU55="","",ROUND((6*AU55+5)/50,3)) -> 0.273 | AY55: =IF(AJ55="",AU55,AJ55) -> 1.44 | AZ55: =IF(AK55="",AV55,AK55) -> 0.91 | BA55: =IF(AL55="",AW55,AL55) -> 0.273 | BC55: De Witte Berg R | BD55: 59 | BE55: 591 | BF55: Frank Weijs | BH55: =IF(AY55="","",ROUND(BH$1*AY55,0)) -> 43 | BI55: =IF(AZ55="","",ROUND(BI$1*AZ55,0)) -> 27 | BJ55: =IF(BA55="","",ROUND(BJ$1*BA55,0)) -> 14 | BK55: =IF(AY55="","",ROUND(BK$1*AY55,0)) -> 24 | BL55: 50 | BM55: =IF(BL55>BM$4,"",100*BE55+BL55) -> 59150 | BN55: =IF(BM55="","",SMALL(BM$6:BM$105,BL55)) -> 59453 | BO55: =IF(BN55="","",INT(BN55/100)) -> 594 | BP55: =IF(BN55="","",BN55-100*BO55) -> 53 | BR55: {=IF($BP55="","",IF(INDEX(BC$6:BC$105,$BP55,1)="","",INDEX(BC$6:BC$105,$BP55,1)))} | BS55: {=IF($BP55="","",IF(INDEX(BD$6:BD$105,$BP55,1)="","",INDEX(BD$6:BD$105,$BP55,1)))} | BT55: {=IF($BP55="","",IF(INDEX(BE$6:BE$105,$BP55,1)="","",INDEX(BE$6:BE$105,$BP55,1)))} -> 594 | BU55: {=IF($BP55="","",IF(INDEX(BF$6:BF$105,$BP55,1)="","",INDEX(BF$6:BF$105,$BP55,1)))} -> Ron Driessen | BV55: {=IF($BP55="","",IF(INDEX(BG$6:BG$105,$BP55,1)="","",INDEX(BG$6:BG$105,$BP55,1)))} | BW55: {=IF($BP55="","",IF(INDEX(BH$6:BH$105,$BP55,1)="","",INDEX(BH$6:BH$105,$BP55,1)))} -> 26 | BX55: {=IF($BP55="","",IF(INDEX(BI$6:BI$105,$BP55,1)="","",INDEX(BI$6:BI$105,$BP55,1)))} -> 14 | BY55: {=IF($BP55="","",IF(INDEX(BJ$6:BJ$105,$BP55,1)="","",INDEX(BJ$6:BJ$105,$BP55,1)))} -> 11 | BZ55: {=IF($BP55="","",IF(INDEX(BK$6:BK$105,$BP55,1)="","",INDEX(BK$6:BK$105,$BP55,1)))} -> 15 | CB55: =IF(BU55="","",BU55) -> Ron Driessen | CC55: =IF($CB55="","",VLOOKUP($CB55,$AE$6:$AM$105,CC$1,FALSE)) -> 1 | CD55: =IF($CB55="","",VLOOKUP($CB55,$AE$6:$AM$105,CD$1,FALSE)) -> 0.88 | CE55: =IF($CB55="","",VLOOKUP($CB55,$AE$6:$AM$105,CE$1,FALSE)) -> 1 | CF55: =IF($CB55="","",VLOOKUP($CB55,$AE$6:$AM$105,CF$1,FALSE)) -> 0.47 | CG55: =IF($CB55="","",VLOOKUP($CB55,$AE$6:$AM$105,CG$1,FALSE)) -> 0 | CH55: =IF($CB55="","",VLOOKUP($CB55,$AE$6:$AM$105,CH$1,FALSE)) | CI55: =IF($CB55="","",VLOOKUP($CB55,$AE$6:$AM$105,CI$1,FALSE)) -> 1 | CJ55: =IF($CB55="","",VLOOKUP($CB55,$AE$6:$AM$105,CJ$1,FALSE)) -> 0.67
A56: 4902 | C56: 0 | D56: Jules Frits | E56: 1 | F56: 0 | G56: 0 | I56: 0 | J56: 0 | L56: 0 | M56: 0 | O56: 0 | P56: 0 | U56: 592 | V56: Piet Janssen | X56: 32 | Y56: 23 | Z56: 11 | AA56: 18 | AD56: =IF(V56="","",COUNTIF(D$6:D$105,V56)) -> 1 | AE56: =IF(V56="","",V56) -> Piet Janssen | AF56: =IF($AD56=1,VLOOKUP($AE56,$D$6:$P$105,AF$1,FALSE),0) -> 0 | AG56: =IF($AD56=1,VLOOKUP($AE56,$D$6:$P$105,AG$1,FALSE),0) -> 0 | AH56: =IF($AD56=1,VLOOKUP($AE56,$D$6:$P$105,AH$1,FALSE),0) -> 0 | AI56: =IF($AD56=1,VLOOKUP($AE56,$D$6:$P$105,AI$1,FALSE),0) -> 0 | AJ56: =IF(AF56=0,"",VLOOKUP($AE56,$D$6:$P155,AJ$1,FALSE)) | AK56: =IF(AG56=0,"",VLOOKUP($AE56,$D$6:$P155,AK$1,FALSE)) | AL56: =IF(AH56=0,"",VLOOKUP($AE56,$D$6:$P155,AL$1,FALSE)) | AM56: =IF(AI56=0,"",VLOOKUP($AE56,$D$6:$P155,AM$1,FALSE)) | AO56: =IF(AE56="","",IF(COUNT(AJ56:AM56)=4,"",IF(COUNT(AQ56:AS56)>0,"","x"))) | AQ56: 1.05 | AU56: =IF(COUNT(AQ56:AR56)>0,SUM(AQ56:AR56),IF(AS56="","",ROUND((50*AS56-5)/6,2))) -> 1.05 | AV56: =IF(AU56="","",ROUND((12*AU56+10)/30,2)) -> 0.75 | AW56: =IF(AU56="","",ROUND((6*AU56+5)/50,3)) -> 0.226 | AY56: =IF(AJ56="",AU56,AJ56) -> 1.05 | AZ56: =IF(AK56="",AV56,AK56) -> 0.75 | BA56: =IF(AL56="",AW56,AL56) -> 0.226 | BE56: 592 | BF56: Piet Janssen | BH56: =IF(AY56="","",ROUND(BH$1*AY56,0)) -> 32 | BI56: =IF(AZ56="","",ROUND(BI$1*AZ56,0)) -> 23 | BJ56: =IF(BA56="","",ROUND(BJ$1*BA56,0)) -> 11 | BK56: =IF(AY56="","",ROUND(BK$1*AY56,0)) -> 18 | BL56: 51 | BM56: =IF(BL56>BM$4,"",100*BE56+BL56) -> 59251 | BN56: =IF(BM56="","",SMALL(BM$6:BM$105,BL56)) -> 59554 | BO56: =IF(BN56="","",INT(BN56/100)) -> 595 | BP56: =IF(BN56="","",BN56-100*BO56) -> 54 | BR56: {=IF($BP56="","",IF(INDEX(BC$6:BC$105,$BP56,1)="","",INDEX(BC$6:BC$105,$BP56,1)))} | BS56: {=IF($BP56="","",IF(INDEX(BD$6:BD$105,$BP56,1)="","",INDEX(BD$6:BD$105,$BP56,1)))} | BT56: {=IF($BP56="","",IF(INDEX(BE$6:BE$105,$BP56,1)="","",INDEX(BE$6:BE$105,$BP56,1)))} -> 595 | BU56: {=IF($BP56="","",IF(INDEX(BF$6:BF$105,$BP56,1)="","",INDEX(BF$6:BF$105,$BP56,1)))} -> Ron Heijnen | BV56: {=IF($BP56="","",IF(INDEX(BG$6:BG$105,$BP56,1)="","",INDEX(BG$6:BG$105,$BP56,1)))} | BW56: {=IF($BP56="","",IF(INDEX(BH$6:BH$105,$BP56,1)="","",INDEX(BH$6:BH$105,$BP56,1)))} -> 28 | BX56: {=IF($BP56="","",IF(INDEX(BI$6:BI$105,$BP56,1)="","",INDEX(BI$6:BI$105,$BP56,1)))} -> 19 | BY56: {=IF($BP56="","",IF(INDEX(BJ$6:BJ$105,$BP56,1)="","",INDEX(BJ$6:BJ$105,$BP56,1)))} -> 7 | BZ56: {=IF($BP56="","",IF(INDEX(BK$6:BK$105,$BP56,1)="","",INDEX(BK$6:BK$105,$BP56,1)))} -> 16 | CB56: =IF(BU56="","",BU56) -> Ron Heijnen | CC56: =IF($CB56="","",VLOOKUP($CB56,$AE$6:$AM$105,CC$1,FALSE)) -> 13 | CD56: =IF($CB56="","",VLOOKUP($CB56,$AE$6:$AM$105,CD$1,FALSE)) -> 0.93 | CE56: =IF($CB56="","",VLOOKUP($CB56,$AE$6:$AM$105,CE$1,FALSE)) -> 11 | CF56: =IF($CB56="","",VLOOKUP($CB56,$AE$6:$AM$105,CF$1,FALSE)) -> 0.63 | CG56: =IF($CB56="","",VLOOKUP($CB56,$AE$6:$AM$105,CG$1,FALSE)) -> 4 | CH56: =IF($CB56="","",VLOOKUP($CB56,$AE$6:$AM$105,CH$1,FALSE)) -> 0.146 | CI56: =IF($CB56="","",VLOOKUP($CB56,$AE$6:$AM$105,CI$1,FALSE)) -> 5 | CJ56: =IF($CB56="","",VLOOKUP($CB56,$AE$6:$AM$105,CJ$1,FALSE)) -> 0.45
A57: 8001 | C57: 9 | D57: Ben v. Aken | E57: 1 | F57: 2.52 | G57: 3 | I57: 1 | J57: 3 | L57: 0.387 | M57: 2 | O57: 0.85 | P57: 1 | U57: 593 | V57: Peter Peters | X57: 26 | Y57: 22 | Z57: 11 | AA57: 14 | AD57: =IF(V57="","",COUNTIF(D$6:D$105,V57)) -> 1 | AE57: =IF(V57="","",V57) -> Peter Peters | AF57: =IF($AD57=1,VLOOKUP($AE57,$D$6:$P$105,AF$1,FALSE),0) -> 5 | AG57: =IF($AD57=1,VLOOKUP($AE57,$D$6:$P$105,AG$1,FALSE),0) -> 0 | AH57: =IF($AD57=1,VLOOKUP($AE57,$D$6:$P$105,AH$1,FALSE),0) -> 0 | AI57: =IF($AD57=1,VLOOKUP($AE57,$D$6:$P$105,AI$1,FALSE),0) -> 0 | AJ57: =IF(AF57=0,"",VLOOKUP($AE57,$D$6:$P156,AJ$1,FALSE)) -> 0.79 | AK57: =IF(AG57=0,"",VLOOKUP($AE57,$D$6:$P156,AK$1,FALSE)) | AL57: =IF(AH57=0,"",VLOOKUP($AE57,$D$6:$P156,AL$1,FALSE)) | AM57: =IF(AI57=0,"",VLOOKUP($AE57,$D$6:$P156,AM$1,FALSE)) | AO57: =IF(AE57="","",IF(COUNT(AJ57:AM57)=4,"",IF(COUNT(AQ57:AS57)>0,"","x"))) | AQ57: 0.84 | AU57: =IF(COUNT(AQ57:AR57)>0,SUM(AQ57:AR57),IF(AS57="","",ROUND((50*AS57-5)/6,2))) -> 0.84 | AV57: =IF(AU57="","",ROUND((12*AU57+10)/30,2)) -> 0.67 | AW57: =IF(AU57="","",ROUND((6*AU57+5)/50,3)) -> 0.201 | AY57: =IF(AJ57="",AU57,AJ57) -> 0.79 | AZ57: =IF(AK57="",AV57,AK57) -> 0.67 | BA57: =IF(AL57="",AW57,AL57) -> 0.201 | BE57: 593 | BF57: Peter Peters | BH57: =IF(AY57="","",ROUND(BH$1*AY57,0)) -> 24 | BI57: =IF(AZ57="","",ROUND(BI$1*AZ57,0)) -> 20 | BJ57: =IF(BA57="","",ROUND(BJ$1*BA57,0)) -> 10 | BK57: =IF(AY57="","",ROUND(BK$1*AY57,0)) -> 13 | BL57: 52 | BM57: =IF(BL57>BM$4,"",100*BE57+BL57) -> 59352 | BN57: =IF(BM57="","",SMALL(BM$6:BM$105,BL57)) -> 59656 | BO57: =IF(BN57="","",INT(BN57/100)) -> 596 | BP57: =IF(BN57="","",BN57-100*BO57) -> 56 | BR57: {=IF($BP57="","",IF(INDEX(BC$6:BC$105,$BP57,1)="","",INDEX(BC$6:BC$105,$BP57,1)))} | BS57: {=IF($BP57="","",IF(INDEX(BD$6:BD$105,$BP57,1)="","",INDEX(BD$6:BD$105,$BP57,1)))} | BT57: {=IF($BP57="","",IF(INDEX(BE$6:BE$105,$BP57,1)="","",INDEX(BE$6:BE$105,$BP57,1)))} -> 596 | BU57: {=IF($BP57="","",IF(INDEX(BF$6:BF$105,$BP57,1)="","",INDEX(BF$6:BF$105,$BP57,1)))} -> Martien Hendrick | BV57: {=IF($BP57="","",IF(INDEX(BG$6:BG$105,$BP57,1)="","",INDEX(BG$6:BG$105,$BP57,1)))} | BW57: {=IF($BP57="","",IF(INDEX(BH$6:BH$105,$BP57,1)="","",INDEX(BH$6:BH$105,$BP57,1)))} -> 25 | BX57: {=IF($BP57="","",IF(INDEX(BI$6:BI$105,$BP57,1)="","",INDEX(BI$6:BI$105,$BP57,1)))} -> 20 | BY57: {=IF($BP57="","",IF(INDEX(BJ$6:BJ$105,$BP57,1)="","",INDEX(BJ$6:BJ$105,$BP57,1)))} -> 10 | BZ57: {=IF($BP57="","",IF(INDEX(BK$6:BK$105,$BP57,1)="","",INDEX(BK$6:BK$105,$BP57,1)))} -> 14 | CB57: =IF(BU57="","",BU57) -> Martien Hendrick | CC57: =IF($CB57="","",VLOOKUP($CB57,$AE$6:$AM$105,CC$1,FALSE)) -> 0 | CD57: =IF($CB57="","",VLOOKUP($CB57,$AE$6:$AM$105,CD$1,FALSE)) | CE57: =IF($CB57="","",VLOOKUP($CB57,$AE$6:$AM$105,CE$1,FALSE)) -> 0 | CF57: =IF($CB57="","",VLOOKUP($CB57,$AE$6:$AM$105,CF$1,FALSE)) | CG57: =IF($CB57="","",VLOOKUP($CB57,$AE$6:$AM$105,CG$1,FALSE)) -> 0 | CH57: =IF($CB57="","",VLOOKUP($CB57,$AE$6:$AM$105,CH$1,FALSE)) | CI57: =IF($CB57="","",VLOOKUP($CB57,$AE$6:$AM$105,CI$1,FALSE)) -> 0 | CJ57: =IF($CB57="","",VLOOKUP($CB57,$AE$6:$AM$105,CJ$1,FALSE))
A58: 8002 | C58: 9 | D58: Toon Frencken | E58: 1 | F58: 3.05 | G58: 2 | I58: 1.19 | J58: 2 | L58: 0.345 | M58: 3 | O58: 1.19 | P58: 2 | U58: 594 | V58: Ron Driessen | X58: 26 | Y58: 22 | Z58: 11 | AA58: 15 | AD58: =IF(V58="","",COUNTIF(D$6:D$105,V58)) -> 1 | AE58: =IF(V58="","",V58) -> Ron Driessen | AF58: =IF($AD58=1,VLOOKUP($AE58,$D$6:$P$105,AF$1,FALSE),0) -> 1 | AG58: =IF($AD58=1,VLOOKUP($AE58,$D$6:$P$105,AG$1,FALSE),0) -> 1 | AH58: =IF($AD58=1,VLOOKUP($AE58,$D$6:$P$105,AH$1,FALSE),0) -> 0 | AI58: =IF($AD58=1,VLOOKUP($AE58,$D$6:$P$105,AI$1,FALSE),0) -> 1 | AJ58: =IF(AF58=0,"",VLOOKUP($AE58,$D$6:$P157,AJ$1,FALSE)) -> 0.88 | AK58: =IF(AG58=0,"",VLOOKUP($AE58,$D$6:$P157,AK$1,FALSE)) -> 0.47 | AL58: =IF(AH58=0,"",VLOOKUP($AE58,$D$6:$P157,AL$1,FALSE)) | AM58: =IF(AI58=0,"",VLOOKUP($AE58,$D$6:$P157,AM$1,FALSE)) -> 0.67 | AO58: =IF(AE58="","",IF(COUNT(AJ58:AM58)=4,"",IF(COUNT(AQ58:AS58)>0,"","x"))) | AQ58: 0.93 | AU58: =IF(COUNT(AQ58:AR58)>0,SUM(AQ58:AR58),IF(AS58="","",ROUND((50*AS58-5)/6,2))) -> 0.93 | AV58: =IF(AU58="","",ROUND((12*AU58+10)/30,2)) -> 0.71 | AW58: =IF(AU58="","",ROUND((6*AU58+5)/50,3)) -> 0.212 | AY58: =IF(AJ58="",AU58,AJ58) -> 0.88 | AZ58: =IF(AK58="",AV58,AK58) -> 0.47 | BA58: =IF(AL58="",AW58,AL58) -> 0.212 | BE58: 594 | BF58: Ron Driessen | BH58: =IF(AY58="","",ROUND(BH$1*AY58,0)) -> 26 | BI58: =IF(AZ58="","",ROUND(BI$1*AZ58,0)) -> 14 | BJ58: =IF(BA58="","",ROUND(BJ$1*BA58,0)) -> 11 | BK58: =IF(AY58="","",ROUND(BK$1*AY58,0)) -> 15 | BL58: 53 | BM58: =IF(BL58>BM$4,"",100*BE58+BL58) -> 59453 | BN58: =IF(BM58="","",SMALL(BM$6:BM$105,BL58)) -> 59757 | BO58: =IF(BN58="","",INT(BN58/100)) -> 597 | BP58: =IF(BN58="","",BN58-100*BO58) -> 57 | BR58: {=IF($BP58="","",IF(INDEX(BC$6:BC$105,$BP58,1)="","",INDEX(BC$6:BC$105,$BP58,1)))} | BS58: {=IF($BP58="","",IF(INDEX(BD$6:BD$105,$BP58,1)="","",INDEX(BD$6:BD$105,$BP58,1)))} | BT58: {=IF($BP58="","",IF(INDEX(BE$6:BE$105,$BP58,1)="","",INDEX(BE$6:BE$105,$BP58,1)))} -> 597 | BU58: {=IF($BP58="","",IF(INDEX(BF$6:BF$105,$BP58,1)="","",INDEX(BF$6:BF$105,$BP58,1)))} -> René Huijs | BV58: {=IF($BP58="","",IF(INDEX(BG$6:BG$105,$BP58,1)="","",INDEX(BG$6:BG$105,$BP58,1)))} | BW58: {=IF($BP58="","",IF(INDEX(BH$6:BH$105,$BP58,1)="","",INDEX(BH$6:BH$105,$BP58,1)))} -> 23 | BX58: {=IF($BP58="","",IF(INDEX(BI$6:BI$105,$BP58,1)="","",INDEX(BI$6:BI$105,$BP58,1)))} -> 20 | BY58: {=IF($BP58="","",IF(INDEX(BJ$6:BJ$105,$BP58,1)="","",INDEX(BJ$6:BJ$105,$BP58,1)))} -> 10 | BZ58: {=IF($BP58="","",IF(INDEX(BK$6:BK$105,$BP58,1)="","",INDEX(BK$6:BK$105,$BP58,1)))} -> 13 | CB58: =IF(BU58="","",BU58) -> René Huijs | CC58: =IF($CB58="","",VLOOKUP($CB58,$AE$6:$AM$105,CC$1,FALSE)) -> 0 | CD58: =IF($CB58="","",VLOOKUP($CB58,$AE$6:$AM$105,CD$1,FALSE)) | CE58: =IF($CB58="","",VLOOKUP($CB58,$AE$6:$AM$105,CE$1,FALSE)) -> 0 | CF58: =IF($CB58="","",VLOOKUP($CB58,$AE$6:$AM$105,CF$1,FALSE)) | CG58: =IF($CB58="","",VLOOKUP($CB58,$AE$6:$AM$105,CG$1,FALSE)) -> 0 | CH58: =IF($CB58="","",VLOOKUP($CB58,$AE$6:$AM$105,CH$1,FALSE)) | CI58: =IF($CB58="","",VLOOKUP($CB58,$AE$6:$AM$105,CI$1,FALSE)) -> 0 | CJ58: =IF($CB58="","",VLOOKUP($CB58,$AE$6:$AM$105,CJ$1,FALSE))
A59: 8003 | C59: 7 | D59: Daniël Jacobs | E59: 1 | F59: 1.86 | G59: 2 | I59: 1.15 | J59: 2 | L59: 0.261 | M59: 2 | O59: 1.67 | P59: 1 | U59: 594 | V59: Ron Heijnen | X59: 29 | Y59: 19 | Z59: 7 | AA59: 16 | AD59: =IF(V59="","",COUNTIF(D$6:D$105,V59)) -> 1 | AE59: =IF(V59="","",V59) -> Ron Heijnen | AF59: =IF($AD59=1,VLOOKUP($AE59,$D$6:$P$105,AF$1,FALSE),0) -> 13 | AG59: =IF($AD59=1,VLOOKUP($AE59,$D$6:$P$105,AG$1,FALSE),0) -> 11 | AH59: =IF($AD59=1,VLOOKUP($AE59,$D$6:$P$105,AH$1,FALSE),0) -> 4 | AI59: =IF($AD59=1,VLOOKUP($AE59,$D$6:$P$105,AI$1,FALSE),0) -> 5 | AJ59: =IF(AF59=0,"",VLOOKUP($AE59,$D$6:$P158,AJ$1,FALSE)) -> 0.93 | AK59: =IF(AG59=0,"",VLOOKUP($AE59,$D$6:$P158,AK$1,FALSE)) -> 0.63 | AL59: =IF(AH59=0,"",VLOOKUP($AE59,$D$6:$P158,AL$1,FALSE)) -> 0.146 | AM59: =IF(AI59=0,"",VLOOKUP($AE59,$D$6:$P158,AM$1,FALSE)) -> 0.45 | AO59: =IF(AE59="","",IF(COUNT(AJ59:AM59)=4,"",IF(COUNT(AQ59:AS59)>0,"","x"))) | AU59: =IF(COUNT(AQ59:AR59)>0,SUM(AQ59:AR59),IF(AS59="","",ROUND((50*AS59-5)/6,2))) | AV59: =IF(AU59="","",ROUND((12*AU59+10)/30,2)) | AW59: =IF(AU59="","",ROUND((6*AU59+5)/50,3)) | AY59: =IF(AJ59="",AU59,AJ59) -> 0.93 | AZ59: =IF(AK59="",AV59,AK59) -> 0.63 | BA59: =IF(AL59="",AW59,AL59) -> 0.146 | BE59: 595 | BF59: Ron Heijnen | BH59: =IF(AY59="","",ROUND(BH$1*AY59,0)) -> 28 | BI59: =IF(AZ59="","",ROUND(BI$1*AZ59,0)) -> 19 | BJ59: =IF(BA59="","",ROUND(BJ$1*BA59,0)) -> 7 | BK59: =IF(AY59="","",ROUND(BK$1*AY59,0)) -> 16 | BL59: 54 | BM59: =IF(BL59>BM$4,"",100*BE59+BL59) -> 59554 | BN59: =IF(BM59="","",SMALL(BM$6:BM$105,BL59)) -> 59858 | BO59: =IF(BN59="","",INT(BN59/100)) -> 598 | BP59: =IF(BN59="","",BN59-100*BO59) -> 58 | BR59: {=IF($BP59="","",IF(INDEX(BC$6:BC$105,$BP59,1)="","",INDEX(BC$6:BC$105,$BP59,1)))} | BS59: {=IF($BP59="","",IF(INDEX(BD$6:BD$105,$BP59,1)="","",INDEX(BD$6:BD$105,$BP59,1)))} | BT59: {=IF($BP59="","",IF(INDEX(BE$6:BE$105,$BP59,1)="","",INDEX(BE$6:BE$105,$BP59,1)))} -> 598 | BU59: {=IF($BP59="","",IF(INDEX(BF$6:BF$105,$BP59,1)="","",INDEX(BF$6:BF$105,$BP59,1)))} -> Ruud Kusters | BV59: {=IF($BP59="","",IF(INDEX(BG$6:BG$105,$BP59,1)="","",INDEX(BG$6:BG$105,$BP59,1)))} | BW59: {=IF($BP59="","",IF(INDEX(BH$6:BH$105,$BP59,1)="","",INDEX(BH$6:BH$105,$BP59,1)))} -> 16 | BX59: {=IF($BP59="","",IF(INDEX(BI$6:BI$105,$BP59,1)="","",INDEX(BI$6:BI$105,$BP59,1)))} -> 16 | BY59: {=IF($BP59="","",IF(INDEX(BJ$6:BJ$105,$BP59,1)="","",INDEX(BJ$6:BJ$105,$BP59,1)))} -> 8 | BZ59: {=IF($BP59="","",IF(INDEX(BK$6:BK$105,$BP59,1)="","",INDEX(BK$6:BK$105,$BP59,1)))} -> 9 | CB59: =IF(BU59="","",BU59) -> Ruud Kusters | CC59: =IF($CB59="","",VLOOKUP($CB59,$AE$6:$AM$105,CC$1,FALSE)) -> 0 | CD59: =IF($CB59="","",VLOOKUP($CB59,$AE$6:$AM$105,CD$1,FALSE)) | CE59: =IF($CB59="","",VLOOKUP($CB59,$AE$6:$AM$105,CE$1,FALSE)) -> 0 | CF59: =IF($CB59="","",VLOOKUP($CB59,$AE$6:$AM$105,CF$1,FALSE)) | CG59: =IF($CB59="","",VLOOKUP($CB59,$AE$6:$AM$105,CG$1,FALSE)) -> 0 | CH59: =IF($CB59="","",VLOOKUP($CB59,$AE$6:$AM$105,CH$1,FALSE)) | CI59: =IF($CB59="","",VLOOKUP($CB59,$AE$6:$AM$105,CI$1,FALSE)) -> 0 | CJ59: =IF($CB59="","",VLOOKUP($CB59,$AE$6:$AM$105,CJ$1,FALSE))
A60: 8004 | C60: 7 | D60: Maikel Steegh | E60: 1 | F60: 1.17 | G60: 1 | I60: 0.92 | J60: 1 | L60: 0.19 | M60: 1 | O60: 0.71 | P60: 4 | V60: Ron Vermazeren | AD60: =IF(V60="","",COUNTIF(D$6:D$105,V60)) -> 1 | AE60: =IF(V60="","",V60) -> Ron Vermazeren | AF60: =IF($AD60=1,VLOOKUP($AE60,$D$6:$P$105,AF$1,FALSE),0) -> 0 | AG60: =IF($AD60=1,VLOOKUP($AE60,$D$6:$P$105,AG$1,FALSE),0) -> 1 | AH60: =IF($AD60=1,VLOOKUP($AE60,$D$6:$P$105,AH$1,FALSE),0) -> 1 | AI60: =IF($AD60=1,VLOOKUP($AE60,$D$6:$P$105,AI$1,FALSE),0) -> 0 | AJ60: =IF(AF60=0,"",VLOOKUP($AE60,$D$6:$P159,AJ$1,FALSE)) | AK60: =IF(AG60=0,"",VLOOKUP($AE60,$D$6:$P159,AK$1,FALSE)) -> 0.94 | AL60: =IF(AH60=0,"",VLOOKUP($AE60,$D$6:$P159,AL$1,FALSE)) -> 0.25 | AM60: =IF(AI60=0,"",VLOOKUP($AE60,$D$6:$P159,AM$1,FALSE)) | AO60: =IF(AE60="","",IF(COUNT(AJ60:AM60)=4,"",IF(COUNT(AQ60:AS60)>0,"","x"))) | AS60: 0.545 | AU60: =IF(COUNT(AQ60:AR60)>0,SUM(AQ60:AR60),IF(AS60="","",ROUND((50*AS60-5)/6,2))) -> 3.71 | AV60: =IF(AU60="","",ROUND((12*AU60+10)/30,2)) -> 1.82 | AW60: =IF(AU60="","",ROUND((6*AU60+5)/50,3)) -> 0.545 | AY60: =IF(AJ60="",AU60,AJ60) -> 3.71 | AZ60: =IF(AK60="",AV60,AK60) -> 0.94 | BA60: =IF(AL60="",AW60,AL60) -> 0.25 | BE60: 296 | BF60: Ron Vermazeren | BH60: =IF(AY60="","",ROUND(BH$1*AY60,0)) -> 111 | BI60: =IF(AZ60="","",ROUND(BI$1*AZ60,0)) -> 28 | BJ60: =IF(BA60="","",ROUND(BJ$1*BA60,0)) -> 13 | BK60: =IF(AY60="","",ROUND(BK$1*AY60,0)) -> 63 | BL60: 55 | BM60: =IF(BL60>BM$4,"",100*BE60+BL60) -> 29655 | BN60: =IF(BM60="","",SMALL(BM$6:BM$105,BL60)) -> 59959 | BO60: =IF(BN60="","",INT(BN60/100)) -> 599 | BP60: =IF(BN60="","",BN60-100*BO60) -> 59 | BR60: {=IF($BP60="","",IF(INDEX(BC$6:BC$105,$BP60,1)="","",INDEX(BC$6:BC$105,$BP60,1)))} | BS60: {=IF($BP60="","",IF(INDEX(BD$6:BD$105,$BP60,1)="","",INDEX(BD$6:BD$105,$BP60,1)))} | BT60: {=IF($BP60="","",IF(INDEX(BE$6:BE$105,$BP60,1)="","",INDEX(BE$6:BE$105,$BP60,1)))} -> 599 | BU60: {=IF($BP60="","",IF(INDEX(BF$6:BF$105,$BP60,1)="","",INDEX(BF$6:BF$105,$BP60,1)))} -> Hans Martens | BV60: {=IF($BP60="","",IF(INDEX(BG$6:BG$105,$BP60,1)="","",INDEX(BG$6:BG$105,$BP60,1)))} | BW60: {=IF($BP60="","",IF(INDEX(BH$6:BH$105,$BP60,1)="","",INDEX(BH$6:BH$105,$BP60,1)))} -> 30 | BX60: {=IF($BP60="","",IF(INDEX(BI$6:BI$105,$BP60,1)="","",INDEX(BI$6:BI$105,$BP60,1)))} -> 22 | BY60: {=IF($BP60="","",IF(INDEX(BJ$6:BJ$105,$BP60,1)="","",INDEX(BJ$6:BJ$105,$BP60,1)))} -> 11 | BZ60: {=IF($BP60="","",IF(INDEX(BK$6:BK$105,$BP60,1)="","",INDEX(BK$6:BK$105,$BP60,1)))} -> 17 | CB60: =IF(BU60="","",BU60) -> Hans Martens | CC60: =IF($CB60="","",VLOOKUP($CB60,$AE$6:$AM$105,CC$1,FALSE)) -> 0 | CD60: =IF($CB60="","",VLOOKUP($CB60,$AE$6:$AM$105,CD$1,FALSE)) | CE60: =IF($CB60="","",VLOOKUP($CB60,$AE$6:$AM$105,CE$1,FALSE)) -> 0 | CF60: =IF($CB60="","",VLOOKUP($CB60,$AE$6:$AM$105,CF$1,FALSE)) | CG60: =IF($CB60="","",VLOOKUP($CB60,$AE$6:$AM$105,CG$1,FALSE)) -> 0 | CH60: =IF($CB60="","",VLOOKUP($CB60,$AE$6:$AM$105,CH$1,FALSE)) | CI60: =IF($CB60="","",VLOOKUP($CB60,$AE$6:$AM$105,CI$1,FALSE)) -> 0 | CJ60: =IF($CB60="","",VLOOKUP($CB60,$AE$6:$AM$105,CJ$1,FALSE))
A61: 8005 | C61: 0 | D61: Berend Driessen | E61: 1 | F61: 0 | G61: 0 | I61: 0 | J61: 0 | L61: 0 | M61: 0 | O61: 0 | P61: 0 | V61: Martien Hendrick | AD61: =IF(V61="","",COUNTIF(D$6:D$105,V61)) -> 0 | AE61: =IF(V61="","",V61) -> Martien Hendrick | AF61: =IF($AD61=1,VLOOKUP($AE61,$D$6:$P$105,AF$1,FALSE),0) -> 0 | AG61: =IF($AD61=1,VLOOKUP($AE61,$D$6:$P$105,AG$1,FALSE),0) -> 0 | AH61: =IF($AD61=1,VLOOKUP($AE61,$D$6:$P$105,AH$1,FALSE),0) -> 0 | AI61: =IF($AD61=1,VLOOKUP($AE61,$D$6:$P$105,AI$1,FALSE),0) -> 0 | AJ61: =IF(AF61=0,"",VLOOKUP($AE61,$D$6:$P160,AJ$1,FALSE)) | AK61: =IF(AG61=0,"",VLOOKUP($AE61,$D$6:$P160,AK$1,FALSE)) | AL61: =IF(AH61=0,"",VLOOKUP($AE61,$D$6:$P160,AL$1,FALSE)) | AM61: =IF(AI61=0,"",VLOOKUP($AE61,$D$6:$P160,AM$1,FALSE)) | AO61: =IF(AE61="","",IF(COUNT(AJ61:AM61)=4,"",IF(COUNT(AQ61:AS61)>0,"","x"))) | AQ61: 0.84 | AU61: =IF(COUNT(AQ61:AR61)>0,SUM(AQ61:AR61),IF(AS61="","",ROUND((50*AS61-5)/6,2))) -> 0.84 | AV61: =IF(AU61="","",ROUND((12*AU61+10)/30,2)) -> 0.67 | AW61: =IF(AU61="","",ROUND((6*AU61+5)/50,3)) -> 0.201 | AY61: =IF(AJ61="",AU61,AJ61) -> 0.84 | AZ61: =IF(AK61="",AV61,AK61) -> 0.67 | BA61: =IF(AL61="",AW61,AL61) -> 0.201 | BE61: 596 | BF61: Martien Hendrick | BH61: =IF(AY61="","",ROUND(BH$1*AY61,0)) -> 25 | BI61: =IF(AZ61="","",ROUND(BI$1*AZ61,0)) -> 20 | BJ61: =IF(BA61="","",ROUND(BJ$1*BA61,0)) -> 10 | BK61: =IF(AY61="","",ROUND(BK$1*AY61,0)) -> 14 | BL61: 56 | BM61: =IF(BL61>BM$4,"",100*BE61+BL61) -> 59656 | BN61: =IF(BM61="","",SMALL(BM$6:BM$105,BL61)) -> 60142 | BO61: =IF(BN61="","",INT(BN61/100)) -> 601 | BP61: =IF(BN61="","",BN61-100*BO61) -> 42 | BR61: {=IF($BP61="","",IF(INDEX(BC$6:BC$105,$BP61,1)="","",INDEX(BC$6:BC$105,$BP61,1)))} | BS61: {=IF($BP61="","",IF(INDEX(BD$6:BD$105,$BP61,1)="","",INDEX(BD$6:BD$105,$BP61,1)))} | BT61: {=IF($BP61="","",IF(INDEX(BE$6:BE$105,$BP61,1)="","",INDEX(BE$6:BE$105,$BP61,1)))} -> 601 | BU61: {=IF($BP61="","",IF(INDEX(BF$6:BF$105,$BP61,1)="","",INDEX(BF$6:BF$105,$BP61,1)))} -> Leo Pingen | BV61: {=IF($BP61="","",IF(INDEX(BG$6:BG$105,$BP61,1)="","",INDEX(BG$6:BG$105,$BP61,1)))} -> L | BW61: {=IF($BP61="","",IF(INDEX(BH$6:BH$105,$BP61,1)="","",INDEX(BH$6:BH$105,$BP61,1)))} -> 56 | BX61: {=IF($BP61="","",IF(INDEX(BI$6:BI$105,$BP61,1)="","",INDEX(BI$6:BI$105,$BP61,1)))} -> 27 | BY61: {=IF($BP61="","",IF(INDEX(BJ$6:BJ$105,$BP61,1)="","",INDEX(BJ$6:BJ$105,$BP61,1)))} -> 12 | BZ61: {=IF($BP61="","",IF(INDEX(BK$6:BK$105,$BP61,1)="","",INDEX(BK$6:BK$105,$BP61,1)))} -> 31 | CB61: =IF(BU61="","",BU61) -> Leo Pingen | CC61: =IF($CB61="","",VLOOKUP($CB61,$AE$6:$AM$105,CC$1,FALSE)) -> 13 | CD61: =IF($CB61="","",VLOOKUP($CB61,$AE$6:$AM$105,CD$1,FALSE)) -> 1.85 | CE61: =IF($CB61="","",VLOOKUP($CB61,$AE$6:$AM$105,CE$1,FALSE)) -> 18 | CF61: =IF($CB61="","",VLOOKUP($CB61,$AE$6:$AM$105,CF$1,FALSE)) -> 0.9 | CG61: =IF($CB61="","",VLOOKUP($CB61,$AE$6:$AM$105,CG$1,FALSE)) -> 9 | CH61: =IF($CB61="","",VLOOKUP($CB61,$AE$6:$AM$105,CH$1,FALSE)) -> 0.24 | CI61: =IF($CB61="","",VLOOKUP($CB61,$AE$6:$AM$105,CI$1,FALSE)) -> 12 | CJ61: =IF($CB61="","",VLOOKUP($CB61,$AE$6:$AM$105,CJ$1,FALSE)) -> 0.86
A62: 8006 | C62: 6 | D62: John Jacobs | E62: 1 | F62: 0 | G62: 0 | I62: 1.93 | J62: 1 | L62: 0.345 | M62: 5 | O62: 0 | P62: 0 | V62: René Huijs | AD62: =IF(V62="","",COUNTIF(D$6:D$105,V62)) -> 1 | AE62: =IF(V62="","",V62) -> René Huijs | AF62: =IF($AD62=1,VLOOKUP($AE62,$D$6:$P$105,AF$1,FALSE),0) -> 0 | AG62: =IF($AD62=1,VLOOKUP($AE62,$D$6:$P$105,AG$1,FALSE),0) -> 0 | AH62: =IF($AD62=1,VLOOKUP($AE62,$D$6:$P$105,AH$1,FALSE),0) -> 0 | AI62: =IF($AD62=1,VLOOKUP($AE62,$D$6:$P$105,AI$1,FALSE),0) -> 0 | AJ62: =IF(AF62=0,"",VLOOKUP($AE62,$D$6:$P161,AJ$1,FALSE)) | AK62: =IF(AG62=0,"",VLOOKUP($AE62,$D$6:$P161,AK$1,FALSE)) | AL62: =IF(AH62=0,"",VLOOKUP($AE62,$D$6:$P161,AL$1,FALSE)) | AM62: =IF(AI62=0,"",VLOOKUP($AE62,$D$6:$P161,AM$1,FALSE)) | AO62: =IF(AE62="","",IF(COUNT(AJ62:AM62)=4,"",IF(COUNT(AQ62:AS62)>0,"","x"))) | AQ62: 0.78 | AU62: =IF(COUNT(AQ62:AR62)>0,SUM(AQ62:AR62),IF(AS62="","",ROUND((50*AS62-5)/6,2))) -> 0.78 | AV62: =IF(AU62="","",ROUND((12*AU62+10)/30,2)) -> 0.65 | AW62: =IF(AU62="","",ROUND((6*AU62+5)/50,3)) -> 0.194 | AY62: =IF(AJ62="",AU62,AJ62) -> 0.78 | AZ62: =IF(AK62="",AV62,AK62) -> 0.65 | BA62: =IF(AL62="",AW62,AL62) -> 0.194 | BE62: 597 | BF62: René Huijs | BH62: =IF(AY62="","",ROUND(BH$1*AY62,0)) -> 23 | BI62: =IF(AZ62="","",ROUND(BI$1*AZ62,0)) -> 20 | BJ62: =IF(BA62="","",ROUND(BJ$1*BA62,0)) -> 10 | BK62: =IF(AY62="","",ROUND(BK$1*AY62,0)) -> 13 | BL62: 57 | BM62: =IF(BL62>BM$4,"",100*BE62+BL62) -> 59757 | BN62: =IF(BM62="","",SMALL(BM$6:BM$105,BL62)) -> 60243 | BO62: =IF(BN62="","",INT(BN62/100)) -> 602 | BP62: =IF(BN62="","",BN62-100*BO62) -> 43 | BR62: {=IF($BP62="","",IF(INDEX(BC$6:BC$105,$BP62,1)="","",INDEX(BC$6:BC$105,$BP62,1)))} | BS62: {=IF($BP62="","",IF(INDEX(BD$6:BD$105,$BP62,1)="","",INDEX(BD$6:BD$105,$BP62,1)))} | BT62: {=IF($BP62="","",IF(INDEX(BE$6:BE$105,$BP62,1)="","",INDEX(BE$6:BE$105,$BP62,1)))} -> 602 | BU62: {=IF($BP62="","",IF(INDEX(BF$6:BF$105,$BP62,1)="","",INDEX(BF$6:BF$105,$BP62,1)))} -> Wim v.d. Loo | BV62: {=IF($BP62="","",IF(INDEX(BG$6:BG$105,$BP62,1)="","",INDEX(BG$6:BG$105,$BP62,1)))} | BW62: {=IF($BP62="","",IF(INDEX(BH$6:BH$105,$BP62,1)="","",INDEX(BH$6:BH$105,$BP62,1)))} -> 37 | BX62: {=IF($BP62="","",IF(INDEX(BI$6:BI$105,$BP62,1)="","",INDEX(BI$6:BI$105,$BP62,1)))} -> 20 | BY62: {=IF($BP62="","",IF(INDEX(BJ$6:BJ$105,$BP62,1)="","",INDEX(BJ$6:BJ$105,$BP62,1)))} -> 10 | BZ62: {=IF($BP62="","",IF(INDEX(BK$6:BK$105,$BP62,1)="","",INDEX(BK$6:BK$105,$BP62,1)))} -> 21 | CB62: =IF(BU62="","",BU62) -> Wim v.d. Loo | CC62: =IF($CB62="","",VLOOKUP($CB62,$AE$6:$AM$105,CC$1,FALSE)) -> 7 | CD62: =IF($CB62="","",VLOOKUP($CB62,$AE$6:$AM$105,CD$1,FALSE)) -> 1.22 | CE62: =IF($CB62="","",VLOOKUP($CB62,$AE$6:$AM$105,CE$1,FALSE)) -> 14 | CF62: =IF($CB62="","",VLOOKUP($CB62,$AE$6:$AM$105,CF$1,FALSE)) -> 0.67 | CG62: =IF($CB62="","",VLOOKUP($CB62,$AE$6:$AM$105,CG$1,FALSE)) -> 20 | CH62: =IF($CB62="","",VLOOKUP($CB62,$AE$6:$AM$105,CH$1,FALSE)) -> 0.19 | CI62: =IF($CB62="","",VLOOKUP($CB62,$AE$6:$AM$105,CI$1,FALSE)) -> 0 | CJ62: =IF($CB62="","",VLOOKUP($CB62,$AE$6:$AM$105,CJ$1,FALSE))
